BEGIN:VCALENDAR
VERSION:2.0
PRODID:-//Clúster TEIB - ECPv6.15.15//NONSGML v1.0//EN
CALSCALE:GREGORIAN
METHOD:PUBLISH
X-ORIGINAL-URL:https://clusterteib.es
X-WR-CALDESC:Eventos para Clúster TEIB
REFRESH-INTERVAL;VALUE=DURATION:PT1H
X-Robots-Tag:noindex
X-PUBLISHED-TTL:PT1H
BEGIN:VTIMEZONE
TZID:Europe/Madrid
BEGIN:DAYLIGHT
TZOFFSETFROM:+0100
TZOFFSETTO:+0200
TZNAME:CEST
DTSTART:20220327T010000
END:DAYLIGHT
BEGIN:STANDARD
TZOFFSETFROM:+0200
TZOFFSETTO:+0100
TZNAME:CET
DTSTART:20221030T010000
END:STANDARD
BEGIN:DAYLIGHT
TZOFFSETFROM:+0100
TZOFFSETTO:+0200
TZNAME:CEST
DTSTART:20230326T010000
END:DAYLIGHT
BEGIN:STANDARD
TZOFFSETFROM:+0200
TZOFFSETTO:+0100
TZNAME:CET
DTSTART:20231029T010000
END:STANDARD
BEGIN:DAYLIGHT
TZOFFSETFROM:+0100
TZOFFSETTO:+0200
TZNAME:CEST
DTSTART:20240331T010000
END:DAYLIGHT
BEGIN:STANDARD
TZOFFSETFROM:+0200
TZOFFSETTO:+0100
TZNAME:CET
DTSTART:20241027T010000
END:STANDARD
BEGIN:DAYLIGHT
TZOFFSETFROM:+0100
TZOFFSETTO:+0200
TZNAME:CEST
DTSTART:20250330T010000
END:DAYLIGHT
BEGIN:STANDARD
TZOFFSETFROM:+0200
TZOFFSETTO:+0100
TZNAME:CET
DTSTART:20251026T010000
END:STANDARD
BEGIN:DAYLIGHT
TZOFFSETFROM:+0100
TZOFFSETTO:+0200
TZNAME:CEST
DTSTART:20260329T010000
END:DAYLIGHT
BEGIN:STANDARD
TZOFFSETFROM:+0200
TZOFFSETTO:+0100
TZNAME:CET
DTSTART:20261025T010000
END:STANDARD
END:VTIMEZONE
BEGIN:VEVENT
DTSTART;VALUE=DATE:20251007
DTEND;VALUE=DATE:20251012
DTSTAMP:20260420T193238
CREATED:20250224T125308Z
LAST-MODIFIED:20250224T125343Z
UID:10000393-1759798800-1760144399@clusterteib.es
SUMMARY:Pollutec 2025
DESCRIPTION:
URL:https://clusterteib.es/evento/pollutec-2025/
END:VEVENT
BEGIN:VEVENT
DTSTART;TZID=Europe/Madrid:20231010T080000
DTEND;TZID=Europe/Madrid:20231013T170000
DTSTAMP:20260420T193238
CREATED:20230904T082556Z
LAST-MODIFIED:20230904T082719Z
UID:10000073-1696924800-1697216400@clusterteib.es
SUMMARY:Feria Pollutec 2023
DESCRIPTION:Del 10 al 13 de octubre de 2023\, se celebra en Lyon la feria Pollutec 2023\, un evento internacional de referencia en los ámbitos de medio ambiente\, energía y economía circular. \nDentro de esta feria\, se llevará a cabo el Brokerage Event Green Days 2023\, una oportunidad para conectar con empresas\, centros tecnológicos y otros expertos en medio ambiente\, energía y economía circular. Podrás descubrir nuevas tecnologías\, encontrar potenciales clientes y socios internacionales\, además de compartir conocimientos y estar al día de las oportunidades de financiamiento y subvenciones.
URL:https://clusterteib.es/evento/feria-pollutec-2023/
LOCATION:Eurexpo Lyon\, Bd de l'Europe\, 69680 Chassieu\, Francia\, Chassieu\, Grand Lyon\, 69680\, Francia
CATEGORIES:Formaciones y seminarios
END:VEVENT
END:VCALENDAR