BEGIN:VCALENDAR
VERSION:2.0
PRODID:-//Clúster TEIB - ECPv6.15.15//NONSGML v1.0//EN
CALSCALE:GREGORIAN
METHOD:PUBLISH
X-WR-CALNAME:Clúster TEIB
X-ORIGINAL-URL:https://clusterteib.es
X-WR-CALDESC:Eventos para Clúster TEIB
REFRESH-INTERVAL;VALUE=DURATION:PT1H
X-Robots-Tag:noindex
X-PUBLISHED-TTL:PT1H
BEGIN:VTIMEZONE
TZID:Europe/Madrid
BEGIN:DAYLIGHT
TZOFFSETFROM:+0100
TZOFFSETTO:+0200
TZNAME:CEST
DTSTART:20230326T010000
END:DAYLIGHT
BEGIN:STANDARD
TZOFFSETFROM:+0200
TZOFFSETTO:+0100
TZNAME:CET
DTSTART:20231029T010000
END:STANDARD
BEGIN:DAYLIGHT
TZOFFSETFROM:+0100
TZOFFSETTO:+0200
TZNAME:CEST
DTSTART:20240331T010000
END:DAYLIGHT
BEGIN:STANDARD
TZOFFSETFROM:+0200
TZOFFSETTO:+0100
TZNAME:CET
DTSTART:20241027T010000
END:STANDARD
BEGIN:DAYLIGHT
TZOFFSETFROM:+0100
TZOFFSETTO:+0200
TZNAME:CEST
DTSTART:20250330T010000
END:DAYLIGHT
BEGIN:STANDARD
TZOFFSETFROM:+0200
TZOFFSETTO:+0100
TZNAME:CET
DTSTART:20251026T010000
END:STANDARD
END:VTIMEZONE
BEGIN:VEVENT
DTSTART;TZID=Europe/Madrid:20241121T090000
DTEND;TZID=Europe/Madrid:20241121T133000
DTSTAMP:20260419T234521
CREATED:20241118T182444Z
LAST-MODIFIED:20241118T184125Z
UID:10000370-1732179600-1732195800@clusterteib.es
SUMMARY:Innovation Day Energia 2024
DESCRIPTION:Participa en la jornada de referència en innovació al sector energètic! \nTindrà lloc el pròxim 21 de novembre al Parc Tecnològic de Barcelona Activa. Coorganitzat pel CEEC\, l’IREC\, la XRE4S i l’ICAEN\, l’esdeveniment és ja el principal punt de trobada en innovació del sector energètic\, on es donen a conèixer les darreres solucions en energia i eficiència energètica. \nL’Innovation Day d’enguany girarà al voltant de l’edificació sostenible i l’emmagatzematge de l’energia amb l’objectiu de fer promoció i divulgació dels darrers avenços i innovacions a través de presentacions\, taules rodones i els fòrums d’innovació. \n  \nPots descarregar aquí el PROGRAMA de la jornada. \nReserva ja la teva plaça i no te la perdis! INSCRIPCIONS
URL:https://clusterteib.es/evento/innovation-day-energia-2024/
LOCATION:Parc Tecnològic de Barcelona Activa\, Carrer de Marie Curie\, 8-14\, Barcelona\, España
ATTACH;FMTTYPE=image/jpeg:https://clusterteib.es/wp-content/uploads/2024/11/Copia_de_Innovation_day__20241112100754.jpeg
END:VEVENT
END:VCALENDAR