BEGIN:VCALENDAR
VERSION:2.0
PRODID:-//Clúster TEIB - ECPv6.15.15//NONSGML v1.0//EN
CALSCALE:GREGORIAN
METHOD:PUBLISH
X-WR-CALNAME:Clúster TEIB
X-ORIGINAL-URL:https://clusterteib.es
X-WR-CALDESC:Eventos para Clúster TEIB
REFRESH-INTERVAL;VALUE=DURATION:PT1H
X-Robots-Tag:noindex
X-PUBLISHED-TTL:PT1H
BEGIN:VTIMEZONE
TZID:Europe/Madrid
BEGIN:DAYLIGHT
TZOFFSETFROM:+0100
TZOFFSETTO:+0200
TZNAME:CEST
DTSTART:20230326T010000
END:DAYLIGHT
BEGIN:STANDARD
TZOFFSETFROM:+0200
TZOFFSETTO:+0100
TZNAME:CET
DTSTART:20231029T010000
END:STANDARD
BEGIN:DAYLIGHT
TZOFFSETFROM:+0100
TZOFFSETTO:+0200
TZNAME:CEST
DTSTART:20240331T010000
END:DAYLIGHT
BEGIN:STANDARD
TZOFFSETFROM:+0200
TZOFFSETTO:+0100
TZNAME:CET
DTSTART:20241027T010000
END:STANDARD
BEGIN:DAYLIGHT
TZOFFSETFROM:+0100
TZOFFSETTO:+0200
TZNAME:CEST
DTSTART:20250330T010000
END:DAYLIGHT
BEGIN:STANDARD
TZOFFSETFROM:+0200
TZOFFSETTO:+0100
TZNAME:CET
DTSTART:20251026T010000
END:STANDARD
BEGIN:DAYLIGHT
TZOFFSETFROM:+0100
TZOFFSETTO:+0200
TZNAME:CEST
DTSTART:20260329T010000
END:DAYLIGHT
BEGIN:STANDARD
TZOFFSETFROM:+0200
TZOFFSETTO:+0100
TZNAME:CET
DTSTART:20261025T010000
END:STANDARD
BEGIN:DAYLIGHT
TZOFFSETFROM:+0100
TZOFFSETTO:+0200
TZNAME:CEST
DTSTART:20270328T010000
END:DAYLIGHT
BEGIN:STANDARD
TZOFFSETFROM:+0200
TZOFFSETTO:+0100
TZNAME:CET
DTSTART:20271031T010000
END:STANDARD
END:VTIMEZONE
BEGIN:VEVENT
DTSTART;TZID=Europe/Madrid:20260414T100000
DTEND;TZID=Europe/Madrid:20260414T120000
DTSTAMP:20260419T220535
CREATED:20260409T083924Z
LAST-MODIFIED:20260409T085143Z
UID:10000636-1776160800-1776168000@clusterteib.es
SUMMARY:Jornada sobre les possibilitats de participació a la convocatòria d’ajudes del Programa Neotec
DESCRIPTION:La convocatòria del Programa NEOTEC ofereix subvencions destinades a finançar projectes empresarials d’empreses innovadores de base tecnològica amb vocació de creixement\, l’estratègia de negoci de les quals estigui basada en el desenvolupament de tecnologies pròpies. \nAquesta jornada tindrà lloc el 14 d’abril a la Sala de Premsa de la Fundació Bit (Edifici Son Espanyol) i comptarà amb la participació de representants del CDTI. \nMés informació \nAgenda \nInscripcions
URL:https://clusterteib.es/evento/jornada-sobre-les-possibilitats-de-participacio-a-la-convocatoria-dajudes-del-programa-neotec/
LOCATION:Sala de premsa Parc Bit\, C/ Ada Byron\, Edificio NTIC\, Planta 2B\, Palma\, Illes Balears\, 07121\, España
ATTACH;FMTTYPE=image/png:https://clusterteib.es/wp-content/uploads/2026/04/Captura-de-pantalla-2026-04-09-103842.png
END:VEVENT
BEGIN:VEVENT
DTSTART;TZID=Europe/Madrid:20260213T100000
DTEND;TZID=Europe/Madrid:20260213T130000
DTSTAMP:20260419T220535
CREATED:20260203T123552Z
LAST-MODIFIED:20260203T123632Z
UID:10000629-1770976800-1770987600@clusterteib.es
SUMMARY:Sessió informativa i tècnica: Espai de dades de les Illes Balears
DESCRIPTION:Per desenvolupar el projecte Espai de Dades cal la participació d’empreses\, institucions públiques i centres de recerca. En aquesta sessió informativa i tècnica s’explicarà l’estat del projecte\, les iniciatives d’Espais de Dades\, el Pograma Ajudes Kit Espai de Dades i es resoldran els dubtes rebuts per adherir-se a l’Espai de Dades. És una bona oportunitat per entendre com participar a l’economia de la dada. \n\nData: 13 de febrer 2026\nHorari: 10.00 – 13.00 h\nSeu: Centre Empresarial Son Espanyol\, Carrer Laura Bassi\, 1\, 07121 Palma\, Illes Balears\nEspai: \n\nAuditori ParcBit: presencial\nCentre Bit Menorca: videoconferència\, amb assistència presencial del delegat territorial i de NTTData\nCentre Bit Eivissa: videoconferència\, amb assistència presencial del delegat territorial i de NTTData\n\n\n\nNota: En cas que no pugueu assistir presencialment però vulgueu seguir la sessió informativa indicau-ho al formulari d’inscripció \nPúblic objectiu/destinataris: \n\nAdministracions públiques\nPetites i mitjanes empreses de recopilació i gestió de dades\nEmpreses i associacions empresarials del sector turístic\nCentres de recerca\nEmpreses de desenvolupament i consultoria\n\nAgenda i inscripcions
URL:https://clusterteib.es/evento/sessio-informativa-i-tecnica-espai-de-dades-de-les-illes-balears/
LOCATION:Auditori del ParcBit\, Palma
ATTACH;FMTTYPE=image/jpeg:https://clusterteib.es/wp-content/uploads/2026/02/descarga.jpg
END:VEVENT
BEGIN:VEVENT
DTSTART;TZID=Europe/Madrid:20250221T093000
DTEND;TZID=Europe/Madrid:20250221T103000
DTSTAMP:20260419T220535
CREATED:20250213T141636Z
LAST-MODIFIED:20250213T145836Z
UID:10000389-1740130200-1740133800@clusterteib.es
SUMMARY:Propuestas al Plan de atracción y fidelización de empresas y talento al Parc Bit
DESCRIPTION:
URL:https://clusterteib.es/evento/propuestas-al-plan-de-atraccion-y-fidelizacion-de-empresas-y-talento-al-parc-bit/
LOCATION:Online
CATEGORIES:Reunión grupo de trabajo
END:VEVENT
BEGIN:VEVENT
DTSTART;TZID=Europe/Madrid:20241127T090000
DTEND;TZID=Europe/Madrid:20241127T140000
DTSTAMP:20260419T220535
CREATED:20241001T151939Z
LAST-MODIFIED:20241029T155436Z
UID:10000278-1732698000-1732716000@clusterteib.es
SUMMARY:Píndola d’eficiència energètica FBIT (Mallorca)
DESCRIPTION:La Fundació Bit\, en col·laboració amb la Direcció General d’Innovació i Transformació Digital\, i en el marc de l’Enterprise Europe Network\, organitza unes jornades formatives en sostenibilitat que tenen per objecte capacitar a les empreses en el seu compromís amb la sostenibilitat. Concretament\, aquesta formació ajudarà a les entitats a reduir els seus costos energètics mitjançant diverses estratègies i tecnologies. Així també\, s’abordaran estratègies de circularitat i models de negoci que permetran a les empreses formar part d’una economia circular. \nLa formació es distribueix en una píndola formativa d’eficiència energètica de 5 hores; i una píndola de circularitat\, també de 5 hores. Aquestes formacions tindran lloc a Mallorca i a Menorca. \n  \nPer a més informació: Píndoles de sostenibilitat \nApunta’t a: Formulari d’inscripció \n 
URL:https://clusterteib.es/evento/pindola-deficiencia-energetica/
LOCATION:Sala de formación ParcBIT\, Centre Empresarial Son Espanyol\, Palma
ATTACH;FMTTYPE=image/jpeg:https://clusterteib.es/wp-content/uploads/2024/10/Captura-de-pantalla_1-10-2024_172149_www.fundaciobit.org_.jpeg
END:VEVENT
BEGIN:VEVENT
DTSTART;TZID=Europe/Madrid:20241125T130000
DTEND;TZID=Europe/Madrid:20241125T140000
DTSTAMP:20260419T220535
CREATED:20241126T151545Z
LAST-MODIFIED:20241126T151545Z
UID:10000377-1732539600-1732543200@clusterteib.es
SUMMARY:Reunión online: Open Innovation 2025
DESCRIPTION:Un año más se inicia: ANCES Open Innovation\, organizado por los 33 Centros Europeos de Empresas Innovadoras (CEEIs) en España\, entre ellos la Fundació Bit\, que han ayudado a crear más de 3000 startups en la última década. El principal objetivo de este proyecto es reunir a empresas tractoras españolas para que encuentren soluciones tecnológicas a sus retos o necesidades desarrolladas por emprendedores\, startups o EIBTs. \nEl próximo lunes 25 de noviembre a las 13:00h\, os invitamos a una reunión online con el resto de empresas/organizaciones que estén interesadas en conocer más sobre la VIII edición de ANCES OPEN INNOVATION 2025\, iniciativa en la que han participado más de 70 empresas tractoras\, que han recibido 631 soluciones propuestas por startups en los últimos años. En la reunión se presentará la nueva edición y se aclararán dudas: cómo plantear un reto\, experiencias de años anteriores… \nPróximas fechas: \n\n20/12/24: Confirmación de nuevas tractoras\n23/01/25: Envío del reto y acuerdo firmado\nMayo del 2025: Evento final\n\nPara más información: ANCES Open Innovation
URL:https://clusterteib.es/evento/reunion-online-open-innovation-2025/
ATTACH;FMTTYPE=image/png:https://clusterteib.es/wp-content/uploads/2024/11/Captura-de-pantalla-2024-11-26-160003.png
END:VEVENT
BEGIN:VEVENT
DTSTART;TZID=Europe/Madrid:20241120T150000
DTEND;TZID=Europe/Madrid:20241120T200000
DTSTAMP:20260419T220535
CREATED:20241014T153319Z
LAST-MODIFIED:20241029T155603Z
UID:10000288-1732114800-1732132800@clusterteib.es
SUMMARY:Píndola de circularitat FBIT (Menorca)
DESCRIPTION:La Fundació Bit\, en col·laboració amb la Direcció General d’Innovació i Transformació Digital\, i en el marc de l’Enterprise Europe Network\, organitza unes jornades formatives en sostenibilitat que tenen per objecte capacitar a les empreses en el seu compromís amb la sostenibilitat. Concretament\, aquesta formació ajudarà a les entitats a reduir els seus costos energètics mitjançant diverses estratègies i tecnologies. Així també\, s’abordaran estratègies de circularitat i models de negoci que permetran a les empreses formar part d’una economia circular. \nLa formació es distribueix en una píndola formativa d’eficiència energètica de 5 hores; i una píndola de circularitat\, també de 5 hores. Aquestes formacions tindran lloc a Mallorca i a Menorca. \n  \nPer a més informació: Píndoles de sostenibilitat \nApunta’t a: Formulari d’inscripció
URL:https://clusterteib.es/evento/pindola-de-circularitat-fbit-menorca/
LOCATION:Centre Bit Menorca\, Alaior
ATTACH;FMTTYPE=image/png:https://clusterteib.es/wp-content/uploads/2024/10/Captura-de-pantalla-2024-10-14-172039.png
END:VEVENT
BEGIN:VEVENT
DTSTART;TZID=Europe/Madrid:20241112T090000
DTEND;TZID=Europe/Madrid:20241112T183000
DTSTAMP:20260419T220535
CREATED:20241016T153242Z
LAST-MODIFIED:20241016T153242Z
UID:10000290-1731402000-1731436200@clusterteib.es
SUMMARY:Robòtica mòbil i cooperativa aplicada a l’hosteleria i la restauració
DESCRIPTION:El futur de l’hoteleria i la restauració ha arribat i des de la Fundació Bit ens conviden a ser part d’ell! \nDes de la Fundació Bit ens conviden a descobrir com la robòtica mòbil i cooperativa aplicada a l’hosteleria i la restauració pot optimitzar les tasques més feixugues i repetitives. \n\nQuè t’espera?\n\nPonències a càrrec d’empreses expertes en la robòtica col·laborativa i aplicada al sector de l’hoteleria i la restauració\nShowroom de robots\nDemostració en viu de robots\nNetworking i trobades B2B per poder connectar amb professionals i apassionats per la innovació al sector\nTallers per aprendre a com mapejar robots pel teu negoci\n\n\nQuè es cerca?\nApropar la implantació de robots cooperatius a les empreses de les Illes Balears \n  \nPer què assistir?\n\nDescobreix com la robòtica està transformant el món dels hotels i els restaurants\, des de l’atenció al client fins a l’optimització dels processos de cuina\nConeix les darreres tendències tecnològiques que estan revolucionant l’eficiència i l’experiència del client\nConeix als líders del sector de la robòtica\nForma part del futur que s’apropa de cada vegada més ràpid!\n\n\nNo et quedis enrere!\n\nInscripcions a través del següent enllaç: Inscripció jornada\nLes places són limitades\, pel que la confirmació es regirà per estricte ordre d’entrada\nSi arriba a l’aforament màxim\, les inscripcions es tancaran i es generarà una llista d’espera\nPer a més informació: Robòtica mòbil i cooperativa
URL:https://clusterteib.es/evento/robotica-mobil-i-cooperativa-aplicada-a-lhosteleria-i-la-restauracio/
LOCATION:Centre Empresarial Son Espanyol del ParcBi\, Calle Laura Bassi\, 1\, Palma\, Islas Baleares\, 07121\, España
ATTACH;FMTTYPE=image/png:https://clusterteib.es/wp-content/uploads/2024/10/Captura-de-pantalla-2024-10-16-171424-e1729091883460.png
END:VEVENT
BEGIN:VEVENT
DTSTART;TZID=Europe/Madrid:20241106T090000
DTEND;TZID=Europe/Madrid:20241106T140000
DTSTAMP:20260419T220535
CREATED:20241014T153156Z
LAST-MODIFIED:20241029T155506Z
UID:10000287-1730883600-1730901600@clusterteib.es
SUMMARY:Píndola de circularitat FBIT (Mallorca)
DESCRIPTION:La Fundació Bit\, en col·laboració amb la Direcció General d’Innovació i Transformació Digital\, i en el marc de l’Enterprise Europe Network\, organitza unes jornades formatives en sostenibilitat que tenen per objecte capacitar a les empreses en el seu compromís amb la sostenibilitat. Concretament\, aquesta formació ajudarà a les entitats a reduir els seus costos energètics mitjançant diverses estratègies i tecnologies. Així també\, s’abordaran estratègies de circularitat i models de negoci que permetran a les empreses formar part d’una economia circular. \nLa formació es distribueix en una píndola formativa d’eficiència energètica de 5 hores; i una píndola de circularitat\, també de 5 hores. Aquestes formacions tindran lloc a Mallorca i a Menorca. \n  \nPer a més informació: Píndoles de sostenibilitat \nApunta’t a: Formulari d’inscripció
URL:https://clusterteib.es/evento/pindola-de-circularitat-fbit-mallorca/
LOCATION:Sala de formación ParcBIT\, Centre Empresarial Son Espanyol\, Palma
ATTACH;FMTTYPE=image/png:https://clusterteib.es/wp-content/uploads/2024/10/Captura-de-pantalla-2024-10-14-172039.png
END:VEVENT
BEGIN:VEVENT
DTSTART;TZID=Europe/Madrid:20241030T090000
DTEND;TZID=Europe/Madrid:20241030T140000
DTSTAMP:20260419T220535
CREATED:20241001T152204Z
LAST-MODIFIED:20241029T155353Z
UID:10000279-1730278800-1730296800@clusterteib.es
SUMMARY:Píndola d’eficiència energètica FBIT (Menorca)
DESCRIPTION:La Fundació Bit\, en col·laboració amb la Direcció General d’Innovació i Transformació Digital\, i en el marc de l’Enterprise Europe Network\, organitza unes jornades formatives en sostenibilitat que tenen per objecte capacitar a les empreses en el seu compromís amb la sostenibilitat. Concretament\, aquesta formació ajudarà a les entitats a reduir els seus costos energètics mitjançant diverses estratègies i tecnologies. Així també\, s’abordaran estratègies de circularitat i models de negoci que permetran a les empreses formar part d’una economia circular. \nLa formació es distribueix en una píndola formativa d’eficiència energètica de 5 hores; i una píndola de circularitat\, també de 5 hores. Aquestes formacions tindran lloc a Mallorca i a Menorca. \n  \nPer a més informació: Píndoles de sostenibilitat \nApunta’t a: Formulari d’inscripció \n 
URL:https://clusterteib.es/evento/pindola-deficiencia-energetica-2/
LOCATION:Centre Bit Menorca\, Alaior
ATTACH;FMTTYPE=image/jpeg:https://clusterteib.es/wp-content/uploads/2024/10/Captura-de-pantalla_1-10-2024_172149_www.fundaciobit.org_.jpeg
END:VEVENT
BEGIN:VEVENT
DTSTART;TZID=Europe/Madrid:20240424T100000
DTEND;TZID=Europe/Madrid:20240424T110000
DTSTAMP:20260419T220535
CREATED:20240415T123053Z
LAST-MODIFIED:20240415T124909Z
UID:10000214-1713952800-1713956400@clusterteib.es
SUMMARY:Posibilidades de financiación para empresas de las Illes Balears: Neotec 2024 Espai
DESCRIPTION:La fundación Bit\, miembro del Red PIDI coordinada   por el CDTI\,  organiza el próximo 24 de abril en el «Espai  Emprenbit» de Palma  la  jornada donde participa el CDTI para informar sobre la convocatoria abierta de Neotec 2024\, dirigida a la creación y consolidación de empresas que desarrollan tecnología propia. \nLa Red\,  PIDI está formada por entidades de promoción de la innovación repartidas por el territorio nacional: centros tecnológicos\, plataformas tecnológicas\, asociaciones\, cámaras de comercio\, fundaciones de universidades\, administraciones locales y regionales\, colegios profesionales\, agrupaciones empresariales. Su misión es: informar y asesorar sobre ayudas públicas a la I+D+I. \nPrograma \nEspai Emprenbit (Edificio Disset\, 3a planta) 24 de abril de 2024 \n\n10:00 h Apertura a cargo de Immaculada Salamanca\, Coordinadora Área Proyectos y Comunicación Fundació Bit\n10:15 h «Programa Neotec 2024: información y aspectos clave»\, a cargo de Mª José Tomás Sánchez\, Departamento de Promoción Institucional i Cooperación Territorial CDTI\n11:00 h Debate\, comentarios\, preguntas y posibles reuniones con el CDTI para resolver cuestiones generales
URL:https://clusterteib.es/evento/posibilidades-de-financiacion-para-empresas-de-las-illes-balears-neotec-2024-espai/
LOCATION:Espai Emprenbit
CATEGORIES:Eventos presenciales
END:VEVENT
END:VCALENDAR