BEGIN:VCALENDAR
VERSION:2.0
PRODID:-//Clúster TEIB - ECPv6.15.15//NONSGML v1.0//EN
CALSCALE:GREGORIAN
METHOD:PUBLISH
X-ORIGINAL-URL:https://clusterteib.es
X-WR-CALDESC:Eventos para Clúster TEIB
REFRESH-INTERVAL;VALUE=DURATION:PT1H
X-Robots-Tag:noindex
X-PUBLISHED-TTL:PT1H
BEGIN:VTIMEZONE
TZID:Europe/Madrid
BEGIN:DAYLIGHT
TZOFFSETFROM:+0100
TZOFFSETTO:+0200
TZNAME:CEST
DTSTART:20220327T010000
END:DAYLIGHT
BEGIN:STANDARD
TZOFFSETFROM:+0200
TZOFFSETTO:+0100
TZNAME:CET
DTSTART:20221030T010000
END:STANDARD
BEGIN:DAYLIGHT
TZOFFSETFROM:+0100
TZOFFSETTO:+0200
TZNAME:CEST
DTSTART:20230326T010000
END:DAYLIGHT
BEGIN:STANDARD
TZOFFSETFROM:+0200
TZOFFSETTO:+0100
TZNAME:CET
DTSTART:20231029T010000
END:STANDARD
BEGIN:DAYLIGHT
TZOFFSETFROM:+0100
TZOFFSETTO:+0200
TZNAME:CEST
DTSTART:20240331T010000
END:DAYLIGHT
BEGIN:STANDARD
TZOFFSETFROM:+0200
TZOFFSETTO:+0100
TZNAME:CET
DTSTART:20241027T010000
END:STANDARD
BEGIN:DAYLIGHT
TZOFFSETFROM:+0100
TZOFFSETTO:+0200
TZNAME:CEST
DTSTART:20250330T010000
END:DAYLIGHT
BEGIN:STANDARD
TZOFFSETFROM:+0200
TZOFFSETTO:+0100
TZNAME:CET
DTSTART:20251026T010000
END:STANDARD
BEGIN:DAYLIGHT
TZOFFSETFROM:+0100
TZOFFSETTO:+0200
TZNAME:CEST
DTSTART:20260329T010000
END:DAYLIGHT
BEGIN:STANDARD
TZOFFSETFROM:+0200
TZOFFSETTO:+0100
TZNAME:CET
DTSTART:20261025T010000
END:STANDARD
END:VTIMEZONE
BEGIN:VEVENT
DTSTART;TZID=Europe/Madrid:20251112T103000
DTEND;TZID=Europe/Madrid:20251112T130000
DTSTAMP:20260425T213455
CREATED:20250825T132724Z
LAST-MODIFIED:20251111T100256Z
UID:10000454-1762943400-1762952400@clusterteib.es
SUMMARY:Jornada TEIB: encuentro con investigadores universitarios UIB\, Ciclo de encuentros UIB-Clústeres
DESCRIPTION:El próximo miércoles 12 de noviembre se llevará a cabo un encuentro entre investigadores de la UIB y empresas del Clúster de Transición Ecológica de las Islas Baleares (TEIB)\, dentro del ciclo de Encuentros UIB-Clúster. Este clúster está formado por empresas importantes del sector energético en Baleares\, por lo que puede ser de interés para todos los investigadores que estén desarrollando proyectos relacionados con esta temática. \nEl objetivo del encuentro es explorar las diferentes formas en que las empresas pueden colaborar con los grupos de investigación de la UIB\, a través de la OTRI. \nPrograma de la jornada: \n\n10:30-10:40 h – Bienvenida institucional.\n10:40-11:20 h – Exploramos posibles colaboraciones con la universidad.\nGabriela Dinkova\, Responsable del servicio de colaboraciones con empresas.\nPresentación de las vías de colaboración con los grupos de investigación de la UIB.\n11:20-12:00 h – Espacio Open Innovation: retos empresariales del clúster.\nRepresentantes de empresas asociadas al TEIB compartirán brevemente sus principales retos y necesidades de innovación. \n\nObjetivo: identificar oportunidades de colaboración con grupos de investigación de la UIB.\nEmpresas confirmadas: Onablava\, Sampol\, Poraxa\, Endesa\, Clubio y Tramiteco.\nTemáticas que se tratarán:\n\nEficiencia y rehabilitación energética\nAutomatización y digitalización de procesos industriales. Industria 4.0 (robotización colaborativa)\nImpresión 3D aplicada a procesos industriales\nMeteorología\nInteligencia artificial y gestión de datos\nAgua\nProtección de la posidonia en el entorno marino\nProyectos de compensación de CO₂\nAlmacenamiento de energía\n\n\n\n\n\n12:00-12:30 h – Intervención de los grupos de investigación de la UIB: presentaciones de proyectos (máximo 5 minutos cada uno).\n12:30-12:40 h – Turno de preguntas y dudas.\n12:40h – Aperitivo networking.\nEspacio informal para el intercambio directo entre investigadores y empresas. \nLugar del encuentro: Oficinas de la empresa ESTEL. Calle Parc Bit-2\, 27. \nEl plazo de inscripción finaliza el 6 de noviembre.
URL:https://clusterteib.es/evento/evento-fueib-otri/
LOCATION:Estel\, Carrer Parc Bit-2\, 27\, Palma\, Illes Balears\, 07120\, España
CATEGORIES:Eventos presenciales
ATTACH;FMTTYPE=image/png:https://clusterteib.es/wp-content/uploads/2025/08/Encuentro-UIB-Cluster-TEIB-425-x-283-px.png
ORGANIZER;CN="Cl%C3%BAster de Transici%C3%B3n Ecol%C3%B3gica de las Illes Balears":MAILTO:info@clusterteib.com
END:VEVENT
BEGIN:VEVENT
DTSTART;TZID=Europe/Madrid:20230914T120000
DTEND;TZID=Europe/Madrid:20230914T140000
DTSTAMP:20260425T213455
CREATED:20230830T132608Z
LAST-MODIFIED:20230830T133609Z
UID:10000072-1694692800-1694700000@clusterteib.es
SUMMARY:UIB: De la sostenibilitat a la regeneració: com impulsar projectes sostenibles i transformadors
DESCRIPTION:Ponent: Anna Pons. Biòloga Ambiental especialista en canvi climàtic i gestió de projectes sostenibles\nEn línia\, 14 setembre 2023 de  12h – 14h\nOrganitzat per: Universitat de les Illes Balears\n\nLa noció de sostenibilitat està sent renovada amb enfocaments innovadors basats en l’economia circular i en la regeneració. Aquests enfocaments transcendeixen els límits del model lineal tradicional\, on els recursos s’extreuen\, utilitzen i rebutgen\, i en el seu lloc\, persegueixen tancar els cicles de vida dels productes\, regenerar ecosistemes i fomentar la cooperació entre diferents sectors i comunitats. \nEn aquesta sessió s’examinaran els principis i conceptes subjacents a les solucions regeneratives i circulars alhora que es mostraran exemples i casos pràctics per a la seva implementació. L’objectiu últim és prendre consciència del potencial d’un projecte per a integrar activament aquestes pràctiques i disposar d’eines pràctiques per a aconseguir transformacions positives i duradores en les dimensions mediambiental\, social i econòmica. \n 
URL:https://clusterteib.es/evento/uib-de-la-sostenibilitat-a-la-regeneracio-com-impulsar-projectes-sostenibles-i-transformadors/
CATEGORIES:Webinars
END:VEVENT
BEGIN:VEVENT
DTSTART;TZID=Europe/Madrid:20230126T113000
DTEND;TZID=Europe/Madrid:20230126T140000
DTSTAMP:20260425T213455
CREATED:20230109T124834Z
LAST-MODIFIED:20230109T124834Z
UID:10000027-1674732600-1674741600@clusterteib.es
SUMMARY:Programa Innova UIB-Pimes 2023
DESCRIPTION:S’hi presentaran les novetats principals de la convocatòria de l’Espai Accelera Pimes prevista per a l’any que ve i s’hi donaran a conèixer els resultats dels projectes d’innovació empresarial que el 2022 han rebut el suport d’investigadors de la UIB a través de l’Espai Accelera. Així mateix\,  tindrà lloc la conferència del senyor Nico Goulet fundador i soci director de l’entitat Adara Venture Partners. \nPer consultar l’agenda de l’acte i confirmar l’assistència\, entrau a: \nhttps://fueib.org/ca/innova/649/espai-accelera
URL:https://clusterteib.es/evento/programa-innova-uib-pimes-2023/
LOCATION:Gaspar Melchor de Jovellanos\, UIB\, Carrer Eivissa\, s/n\, Palma\, Illes Balears\, 07120\, España
CATEGORIES:Eventos presenciales,Networking
END:VEVENT
END:VCALENDAR