BEGIN:VCALENDAR
VERSION:2.0
PRODID:-//Clúster TEIB - ECPv6.15.15//NONSGML v1.0//EN
CALSCALE:GREGORIAN
METHOD:PUBLISH
X-ORIGINAL-URL:https://clusterteib.es
X-WR-CALDESC:Eventos para Clúster TEIB
REFRESH-INTERVAL;VALUE=DURATION:PT1H
X-Robots-Tag:noindex
X-PUBLISHED-TTL:PT1H
BEGIN:VTIMEZONE
TZID:Europe/Madrid
BEGIN:DAYLIGHT
TZOFFSETFROM:+0100
TZOFFSETTO:+0200
TZNAME:CEST
DTSTART:20230326T010000
END:DAYLIGHT
BEGIN:STANDARD
TZOFFSETFROM:+0200
TZOFFSETTO:+0100
TZNAME:CET
DTSTART:20231029T010000
END:STANDARD
BEGIN:DAYLIGHT
TZOFFSETFROM:+0100
TZOFFSETTO:+0200
TZNAME:CEST
DTSTART:20240331T010000
END:DAYLIGHT
BEGIN:STANDARD
TZOFFSETFROM:+0200
TZOFFSETTO:+0100
TZNAME:CET
DTSTART:20241027T010000
END:STANDARD
BEGIN:DAYLIGHT
TZOFFSETFROM:+0100
TZOFFSETTO:+0200
TZNAME:CEST
DTSTART:20250330T010000
END:DAYLIGHT
BEGIN:STANDARD
TZOFFSETFROM:+0200
TZOFFSETTO:+0100
TZNAME:CET
DTSTART:20251026T010000
END:STANDARD
BEGIN:DAYLIGHT
TZOFFSETFROM:+0100
TZOFFSETTO:+0200
TZNAME:CEST
DTSTART:20260329T010000
END:DAYLIGHT
BEGIN:STANDARD
TZOFFSETFROM:+0200
TZOFFSETTO:+0100
TZNAME:CET
DTSTART:20261025T010000
END:STANDARD
END:VTIMEZONE
BEGIN:VEVENT
DTSTART;TZID=Europe/Madrid:20250514T090000
DTEND;TZID=Europe/Madrid:20250515T130000
DTSTAMP:20260419T234544
CREATED:20241106T160607Z
LAST-MODIFIED:20250411T112438Z
UID:10000336-1747213200-1747314000@clusterteib.es
SUMMARY:Cluster Meet Regions in Palma\, Mallorca
DESCRIPTION:The Clusters Meet Regions event In Palma\, Spain will take place on 14-15 May 2025\, organised by the European Cluster Collaboration Platform (ECCP) on behalf of the European Commission\, in collaboration with the General Directorate of Innovation and Digital Transformation of the Government of the Balearic Islands and Fundació Bit. \nThemed “Clusters as Drivers of Regional Transition from Linear to Circular Economy\,” the event will explore how clusters can accelerate the shift towards sustainable economic models\, positioning Palma and the Balearic Islands as key actors in circular economy innovation. While globally known for its thriving tourism sector\, the Balearic Islands are now taking bold steps towards economic diversification\, focusing on innovation\, sustainability\, and digital transformation as strategic priorities. \nWhy participate?\n\nConnect with international clusters\, regions\, and SMEs.\nEngage in insightful discussions and workshops to explore collaborative opportunities in various industries\, from green tech to digital transformation.\nParticipate in exclusive matchmaking sessions.\nLearn from experts and thought leaders about the latest trends\, challenges\, and opportunities within the European cluster landscape.\n\n  \nMore information \nRegister now
URL:https://clusterteib.es/evento/cluster-meet-regions/
LOCATION:Auditori del ParcBit\, Palma
CATEGORIES:Eventos presenciales
ATTACH;FMTTYPE=image/jpeg:https://clusterteib.es/wp-content/uploads/2024/11/1744015259868.jpeg
END:VEVENT
BEGIN:VEVENT
DTSTART;TZID=Europe/Madrid:20250410T080000
DTEND;TZID=Europe/Madrid:20250410T170000
DTSTAMP:20260419T234544
CREATED:20250331T110409Z
LAST-MODIFIED:20250331T110409Z
UID:10000416-1744272000-1744304400@clusterteib.es
SUMMARY:Abierto periodo presentación solicitudes a convocatoria Innovación
DESCRIPTION:Se abre el periodo de presentación de solicitudes de: \nINNOVACIÓN – Convocatoria de ayudas dirigidas a mejorar la capacidad de innovación de las pymes\, la creación de agrupaciones empresariales innovadoras (AEI)\, la digitalización para las pymes\, la aceleración y la innovación abierta\, la organización de acontecimientos relacionados con la innovación y las inversiones en innovación para el territorio de las Islas Baleares para los años 2025\, 2026 y 2027 cofinanciados con fondos FEDER 2021-2027
URL:https://clusterteib.es/evento/abierto-periodo-presentacion-solicitudes-a-convocatoria-innovacion/
END:VEVENT
BEGIN:VEVENT
DTSTART;TZID=Europe/Madrid:20250217T133000
DTEND;TZID=Europe/Madrid:20250217T143000
DTSTAMP:20260419T234544
CREATED:20250213T135942Z
LAST-MODIFIED:20250213T135942Z
UID:10000388-1739799000-1739802600@clusterteib.es
SUMMARY:Presentación borrador Plan estratégico de transformación Digital de les Illes Balears
DESCRIPTION:Reunión de presentación del borrador del plan ante los clústers de les Illes Balears.
URL:https://clusterteib.es/evento/presentacion-borrador-plan-estrategico-de-transformacion-digital-de-les-illes-balears/
LOCATION:Sala de premsa Parc Bit\, C/ Ada Byron\, Edificio NTIC\, Planta 2B\, Palma\, Illes Balears\, 07121\, España
CATEGORIES:Eventos presenciales
END:VEVENT
BEGIN:VEVENT
DTSTART;TZID=Europe/Madrid:20241202T090000
DTEND;TZID=Europe/Madrid:20241202T123000
DTSTAMP:20260419T234544
CREATED:20241119T114402Z
LAST-MODIFIED:20241119T114725Z
UID:10000372-1733130000-1733142600@clusterteib.es
SUMMARY:Jornada reglamentació IA
DESCRIPTION:Intel·ligència artificial: el marc legal a Europa \nLa Direcció General de Relacions Institucionals i de Relacions amb el Parlament en col·laboració amb la Direcció General d’Innovació i Transformació Digital organitza el pròxim dia 2 de desembre a Palma una jornada temàtica i pràctica sobre el nou Reglament (UE) 2024/1689 pel qual s’estableixen les normes harmonitzades en matèria d’Intel·ligència Artificial. \nL’objectiu del Reglament és millorar el funcionament del mercat interior mitjançant l’establiment d’un marc jurídic uniforme\, en particular pel desenvolupament\, la introducció en el mercat\, la posada en servei i la utilització de sistemes d’intel·ligència artificial a la Unió Europea. \nLa jornada es desenvoluparà al voltant d’un debat sobre les novetats normatives del Reglament. En aquest context\, es tractaran aspectes rellevants com: protecció de dades\, propietat intel·lectual\, confidencialitat\, ciberseguretat\, aspectes del dret laboral\, contractació tecnològica\, entre d’altres. Així també\, diferents representants de l’Administració presentaran una bateria de serveis en assumptes europeus. \nPoden consultar el programa complet de l’esdeveniment AQUÍ\nInscripcions AQUÍ
URL:https://clusterteib.es/evento/jornada-reglamentacio-ia/
LOCATION:Arxiu del Regne de Mallorca\, Carrer de Ramon Llull\, 3\, Palma\, España
ATTACH;FMTTYPE=image/png:https://clusterteib.es/wp-content/uploads/2024/11/Captura-de-pantalla-2024-11-19-123729.png
END:VEVENT
END:VCALENDAR