BEGIN:VCALENDAR
VERSION:2.0
PRODID:-//Clúster TEIB - ECPv6.15.15//NONSGML v1.0//EN
CALSCALE:GREGORIAN
METHOD:PUBLISH
X-ORIGINAL-URL:https://clusterteib.es
X-WR-CALDESC:Eventos para Clúster TEIB
REFRESH-INTERVAL;VALUE=DURATION:PT1H
X-Robots-Tag:noindex
X-PUBLISHED-TTL:PT1H
BEGIN:VTIMEZONE
TZID:Europe/Madrid
BEGIN:DAYLIGHT
TZOFFSETFROM:+0100
TZOFFSETTO:+0200
TZNAME:CEST
DTSTART:20230326T010000
END:DAYLIGHT
BEGIN:STANDARD
TZOFFSETFROM:+0200
TZOFFSETTO:+0100
TZNAME:CET
DTSTART:20231029T010000
END:STANDARD
BEGIN:DAYLIGHT
TZOFFSETFROM:+0100
TZOFFSETTO:+0200
TZNAME:CEST
DTSTART:20240331T010000
END:DAYLIGHT
BEGIN:STANDARD
TZOFFSETFROM:+0200
TZOFFSETTO:+0100
TZNAME:CET
DTSTART:20241027T010000
END:STANDARD
BEGIN:DAYLIGHT
TZOFFSETFROM:+0100
TZOFFSETTO:+0200
TZNAME:CEST
DTSTART:20250330T010000
END:DAYLIGHT
BEGIN:STANDARD
TZOFFSETFROM:+0200
TZOFFSETTO:+0100
TZNAME:CET
DTSTART:20251026T010000
END:STANDARD
BEGIN:DAYLIGHT
TZOFFSETFROM:+0100
TZOFFSETTO:+0200
TZNAME:CEST
DTSTART:20260329T010000
END:DAYLIGHT
BEGIN:STANDARD
TZOFFSETFROM:+0200
TZOFFSETTO:+0100
TZNAME:CET
DTSTART:20261025T010000
END:STANDARD
END:VTIMEZONE
BEGIN:VEVENT
DTSTART;TZID=Europe/Madrid:20251008T090000
DTEND;TZID=Europe/Madrid:20251008T150000
DTSTAMP:20260421T023738
CREATED:20250918T074122Z
LAST-MODIFIED:20250918T074141Z
UID:10000458-1759914000-1759935600@clusterteib.es
SUMMARY:Emprèn Day Mallorca
DESCRIPTION:El Emprèn Day es una experiencia inmersiva que impulsa el espíritu emprendedor entre los jóvenes de las Islas Baleares. Con talleres prácticos\, ponencias inspiradoras\, networking y una zona de exposición\, esta jornada te ofrece las herramientas para hacer realidad tus ideas. \n\nObjetivos\n\nActivar vocaciones emprendedoras e impulsar proyectos jóvenes.\nMejorar la empleabilidad y fomentar el autoempleo.\nConectar a la juventud con recursos\, mentores y empresas.\nFortalecer el ecosistema de innovación y talento local.\n\n¿A quién va dirigido?\nAlumnado de bachillerato\, FP\, universitarios\, titulados y cualquier persona con ganas de emprender o explorar nuevos caminos profesionales. \n\n\nActividades destacadas\nEn el Emprèn Day podrás participar en ponencias inspiradoras\, talleres prácticos y sesiones de networking para conectar con otros jóvenes y profesionales. Además\, también podrás visitar libremente otros espacios como la zona interactiva de expositores y los servicios de acompañamiento al emprendimiento. \n\nMás información
URL:https://clusterteib.es/evento/emprenday-mallorca/
LOCATION:Edificio Arxiduc Lluís Salvador\, Campus UIB
END:VEVENT
BEGIN:VEVENT
DTSTART;TZID=Europe/Madrid:20250512T113000
DTEND;TZID=Europe/Madrid:20250512T123000
DTSTAMP:20260421T023738
CREATED:20250507T153433Z
LAST-MODIFIED:20250507T153709Z
UID:10000425-1747049400-1747053000@clusterteib.es
SUMMARY:Presentación del proyecto"Plataforma inteligente\, integral e interoperable del destino turístico de mallorca: MallorcaPID"
DESCRIPTION:El departamento de Turismo del Consell de Mallorca presentará el proyecto Plataforma Inteligente\, Integral e Interoperable del Destino Turístico de Mallorca: MallorcaPID\, convocatoria del Ministerio de Industria y Turismo para el despliegue de plataformas tecnológicas y soluciones digitales en los destinos de la Red de Destinos Turísticos Inteligentes en el marco del Plan de Recuperación\, Transformación y Resiliencia.\n\nEsta plataforma inteligente e interoperable permitirá una mejor planificación y gestión del turismo a través de la integración y análisis de datos provenientes de diferentes fuentes con el objetivo de facilitar y fomentar una mejor gestión turística de la isla.\n\nSe ruega confirmación al correo administracion@clusterteib.com
URL:https://clusterteib.es/evento/presentacion-del-proyectoplataforma-inteligente-integral-e-interoperable-del-destino-turistico-de-mallorca-mallorcapid/
LOCATION:Sala d’actes del Edifici La Misericòrdia
END:VEVENT
BEGIN:VEVENT
DTSTART;TZID=Europe/Madrid:20240516T110000
DTEND;TZID=Europe/Madrid:20240516T130000
DTSTAMP:20260421T023738
CREATED:20240510T123620Z
LAST-MODIFIED:20240510T130548Z
UID:10000219-1715857200-1715864400@clusterteib.es
SUMMARY:PROYECTO UNLOCK-H2: Reunion stakeholders de Hidrogeno en baleares
DESCRIPTION:
URL:https://clusterteib.es/evento/proyecto-unlock-h2-reunion-stakeholders-de-hidrogeno-en-baleares/
LOCATION:Palau Reial\, Palau Reial\, 1\, Palma\, ILLES BALEARS\, España
CATEGORIES:Reunión grupo de trabajo
END:VEVENT
END:VCALENDAR