BEGIN:VCALENDAR
VERSION:2.0
PRODID:-//Clúster TEIB - ECPv6.15.15//NONSGML v1.0//EN
CALSCALE:GREGORIAN
METHOD:PUBLISH
X-ORIGINAL-URL:https://clusterteib.es
X-WR-CALDESC:Eventos para Clúster TEIB
REFRESH-INTERVAL;VALUE=DURATION:PT1H
X-Robots-Tag:noindex
X-PUBLISHED-TTL:PT1H
BEGIN:VTIMEZONE
TZID:Europe/Madrid
BEGIN:DAYLIGHT
TZOFFSETFROM:+0100
TZOFFSETTO:+0200
TZNAME:CEST
DTSTART:20220327T010000
END:DAYLIGHT
BEGIN:STANDARD
TZOFFSETFROM:+0200
TZOFFSETTO:+0100
TZNAME:CET
DTSTART:20221030T010000
END:STANDARD
BEGIN:DAYLIGHT
TZOFFSETFROM:+0100
TZOFFSETTO:+0200
TZNAME:CEST
DTSTART:20230326T010000
END:DAYLIGHT
BEGIN:STANDARD
TZOFFSETFROM:+0200
TZOFFSETTO:+0100
TZNAME:CET
DTSTART:20231029T010000
END:STANDARD
BEGIN:DAYLIGHT
TZOFFSETFROM:+0100
TZOFFSETTO:+0200
TZNAME:CEST
DTSTART:20240331T010000
END:DAYLIGHT
BEGIN:STANDARD
TZOFFSETFROM:+0200
TZOFFSETTO:+0100
TZNAME:CET
DTSTART:20241027T010000
END:STANDARD
BEGIN:DAYLIGHT
TZOFFSETFROM:+0100
TZOFFSETTO:+0200
TZNAME:CEST
DTSTART:20250330T010000
END:DAYLIGHT
BEGIN:STANDARD
TZOFFSETFROM:+0200
TZOFFSETTO:+0100
TZNAME:CET
DTSTART:20251026T010000
END:STANDARD
END:VTIMEZONE
BEGIN:VEVENT
DTSTART;TZID=Europe/Madrid:20241121T090000
DTEND;TZID=Europe/Madrid:20241121T133000
DTSTAMP:20260421T024422
CREATED:20241118T182444Z
LAST-MODIFIED:20241118T184125Z
UID:10000370-1732179600-1732195800@clusterteib.es
SUMMARY:Innovation Day Energia 2024
DESCRIPTION:Participa en la jornada de referència en innovació al sector energètic! \nTindrà lloc el pròxim 21 de novembre al Parc Tecnològic de Barcelona Activa. Coorganitzat pel CEEC\, l’IREC\, la XRE4S i l’ICAEN\, l’esdeveniment és ja el principal punt de trobada en innovació del sector energètic\, on es donen a conèixer les darreres solucions en energia i eficiència energètica. \nL’Innovation Day d’enguany girarà al voltant de l’edificació sostenible i l’emmagatzematge de l’energia amb l’objectiu de fer promoció i divulgació dels darrers avenços i innovacions a través de presentacions\, taules rodones i els fòrums d’innovació. \n  \nPots descarregar aquí el PROGRAMA de la jornada. \nReserva ja la teva plaça i no te la perdis! INSCRIPCIONS
URL:https://clusterteib.es/evento/innovation-day-energia-2024/
LOCATION:Parc Tecnològic de Barcelona Activa\, Carrer de Marie Curie\, 8-14\, Barcelona\, España
ATTACH;FMTTYPE=image/jpeg:https://clusterteib.es/wp-content/uploads/2024/11/Copia_de_Innovation_day__20241112100754.jpeg
END:VEVENT
BEGIN:VEVENT
DTSTART;TZID=Europe/Madrid:20240627T190000
DTEND;TZID=Europe/Madrid:20240627T210000
DTSTAMP:20260421T024422
CREATED:20240617T153850Z
LAST-MODIFIED:20240617T153916Z
UID:10000230-1719514800-1719522000@clusterteib.es
SUMMARY:🌙 𝗡𝗶𝘁 𝗱𝗲 𝗹'𝗘𝗳𝗶𝗰𝗶è𝗻𝗰𝗶𝗮 𝟮𝟬𝟮𝟰 del CEEC
DESCRIPTION:
URL:https://clusterteib.es/evento/%f0%9f%8c%99-%f0%9d%97%a1%f0%9d%97%b6%f0%9d%98%81-%f0%9d%97%b1%f0%9d%97%b2-%f0%9d%97%b9%f0%9d%97%98%f0%9d%97%b3%f0%9d%97%b6%f0%9d%97%b0%f0%9d%97%b6e%f0%9d%97%bb%f0%9d%97%b0%f0%9d%97%b6%f0%9d%97%ae/
LOCATION:Teatre Nacional de Catalunya\, Plaça de les Arts\, 1\, Barcelona
CATEGORIES:Networking
END:VEVENT
BEGIN:VEVENT
DTSTART;TZID=Europe/Madrid:20231108T100000
DTEND;TZID=Europe/Madrid:20231108T123000
DTSTAMP:20260421T024422
CREATED:20231027T092852Z
LAST-MODIFIED:20231027T103053Z
UID:10000081-1699437600-1699446600@clusterteib.es
SUMMARY:Els CAE com a palanca pel finançament dels projectes d’eficiència energètica
DESCRIPTION:El proper 8 de novembre el Clúster de l’Energia Eficient de Catalunya (CEEC) organitza una jornada sota el títol «Els CAE com a palanca pel finançament dels projectes d’eficiència energètica» que té per objectius: \n1. Donar a conèixer el GT de finançament del CEEC\, així com conèixer de primera mà a entitats finançadores durant el networking.\n2. Informar i aclarir\, principalment als generadors de CAEs (ESEs\, clients finals\, altres)\, de forma molt pràctica com es poden monetitzar els CAEs\, com poden ajudar a finançar altres projectes\, en quin moment es monetitzen\, quines contrapartides\nexisteixen\, quines garanties i obligacions\, altres. \n  \nEn aquesta jornada\, hi participarà Tramiteco\, soci del Clúster TEIB\, amb la «Presentació de la implantació dels instruments CAES a les Illes Balears«.
URL:https://clusterteib.es/evento/els-cae-com-a-palanca-pel-financament-dels-projectes-deficiencia-energetica/
LOCATION:Districte Administratiu de la Generalitat de Catalunya\, Carrer del Foc\, 57\, Barcelona\, 08038
CATEGORIES:Eventos presenciales
END:VEVENT
BEGIN:VEVENT
DTSTART;TZID=Europe/Madrid:20230608T190000
DTEND;TZID=Europe/Madrid:20230608T230000
DTSTAMP:20260421T024422
CREATED:20230522T104022Z
LAST-MODIFIED:20230522T104053Z
UID:10000057-1686250800-1686265200@clusterteib.es
SUMMARY:Clúster CEEC: Nit de l'eficiència
DESCRIPTION:El pròxim 8 de Juny el Clúster de l’Energia Eficient de Catalunya celebra la Nit de l’Eficiència\, la trobada anual de referència en l’àmbit de l’energia a Catalunya que reuneix les empreses\, grups de recerca i institucions més rellevants del país. \nEn la seva 10a edició\, l’acte tindrà lloc al Teatre Nacional de Catalunya\, i té prevista la presència d’uns 500 empresaris i professionals del sector\, a més dels principals càrrecs institucionals del país. Un fet que farà batre tots els rècords en la història del clúster tant en termes d’assistència com en impacte mediàtic. Aquesta edició és particularment especial per al clúster\, ja que enguany el CEEC celebra els seus 15 anys d’història. La jornada\, per tant\, també servirà per commemorar l’aniversari. \nPer últim\, i tractant-se d’un dels espais de trobada més multitudinaris del sector\, la Nit també és una oportunitat única per fer networking i entrar en contacte amb els representants de les organitzacions més rellevants i influents del sector\, fent possible el desenvolupament de negoci i la generació de sinergies. \n  \n 
URL:https://clusterteib.es/evento/cluster-ceec-nit-de-leficiencia/
LOCATION:Teatre Nacional de Catalunya\, Plaça de les Arts\, 1\, Barcelona
CATEGORIES:Eventos presenciales
END:VEVENT
END:VCALENDAR