BEGIN:VCALENDAR
VERSION:2.0
PRODID:-//Clúster TEIB - ECPv6.15.15//NONSGML v1.0//EN
CALSCALE:GREGORIAN
METHOD:PUBLISH
X-WR-CALNAME:Clúster TEIB
X-ORIGINAL-URL:https://clusterteib.es
X-WR-CALDESC:Eventos para Clúster TEIB
REFRESH-INTERVAL;VALUE=DURATION:PT1H
X-Robots-Tag:noindex
X-PUBLISHED-TTL:PT1H
BEGIN:VTIMEZONE
TZID:Europe/Madrid
BEGIN:DAYLIGHT
TZOFFSETFROM:+0100
TZOFFSETTO:+0200
TZNAME:CEST
DTSTART:20240331T010000
END:DAYLIGHT
BEGIN:STANDARD
TZOFFSETFROM:+0200
TZOFFSETTO:+0100
TZNAME:CET
DTSTART:20241027T010000
END:STANDARD
BEGIN:DAYLIGHT
TZOFFSETFROM:+0100
TZOFFSETTO:+0200
TZNAME:CEST
DTSTART:20250330T010000
END:DAYLIGHT
BEGIN:STANDARD
TZOFFSETFROM:+0200
TZOFFSETTO:+0100
TZNAME:CET
DTSTART:20251026T010000
END:STANDARD
BEGIN:DAYLIGHT
TZOFFSETFROM:+0100
TZOFFSETTO:+0200
TZNAME:CEST
DTSTART:20260329T010000
END:DAYLIGHT
BEGIN:STANDARD
TZOFFSETFROM:+0200
TZOFFSETTO:+0100
TZNAME:CET
DTSTART:20261025T010000
END:STANDARD
END:VTIMEZONE
BEGIN:VEVENT
DTSTART;TZID=Europe/Madrid:20251203T100000
DTEND;TZID=Europe/Madrid:20251203T140000
DTSTAMP:20260425T222939
CREATED:20251127T131048Z
LAST-MODIFIED:20251127T131048Z
UID:10000470-1764756000-1764770400@clusterteib.es
SUMMARY:Palma Tech Bay
DESCRIPTION:La cita clau per a l’emprenedoria i la inversió que aposta per la innovació empresarial\nPalma Tech Bay és el primer fòrum d’inversió que connectarà startups de les Illes Balears amb una de les majors xarxes d’inversors a nivell internacional. És una cita clau per a emprenedors i inversors que aposten per la innovació i el creixement empresarial. L’esdeveniment està organitzat per ADRBalears de la Conselleria d’Empresa\, Autònoms i Energia\, i l’Ajuntament de Palma. \nLa primera edició del Palma Tech Bay tendrà lloc el dimecres 3 de desembre\, de 10.00 a 14.00 h\, a la sala d’actes del Port Centre de l’Autoritat Portuària de Balears.
URL:https://clusterteib.es/evento/palma-tech-bay/
LOCATION:Sede Autoridad Portuaria de Baleares
CATEGORIES:Eventos presenciales
END:VEVENT
END:VCALENDAR