BEGIN:VCALENDAR
VERSION:2.0
PRODID:-//Clúster TEIB - ECPv6.15.15//NONSGML v1.0//EN
CALSCALE:GREGORIAN
METHOD:PUBLISH
X-ORIGINAL-URL:https://clusterteib.es
X-WR-CALDESC:Eventos para Clúster TEIB
REFRESH-INTERVAL;VALUE=DURATION:PT1H
X-Robots-Tag:noindex
X-PUBLISHED-TTL:PT1H
BEGIN:VTIMEZONE
TZID:Europe/Madrid
BEGIN:DAYLIGHT
TZOFFSETFROM:+0100
TZOFFSETTO:+0200
TZNAME:CEST
DTSTART:20230326T010000
END:DAYLIGHT
BEGIN:STANDARD
TZOFFSETFROM:+0200
TZOFFSETTO:+0100
TZNAME:CET
DTSTART:20231029T010000
END:STANDARD
BEGIN:DAYLIGHT
TZOFFSETFROM:+0100
TZOFFSETTO:+0200
TZNAME:CEST
DTSTART:20240331T010000
END:DAYLIGHT
BEGIN:STANDARD
TZOFFSETFROM:+0200
TZOFFSETTO:+0100
TZNAME:CET
DTSTART:20241027T010000
END:STANDARD
BEGIN:DAYLIGHT
TZOFFSETFROM:+0100
TZOFFSETTO:+0200
TZNAME:CEST
DTSTART:20250330T010000
END:DAYLIGHT
BEGIN:STANDARD
TZOFFSETFROM:+0200
TZOFFSETTO:+0100
TZNAME:CET
DTSTART:20251026T010000
END:STANDARD
END:VTIMEZONE
BEGIN:VEVENT
DTSTART;TZID=Europe/Madrid:20241202T090000
DTEND;TZID=Europe/Madrid:20241202T123000
DTSTAMP:20260419T184819
CREATED:20241119T114402Z
LAST-MODIFIED:20241119T114725Z
UID:10000372-1733130000-1733142600@clusterteib.es
SUMMARY:Jornada reglamentació IA
DESCRIPTION:Intel·ligència artificial: el marc legal a Europa \nLa Direcció General de Relacions Institucionals i de Relacions amb el Parlament en col·laboració amb la Direcció General d’Innovació i Transformació Digital organitza el pròxim dia 2 de desembre a Palma una jornada temàtica i pràctica sobre el nou Reglament (UE) 2024/1689 pel qual s’estableixen les normes harmonitzades en matèria d’Intel·ligència Artificial. \nL’objectiu del Reglament és millorar el funcionament del mercat interior mitjançant l’establiment d’un marc jurídic uniforme\, en particular pel desenvolupament\, la introducció en el mercat\, la posada en servei i la utilització de sistemes d’intel·ligència artificial a la Unió Europea. \nLa jornada es desenvoluparà al voltant d’un debat sobre les novetats normatives del Reglament. En aquest context\, es tractaran aspectes rellevants com: protecció de dades\, propietat intel·lectual\, confidencialitat\, ciberseguretat\, aspectes del dret laboral\, contractació tecnològica\, entre d’altres. Així també\, diferents representants de l’Administració presentaran una bateria de serveis en assumptes europeus. \nPoden consultar el programa complet de l’esdeveniment AQUÍ\nInscripcions AQUÍ
URL:https://clusterteib.es/evento/jornada-reglamentacio-ia/
LOCATION:Arxiu del Regne de Mallorca\, Carrer de Ramon Llull\, 3\, Palma\, España
ATTACH;FMTTYPE=image/png:https://clusterteib.es/wp-content/uploads/2024/11/Captura-de-pantalla-2024-11-19-123729.png
END:VEVENT
BEGIN:VEVENT
DTSTART;TZID=Europe/Madrid:20241202T103000
DTEND;TZID=Europe/Madrid:20241202T123000
DTSTAMP:20260419T184819
CREATED:20241120T125712Z
LAST-MODIFIED:20241120T142408Z
UID:10000374-1733135400-1733142600@clusterteib.es
SUMMARY:Formación online: Proyectos de IA para la transición ecológica
DESCRIPTION:¿Quieres aprender a aprovechar tus datos y las oportunidades de la Inteligencia Artificial para tu empresa? De la mano de Pablo Cebriá\, co-CEO de Todoesdata\, descubrirás cómo y qué efecto puede tener esta tecnología en las distintas actividades del día a día que realizas en  tu organización. \n📅 Formación de 4h distribuidas en dos sesiones:\n– 2 de diciembre: Descubre cómo la analítica avanzada y los proyectos data-driven a través de Business Intelligence e Inteligencia Artificial transforman negocios y maximizan el ROI.\n– 9 de diciembre: Aprende con casos prácticos\n🕥 De 10:30h a 12:30h \nTe interesa si quieres:\n📈 Incrementar la productividad de tu empresa\n♻️ Optimizar la gestión de recursos para impulsar la sostenibilidad\n🚀 Mantener tu competitividad a largo plazo \nApúntate a la formación organizada por Clúster de Transició Ecològica de les Illes Balears TEIB y Todoesdata en:\n🔗Inscripción
URL:https://clusterteib.es/evento/formacion-online-proyectos-de-ia-para-la-transicion-ecologica/2024-12-02/
LOCATION:València
ATTACH;FMTTYPE=image/jpeg:https://clusterteib.es/wp-content/uploads/2024/11/PILDORA-FORMATIVA-1.jpg
ORGANIZER;CN="Cl%C3%BAster de Transici%C3%B3n Ecol%C3%B3gica de las Illes Balears":MAILTO:info@clusterteib.com
END:VEVENT
BEGIN:VEVENT
DTSTART;TZID=Europe/Madrid:20241202T120000
DTEND;TZID=Europe/Madrid:20241202T173000
DTSTAMP:20260419T184819
CREATED:20241202T190629Z
LAST-MODIFIED:20241202T190629Z
UID:10000379-1733140800-1733160600@clusterteib.es
SUMMARY:Economía balear: turismo y mucho más
DESCRIPTION:elDiario.es organiza la jornada ‘Economía balear: turismo y mucho más’. Un evento para debatir y reflexionar sobre los desafíos y tendencias actuales y futuras de los motores económicos de la economía balear. \nCon el fin de analizar y reflexionar sobre los ejes vertebradores de la economía balear\, reunirán a profesionales del sector y a líderes de opinión destacados. El evento contará con la participación de Jaime Martínez\, alcalde de Palma; Rosario Sánchez\, secretaria de Estado de Turismo; María González Veracruz\, secretaria de Estado de Digitalización e Inteligencia Artificial; José Luis Mateo\, conseller de Vivienda\, Territorio y Movilidad; Clara del Moral\, directora Insular de Turismo para la Oferta y la Calidad del Consell de Mallorca\, Ignacio Escolar\, director de elDiario.es; Carmen Planas\, presidenta de la Confederación de Asociaciones Empresariales de Baleares (CAEB); Maribel Rodríguez\, Fundadora y directora de Women leading Tourism; o Laura Garrido\, socia fundadora y directora de Ético\, entre otras expertas y expertos en la materia. \nTambién participará Marta Pons\, gerente del Clúster TEIB\, en la cuarta mesa redonda: «Circularidad y energías renovables». \nPara más información: Programa completo
URL:https://clusterteib.es/evento/economia-balear-turismo-y-mucho-mas/
LOCATION:Caixa Forum Palma\, Plaça de Weyler\, 3\, PALMA\, ILLES BALEARS\, España
ATTACH;FMTTYPE=image/png:https://clusterteib.es/wp-content/uploads/2024/12/80dc967e-34fe-0068-6373-d67869902969.png
ORGANIZER;CN="Cl%C3%BAster de Transici%C3%B3n Ecol%C3%B3gica de las Illes Balears":MAILTO:info@clusterteib.com
END:VEVENT
BEGIN:VEVENT
DTSTART;TZID=Europe/Madrid:20241203T113000
DTEND;TZID=Europe/Madrid:20241203T123000
DTSTAMP:20260419T184819
CREATED:20241126T145636Z
LAST-MODIFIED:20241128T153747Z
UID:10000376-1733225400-1733229000@clusterteib.es
SUMMARY:Webinar: "Retos en la Gestión de Autoconsumos"
DESCRIPTION:Des de ImpactE organizan el webinar: «Retos en la Gestión de Autoconsumos»\, dirigido a gestores\, instaladores y comunidades energéticas. En el webinar se explorarán los desafíos clave en la gestión de autoconsumos y\, además\, ImpactE presentará su innovadora herramienta de gestión de autoconsumos. \nLa mesa redonda contará con expertos del sector: Juan Tur Torres\, Ceo de SolSulet\, socios del Clúster; Laura Montané Risueño de Fundación Acciona.org y Ramon Roig Sole\, secretario de Osona Energia Cooperativa y miembro fundador de Balenyà Sostenible. \nRegístrate pulsando en el siguiente enlace: Inscripciones
URL:https://clusterteib.es/evento/webinar-retos-en-la-gestion-de-autoconsumos/
LOCATION:Online
ATTACH;FMTTYPE=image/jpeg:https://clusterteib.es/wp-content/uploads/2024/11/1732786395416.jpeg
END:VEVENT
BEGIN:VEVENT
DTSTART;TZID=Europe/Madrid:20241204T100000
DTEND;TZID=Europe/Madrid:20241204T120000
DTSTAMP:20260419T184819
CREATED:20241201T100943Z
LAST-MODIFIED:20241201T100943Z
UID:10000378-1733306400-1733313600@clusterteib.es
SUMMARY:CAEB: CAES AHORRA Y CERTIFICA TUS INVERSIONES CON ACTUACIONES DE EFICIENCIA ENERGÉTICA
DESCRIPTION:4 de DICIEMBRE de 10h a 12h en la sede de CAEB: Jornada dedicada a los CERTIFICADOS DE AHORRO ENERGÉTICO CAEs \nOBJETIVO: monetizar las inversiones realizadas y futuras con CERTIFICADOS DE AHORRO ENERGÉTICO.\nHoy inviertes\, hoy ahorras. \nDIRIGIDO A: propietari@s y profesionales de cualquier sector donde se realicen o puedan realizarse actuaciones de eficiencia energética. \n10h – Recepción en la sede de CAEB \n10:10h – Apertura del acto – Bienvenida \nA cargo de Francisco Javier Piña\, presidente de ASINEM y Carlos Moyà Barceló\, del comité ejecutivo de ASINEM \n10:30h – 12:30h –  \n· Gestión del sistema CAE de las organizaciones.\n· El nuevo canal sujeto obligado de las empresas instaladoras.\n· Inversiones de eficiencia energética.\n· Ejemplos y actuación en Certificados de Ahorro Energético CAE \nA cargo de José Ángel Gimeno\, director de Desarrollo de Negocio FENÍE ENERGÍA y Neus Sastre Guasch\, vicepresidenta de ASINEM \n12h – Brunch Networking
URL:https://clusterteib.es/evento/caeb-caes-ahorra-y-certifica-tus-inversiones-con-actuaciones-de-eficiencia-energetica/
LOCATION:CAEB\, C/Aragón\, 215\, 2º\, Palma\, Illes Balears\, España
CATEGORIES:Eventos presenciales
END:VEVENT
BEGIN:VEVENT
DTSTART;VALUE=DATE:20241206
DTEND;VALUE=DATE:20241208
DTSTAMP:20260419T184819
CREATED:20231205T175053Z
LAST-MODIFIED:20231205T175053Z
UID:10000099-1733446800-1733533199@clusterteib.es
SUMMARY:Festivo
DESCRIPTION:
URL:https://clusterteib.es/evento/festivo-7/
LOCATION:València
END:VEVENT
BEGIN:VEVENT
DTSTART;TZID=Europe/Madrid:20241209T103000
DTEND;TZID=Europe/Madrid:20241209T123000
DTSTAMP:20260419T184819
CREATED:20241120T125712Z
LAST-MODIFIED:20241120T142408Z
UID:10000375-1733740200-1733747400@clusterteib.es
SUMMARY:Formación online: Proyectos de IA para la transición ecológica
DESCRIPTION:¿Quieres aprender a aprovechar tus datos y las oportunidades de la Inteligencia Artificial para tu empresa? De la mano de Pablo Cebriá\, co-CEO de Todoesdata\, descubrirás cómo y qué efecto puede tener esta tecnología en las distintas actividades del día a día que realizas en  tu organización. \n📅 Formación de 4h distribuidas en dos sesiones:\n– 2 de diciembre: Descubre cómo la analítica avanzada y los proyectos data-driven a través de Business Intelligence e Inteligencia Artificial transforman negocios y maximizan el ROI.\n– 9 de diciembre: Aprende con casos prácticos\n🕥 De 10:30h a 12:30h \nTe interesa si quieres:\n📈 Incrementar la productividad de tu empresa\n♻️ Optimizar la gestión de recursos para impulsar la sostenibilidad\n🚀 Mantener tu competitividad a largo plazo \nApúntate a la formación organizada por Clúster de Transició Ecològica de les Illes Balears TEIB y Todoesdata en:\n🔗Inscripción
URL:https://clusterteib.es/evento/formacion-online-proyectos-de-ia-para-la-transicion-ecologica/2024-12-09/
LOCATION:València
ATTACH;FMTTYPE=image/jpeg:https://clusterteib.es/wp-content/uploads/2024/11/PILDORA-FORMATIVA-1.jpg
ORGANIZER;CN="Cl%C3%BAster de Transici%C3%B3n Ecol%C3%B3gica de las Illes Balears":MAILTO:info@clusterteib.com
END:VEVENT
BEGIN:VEVENT
DTSTART;TZID=Europe/Madrid:20241217T120000
DTEND;TZID=Europe/Madrid:20241217T130000
DTSTAMP:20260419T184819
CREATED:20241120T124010Z
LAST-MODIFIED:20241212T155310Z
UID:10000373-1734436800-1734440400@clusterteib.es
SUMMARY:Estrategia internacionalización 2025 socios TEIB
DESCRIPTION:El próximo 17 de diciembre\, de 12:00 a 13:00 h\, organizamos una reunión para dar a conocer las herramientas para las PYMEs del sector para apoyar sus estrategias de internacionalización. \nQué trataremos: \n\nOportunidades de financiación disponibles en las Islas Baleares para PYMEs para apoyar tus planes de internacionalización.\nAnalizaremos propuestas de participación en diferentes eventos internacionales claves para nuestro sector.\n\nTe interesa si quieres: \n\nRealizar un plan de internacionalización\n Realizar un plan de marketing\n Participar en ferias internacionales\nParticipar en misiones comerciales\n\nDetalles de la reunión: \n\nMartes 17/12 de 12:00 a 13:00\nPresencial: Sala de Formación del Centro de Son Espanyol en el Parc Bit.\nOnline: más adelante os compartiremos el enlace.\nImprescindible registro.
URL:https://clusterteib.es/evento/estrategia-internacionalizacion-2025-socios-teib/
LOCATION:Sala de formación ParcBIT\, Centre Empresarial Son Espanyol\, Palma
CATEGORIES:Eventos presenciales,Reunión grupo de trabajo
ATTACH;FMTTYPE=image/jpeg:https://clusterteib.es/wp-content/uploads/2024/11/Imagen-de-WhatsApp-2024-12-11-a-las-12.24.57_84b0610b.jpg
ORGANIZER;CN="Cl%C3%BAster de Transici%C3%B3n Ecol%C3%B3gica de las Illes Balears":MAILTO:info@clusterteib.com
END:VEVENT
BEGIN:VEVENT
DTSTART;TZID=Europe/Madrid:20241218T163000
DTEND;TZID=Europe/Madrid:20241218T200000
DTSTAMP:20260419T184819
CREATED:20241118T141215Z
LAST-MODIFIED:20241217T201258Z
UID:10000367-1734539400-1734552000@clusterteib.es
SUMMARY:Final Connect'Up 2024
DESCRIPTION:El miércoles 18 de diciembre a las 17.00h tendrá lugar la final de la VII edición del Connect’up 2024 en la Fábrica Ramis (Inca). \nA continuación tenéis adjunto el programa:\n \n  \nPara más información: Connect’up
URL:https://clusterteib.es/evento/final-connectup-2024/
LOCATION:Fàbrica Ramis Inca\, Gran Via Colom\, 28\, Inca\, Illes Balears\, 07300
CATEGORIES:Eventos presenciales
ATTACH;FMTTYPE=image/png:https://clusterteib.es/wp-content/uploads/2024/11/thumbnail_ATT00001.png
END:VEVENT
BEGIN:VEVENT
DTSTART;TZID=Europe/Madrid:20241219T090000
DTEND;TZID=Europe/Madrid:20241219T140000
DTSTAMP:20260419T184819
CREATED:20241211T114935Z
LAST-MODIFIED:20241217T211521Z
UID:10000380-1734598800-1734616800@clusterteib.es
SUMMARY:Ecosistema Balear de Inteligencia Artificial e Innovación 2024
DESCRIPTION:La tercera edición del evento que reúne a los expertos en inteligencia artificial de nuestro entorno y al talento balear de innovación se celebrará el 19 de diciembre en el Palau de Congressos de Palma. \n\n\nObjetivos del encuentro:\nExplorar tanto las oportunidades como los retos que estas tecnologías conllevan y suscitar una “catarsis” del ecosistema que nos catapulte al liderazgo de un nuevo concepto de HOSPITALITY a nivel mundial. \nLa mesas propuestas permitirán un análisis integral de los impactos económicos\, sociales\, medioambientales y éticos de la automatización\, permitiendo a los asistentes obtener una visión completa y equilibrada sobre cómo la robotización y la IA podrían transformar el sector HOSPITALITY y nuestra sociedad en el futuro. \nLa participación de expertos locales de diversos perfiles  y una estructura dinámica\, generará un debate enriquecedor y constructivo que  debería guiar las futuras decisiones políticas y empresariales. \n\nUn evento dividido en dos partes:\n9.3oh a 14h\nIII Encuentro Ecosistema Balear IA e Innovación.\nAcceso gratuito\, imprescindible registrarse. \n14.15h a 16.30h\nAlmuerzo-coloquio Talento Balear con Andrés Bordoy\, Antonio Rami\, Marga Gual y Blanca Ribas.\nPrecio 35€ \n\n\n  \nPara más información: Programa \n\n\nEs imprescindible registrarse para asistir a este evento. La asistencia es gratuita.
URL:https://clusterteib.es/evento/ecosistema-balear-de-inteligencia-artificial-e-innovacion-2024/
LOCATION:Palau de Congresos\, Paseo Maritimo
ATTACH;FMTTYPE=image/png:https://clusterteib.es/wp-content/uploads/2024/12/Captura-de-pantalla-2024-12-11-124909.png
END:VEVENT
END:VCALENDAR