BEGIN:VCALENDAR
VERSION:2.0
PRODID:-//Clúster TEIB - ECPv6.15.15//NONSGML v1.0//EN
CALSCALE:GREGORIAN
METHOD:PUBLISH
X-ORIGINAL-URL:https://clusterteib.es
X-WR-CALDESC:Eventos para Clúster TEIB
REFRESH-INTERVAL;VALUE=DURATION:PT1H
X-Robots-Tag:noindex
X-PUBLISHED-TTL:PT1H
BEGIN:VTIMEZONE
TZID:Europe/Madrid
BEGIN:DAYLIGHT
TZOFFSETFROM:+0100
TZOFFSETTO:+0200
TZNAME:CEST
DTSTART:20230326T010000
END:DAYLIGHT
BEGIN:STANDARD
TZOFFSETFROM:+0200
TZOFFSETTO:+0100
TZNAME:CET
DTSTART:20231029T010000
END:STANDARD
BEGIN:DAYLIGHT
TZOFFSETFROM:+0100
TZOFFSETTO:+0200
TZNAME:CEST
DTSTART:20240331T010000
END:DAYLIGHT
BEGIN:STANDARD
TZOFFSETFROM:+0200
TZOFFSETTO:+0100
TZNAME:CET
DTSTART:20241027T010000
END:STANDARD
BEGIN:DAYLIGHT
TZOFFSETFROM:+0100
TZOFFSETTO:+0200
TZNAME:CEST
DTSTART:20250330T010000
END:DAYLIGHT
BEGIN:STANDARD
TZOFFSETFROM:+0200
TZOFFSETTO:+0100
TZNAME:CET
DTSTART:20251026T010000
END:STANDARD
END:VTIMEZONE
BEGIN:VEVENT
DTSTART;VALUE=DATE:20241101
DTEND;VALUE=DATE:20241103
DTSTAMP:20260419T172330
CREATED:20231205T175018Z
LAST-MODIFIED:20231205T175018Z
UID:10000098-1730422800-1730509199@clusterteib.es
SUMMARY:Festivo
DESCRIPTION:
URL:https://clusterteib.es/evento/festivo-6/
LOCATION:València
END:VEVENT
BEGIN:VEVENT
DTSTART;VALUE=DATE:20241105
DTEND;VALUE=DATE:20241109
DTSTAMP:20260419T172330
CREATED:20231205T203015Z
LAST-MODIFIED:20241014T163944Z
UID:10000149-1730768400-1731027599@clusterteib.es
SUMMARY:Smart City Expo World Congress
DESCRIPTION:Smart City Expo World Congress es el evento más grande e influyente del mundo sobre innovación urbana. Ayudan a las ciudades y territorios a convertirse en lugares mejores para vivir\, reuniéndolos y presentándoles las últimas soluciones urbanas listas para el mercado.\n\n\n\n\n\n\n\n\n\n\nConsigue tus entradas en el siguiente enlace: entradas \nY para más información: Smart City Expo World Congress
URL:https://clusterteib.es/evento/smart-city-expo-world-congress/
LOCATION:Fira de Barcelona
CATEGORIES:Eventos presenciales
ATTACH;FMTTYPE=image/png:https://clusterteib.es/wp-content/uploads/2023/12/logo-evenement.png
END:VEVENT
BEGIN:VEVENT
DTSTART;TZID=Europe/Madrid:20241106T090000
DTEND;TZID=Europe/Madrid:20241106T140000
DTSTAMP:20260419T172330
CREATED:20241014T153156Z
LAST-MODIFIED:20241029T155506Z
UID:10000287-1730883600-1730901600@clusterteib.es
SUMMARY:Píndola de circularitat FBIT (Mallorca)
DESCRIPTION:La Fundació Bit\, en col·laboració amb la Direcció General d’Innovació i Transformació Digital\, i en el marc de l’Enterprise Europe Network\, organitza unes jornades formatives en sostenibilitat que tenen per objecte capacitar a les empreses en el seu compromís amb la sostenibilitat. Concretament\, aquesta formació ajudarà a les entitats a reduir els seus costos energètics mitjançant diverses estratègies i tecnologies. Així també\, s’abordaran estratègies de circularitat i models de negoci que permetran a les empreses formar part d’una economia circular. \nLa formació es distribueix en una píndola formativa d’eficiència energètica de 5 hores; i una píndola de circularitat\, també de 5 hores. Aquestes formacions tindran lloc a Mallorca i a Menorca. \n  \nPer a més informació: Píndoles de sostenibilitat \nApunta’t a: Formulari d’inscripció
URL:https://clusterteib.es/evento/pindola-de-circularitat-fbit-mallorca/
LOCATION:Sala de formación ParcBIT\, Centre Empresarial Son Espanyol\, Palma
ATTACH;FMTTYPE=image/png:https://clusterteib.es/wp-content/uploads/2024/10/Captura-de-pantalla-2024-10-14-172039.png
END:VEVENT
BEGIN:VEVENT
DTSTART;TZID=Europe/Madrid:20241107T100000
DTEND;TZID=Europe/Madrid:20241107T130000
DTSTAMP:20260419T172330
CREATED:20241029T154429Z
LAST-MODIFIED:20241029T154429Z
UID:10000292-1730973600-1730984400@clusterteib.es
SUMMARY:Asima Innova. Meetings empresariales
DESCRIPTION:Desde Asima organizan una nueva jornada de ‘ASIMA Innova. Meetings empresariales‘ en la que contarán con dos mesas redondas en la que participarán referentes del mundo empresarial para dar las claves en innovación\, tecnología y talento para las pymes de Baleares. \nPosteriormente\, Juan Ferrer\, experto en Gestión del Cambio\, impartirá una ponencia bajo el título ‘Nuevos tiempos \,nuevos retos\, nuevos liderazgos’. \nLa jornada tendrá lugar el jueves 7 de noviembre en el Antiguo Parque de Bomberos ASIMA (Gremi de Picapedrers\, 1. Polígono Son Castelló de Palma)\, de 10h a 13h. \nCon el patrocinio de Mercedes Benz Autovidal y la colaboración de Angel24\, Auren\, Cajamar\, Mapfre\, Quota Laboral\, Refineria\,Sanitas y Value Group. Con el apoyo de SAM Audiovisuales y RLM Audiovisual. Medio oficial Cope Mallorca. \n  \nSe precisa inscripción pulsando aquí \nPrograma Asima Innova. Meetings empresariales
URL:https://clusterteib.es/evento/asima-innova-meetings-empresariales/
LOCATION:Antiguo Parque de Bomberos ASIMA\, Gremi de Picapedrers\, 1. Polígono Son Castelló\, Palma\, España
ATTACH;FMTTYPE=image/jpeg:https://clusterteib.es/wp-content/uploads/2024/10/asima-innova-NOV-1080x1080-1.jpg
END:VEVENT
BEGIN:VEVENT
DTSTART;TZID=Europe/Madrid:20241112T090000
DTEND;TZID=Europe/Madrid:20241112T183000
DTSTAMP:20260419T172330
CREATED:20241016T153242Z
LAST-MODIFIED:20241016T153242Z
UID:10000290-1731402000-1731436200@clusterteib.es
SUMMARY:Robòtica mòbil i cooperativa aplicada a l’hosteleria i la restauració
DESCRIPTION:El futur de l’hoteleria i la restauració ha arribat i des de la Fundació Bit ens conviden a ser part d’ell! \nDes de la Fundació Bit ens conviden a descobrir com la robòtica mòbil i cooperativa aplicada a l’hosteleria i la restauració pot optimitzar les tasques més feixugues i repetitives. \n\nQuè t’espera?\n\nPonències a càrrec d’empreses expertes en la robòtica col·laborativa i aplicada al sector de l’hoteleria i la restauració\nShowroom de robots\nDemostració en viu de robots\nNetworking i trobades B2B per poder connectar amb professionals i apassionats per la innovació al sector\nTallers per aprendre a com mapejar robots pel teu negoci\n\n\nQuè es cerca?\nApropar la implantació de robots cooperatius a les empreses de les Illes Balears \n  \nPer què assistir?\n\nDescobreix com la robòtica està transformant el món dels hotels i els restaurants\, des de l’atenció al client fins a l’optimització dels processos de cuina\nConeix les darreres tendències tecnològiques que estan revolucionant l’eficiència i l’experiència del client\nConeix als líders del sector de la robòtica\nForma part del futur que s’apropa de cada vegada més ràpid!\n\n\nNo et quedis enrere!\n\nInscripcions a través del següent enllaç: Inscripció jornada\nLes places són limitades\, pel que la confirmació es regirà per estricte ordre d’entrada\nSi arriba a l’aforament màxim\, les inscripcions es tancaran i es generarà una llista d’espera\nPer a més informació: Robòtica mòbil i cooperativa
URL:https://clusterteib.es/evento/robotica-mobil-i-cooperativa-aplicada-a-lhosteleria-i-la-restauracio/
LOCATION:Centre Empresarial Son Espanyol del ParcBi\, Calle Laura Bassi\, 1\, Palma\, Islas Baleares\, 07121\, España
ATTACH;FMTTYPE=image/png:https://clusterteib.es/wp-content/uploads/2024/10/Captura-de-pantalla-2024-10-16-171424-e1729091883460.png
END:VEVENT
BEGIN:VEVENT
DTSTART;TZID=Europe/Madrid:20241114T110000
DTEND;TZID=Europe/Madrid:20241114T130000
DTSTAMP:20260419T172330
CREATED:20231205T180740Z
LAST-MODIFIED:20241111T150134Z
UID:10000135-1731582000-1731589200@clusterteib.es
SUMMARY:II Asamblea General Ordinaria 2024
DESCRIPTION:Los socios del Clúster de Transició Ecològica de les Illes Balears (TEIB) celebrarán la segunda Asamblea General de 2024 el próximo jueves 14 de noviembre de 11:00h a 13:00h en la Sala de Actos del Edifico Jovellanos de la Universitat de les Illes Balears. \nLa Asamblea tratará los diferentes puntos del orden del día\, con especial importancia en la propuesta de actividades y el presupuesto del clúster para el 2025. La sesión también contará con un espacio dedicado a la presentación de los nuevos socios. \nLa jornada cerrará con una ponencia inspiradora por parte del Dr. Víctor Vilarrasa\, investigador del IMEDEA (CSIC-UIB) y ganador del Premio Nacional de Investigación para Jóvenes 2024 por sus estudios en geotermia.
URL:https://clusterteib.es/evento/ii-asamblea-general-ordinaria-2024/
LOCATION:Sala de actos del Edificio Jovellanos\, UIB
CATEGORIES:Asamblea
ATTACH;FMTTYPE=image/jpeg:https://clusterteib.es/wp-content/uploads/2023/12/miniatura-assamblea-general.jpg
ORGANIZER;CN="Cl%C3%BAster de Transici%C3%B3n Ecol%C3%B3gica de las Illes Balears":MAILTO:info@clusterteib.com
END:VEVENT
BEGIN:VEVENT
DTSTART;TZID=Europe/Madrid:20241119T090000
DTEND;TZID=Europe/Madrid:20241119T140000
DTSTAMP:20260419T172330
CREATED:20241108T153158Z
LAST-MODIFIED:20241111T145904Z
UID:10000365-1732006800-1732024800@clusterteib.es
SUMMARY:XIV Foro Empresarial España - Estados Unidos
DESCRIPTION:La Cambra de Comerç de Mallorca junto con SPAIN-US Chamber of Commerce organizan el XIV Foro Empresarial España – Estados Unidos que tendrá lugar en su decimocuarta edición en Palma el 19 de noviembre de 9:00 h a 14:00 h en la sede de la Cambra de Comerç de Mallorca.\n\nEste foro ofrece ponencias y mesas de debate para intercambiar experiencias\, retos y oportunidades entre ambos países.\n\nEn este enlace pueden consultar la agenda completa y los ponentes de la sesión.\n\nPara poder asistir al evento es imprescindible la inscripción previa.
URL:https://clusterteib.es/evento/xiv-foro-empresarial-espana-estados-unidos/
LOCATION:sede de la Cambra de Comerç de Mallorca\, Carrer de l'Estudi General\, 7\, Palma\, España
ATTACH;FMTTYPE=image/jpeg:https://clusterteib.es/wp-content/uploads/2024/11/20241119-Foro-Estados-Unidos-F.jpg
END:VEVENT
BEGIN:VEVENT
DTSTART;TZID=Europe/Madrid:20241120T150000
DTEND;TZID=Europe/Madrid:20241120T200000
DTSTAMP:20260419T172330
CREATED:20241014T153319Z
LAST-MODIFIED:20241029T155603Z
UID:10000288-1732114800-1732132800@clusterteib.es
SUMMARY:Píndola de circularitat FBIT (Menorca)
DESCRIPTION:La Fundació Bit\, en col·laboració amb la Direcció General d’Innovació i Transformació Digital\, i en el marc de l’Enterprise Europe Network\, organitza unes jornades formatives en sostenibilitat que tenen per objecte capacitar a les empreses en el seu compromís amb la sostenibilitat. Concretament\, aquesta formació ajudarà a les entitats a reduir els seus costos energètics mitjançant diverses estratègies i tecnologies. Així també\, s’abordaran estratègies de circularitat i models de negoci que permetran a les empreses formar part d’una economia circular. \nLa formació es distribueix en una píndola formativa d’eficiència energètica de 5 hores; i una píndola de circularitat\, també de 5 hores. Aquestes formacions tindran lloc a Mallorca i a Menorca. \n  \nPer a més informació: Píndoles de sostenibilitat \nApunta’t a: Formulari d’inscripció
URL:https://clusterteib.es/evento/pindola-de-circularitat-fbit-menorca/
LOCATION:Centre Bit Menorca\, Alaior
ATTACH;FMTTYPE=image/png:https://clusterteib.es/wp-content/uploads/2024/10/Captura-de-pantalla-2024-10-14-172039.png
END:VEVENT
BEGIN:VEVENT
DTSTART;TZID=Europe/Madrid:20241121T090000
DTEND;TZID=Europe/Madrid:20241121T133000
DTSTAMP:20260419T172330
CREATED:20241118T182444Z
LAST-MODIFIED:20241118T184125Z
UID:10000370-1732179600-1732195800@clusterteib.es
SUMMARY:Innovation Day Energia 2024
DESCRIPTION:Participa en la jornada de referència en innovació al sector energètic! \nTindrà lloc el pròxim 21 de novembre al Parc Tecnològic de Barcelona Activa. Coorganitzat pel CEEC\, l’IREC\, la XRE4S i l’ICAEN\, l’esdeveniment és ja el principal punt de trobada en innovació del sector energètic\, on es donen a conèixer les darreres solucions en energia i eficiència energètica. \nL’Innovation Day d’enguany girarà al voltant de l’edificació sostenible i l’emmagatzematge de l’energia amb l’objectiu de fer promoció i divulgació dels darrers avenços i innovacions a través de presentacions\, taules rodones i els fòrums d’innovació. \n  \nPots descarregar aquí el PROGRAMA de la jornada. \nReserva ja la teva plaça i no te la perdis! INSCRIPCIONS
URL:https://clusterteib.es/evento/innovation-day-energia-2024/
LOCATION:Parc Tecnològic de Barcelona Activa\, Carrer de Marie Curie\, 8-14\, Barcelona\, España
ATTACH;FMTTYPE=image/jpeg:https://clusterteib.es/wp-content/uploads/2024/11/Copia_de_Innovation_day__20241112100754.jpeg
END:VEVENT
BEGIN:VEVENT
DTSTART;TZID=Europe/Madrid:20241125T130000
DTEND;TZID=Europe/Madrid:20241125T140000
DTSTAMP:20260419T172330
CREATED:20241126T151545Z
LAST-MODIFIED:20241126T151545Z
UID:10000377-1732539600-1732543200@clusterteib.es
SUMMARY:Reunión online: Open Innovation 2025
DESCRIPTION:Un año más se inicia: ANCES Open Innovation\, organizado por los 33 Centros Europeos de Empresas Innovadoras (CEEIs) en España\, entre ellos la Fundació Bit\, que han ayudado a crear más de 3000 startups en la última década. El principal objetivo de este proyecto es reunir a empresas tractoras españolas para que encuentren soluciones tecnológicas a sus retos o necesidades desarrolladas por emprendedores\, startups o EIBTs. \nEl próximo lunes 25 de noviembre a las 13:00h\, os invitamos a una reunión online con el resto de empresas/organizaciones que estén interesadas en conocer más sobre la VIII edición de ANCES OPEN INNOVATION 2025\, iniciativa en la que han participado más de 70 empresas tractoras\, que han recibido 631 soluciones propuestas por startups en los últimos años. En la reunión se presentará la nueva edición y se aclararán dudas: cómo plantear un reto\, experiencias de años anteriores… \nPróximas fechas: \n\n20/12/24: Confirmación de nuevas tractoras\n23/01/25: Envío del reto y acuerdo firmado\nMayo del 2025: Evento final\n\nPara más información: ANCES Open Innovation
URL:https://clusterteib.es/evento/reunion-online-open-innovation-2025/
LOCATION:València
ATTACH;FMTTYPE=image/png:https://clusterteib.es/wp-content/uploads/2024/11/Captura-de-pantalla-2024-11-26-160003.png
END:VEVENT
BEGIN:VEVENT
DTSTART;TZID=Europe/Madrid:20241127T080000
DTEND;TZID=Europe/Madrid:20241129T170000
DTSTAMP:20260419T172330
CREATED:20241014T162603Z
LAST-MODIFIED:20241014T162603Z
UID:10000289-1732694400-1732899600@clusterteib.es
SUMMARY:Expoenergea 2024
DESCRIPTION:La VII edición de Expoenergea\, organizada por la Agenex y el Cluster de la Energía de Extremadura\, es el evento energético del Suroeste Ibérico\, contando con importantes patrocinadores y colaboradores (diputaciones\, Ayuntamiento de Badajoz\, Junta de Extremadura\, Emececuadrado\, Seis Solar\, Redexis\, Aspremetal\, DronFly\, Etergy\, Applus\, Naturgy\, Gas Extremadura\, Pymecon\, Asinet\, SoiH2\, Ingenostrum\, …) que están permitiendo avanzar por buen camino\, teniendo ya el 60% del suelo contratado y una agenda de actividades paralelas que reforzarán el enfoque profesional y técnico del evento. La energía y su uso es un factor capital en nuestra sociedad\, ya sea a nivel empresarial o doméstico\, y Expoenergea es un escaparate único para conocer innovaciones \, realizar encuentros profesionales y asistir a jornadas técnicas\, convirtiendo dicho evento en una cita destacada en la agenda social y económica de Extremadura. \nEn esta edición habrá empresas instaladoras\, ingenierías\, exposición de vehículos eléctricos\, drones\, asociaciones empresariales\, jornadas dedicadas a la movilidad sostenible\, almacenamiento energético\, biocombustibles\, comunidades energéticas y zona de reuniones empresariales. Todo un programa y área expositiva destinadas al profesional y visitante que quiera conocer la energía sostenible en toda su extensión. \nLos próximos 27\, 28 y 29 de Noviembre tienes una cita a la que no puedes faltar\, te dejamos los enlaces para que puedas realizar tu inscripción (visitante o expositor) y conocer el evento con mas detalle (dirección web): \n\nInformación expositor pulse aquí \nInscripción visitante profesional pulse aquí \nDirección web del evento: Expoenergea
URL:https://clusterteib.es/evento/expoenergea-2024/
LOCATION:IFEBA\, Av. de Elvas\, s/n\, Badajoz\, 06006\, España
ATTACH;FMTTYPE=image/png:https://clusterteib.es/wp-content/uploads/2024/10/expoenergea24.png
END:VEVENT
BEGIN:VEVENT
DTSTART;TZID=Europe/Madrid:20241127T090000
DTEND;TZID=Europe/Madrid:20241127T140000
DTSTAMP:20260419T172330
CREATED:20241001T151939Z
LAST-MODIFIED:20241029T155436Z
UID:10000278-1732698000-1732716000@clusterteib.es
SUMMARY:Píndola d’eficiència energètica FBIT (Mallorca)
DESCRIPTION:La Fundació Bit\, en col·laboració amb la Direcció General d’Innovació i Transformació Digital\, i en el marc de l’Enterprise Europe Network\, organitza unes jornades formatives en sostenibilitat que tenen per objecte capacitar a les empreses en el seu compromís amb la sostenibilitat. Concretament\, aquesta formació ajudarà a les entitats a reduir els seus costos energètics mitjançant diverses estratègies i tecnologies. Així també\, s’abordaran estratègies de circularitat i models de negoci que permetran a les empreses formar part d’una economia circular. \nLa formació es distribueix en una píndola formativa d’eficiència energètica de 5 hores; i una píndola de circularitat\, també de 5 hores. Aquestes formacions tindran lloc a Mallorca i a Menorca. \n  \nPer a més informació: Píndoles de sostenibilitat \nApunta’t a: Formulari d’inscripció \n 
URL:https://clusterteib.es/evento/pindola-deficiencia-energetica/
LOCATION:Sala de formación ParcBIT\, Centre Empresarial Son Espanyol\, Palma
ATTACH;FMTTYPE=image/jpeg:https://clusterteib.es/wp-content/uploads/2024/10/Captura-de-pantalla_1-10-2024_172149_www.fundaciobit.org_.jpeg
END:VEVENT
BEGIN:VEVENT
DTSTART;TZID=Europe/Madrid:20241127T120000
DTEND;TZID=Europe/Madrid:20241127T140000
DTSTAMP:20260419T172330
CREATED:20241108T153041Z
LAST-MODIFIED:20241111T152627Z
UID:10000364-1732708800-1732716000@clusterteib.es
SUMMARY:Ágora-Impulsa: Roadmap circular
DESCRIPTION:Desde Impulsa Balears\, siguen avanzando en el ambicioso proyecto de desarrollar la primera hoja de ruta que guiará el tránsito hacia un sistema turístico circular en Balears. \nComo parte de este proceso\, el pasado mes de octubre celebraron las primeras dinámicas de trabajo con actores clave de las islas\, promoviendo el intercambio de ideas para definir un marco de acciones innovadoras y viables que sustenten este tránsito. \nPosteriormente\, mediante cuestionarios en línea\, han dado continuidad al trabajo\, permitiendo afinar\, validar y priorizar conjuntamente las ideas propuestas\, así como recabar el interés de los actores locales en participar en su desarrollo. \nA la luz de estas contribuciones\, durante estas semanas\, en Impulsa Balears están trabajando ya en concretar los avances del plan de acción correspondiente a cada uno de los 6 ámbitos prioritarios de acción (APAs) considerados: Agua\, Energía\, Alimentos Materiales\, Movilidad y Territorio-Mar. \n  \nEn este sentido\, nos invitan a una nueva sesión de trabajo dentro del Ágora-Impulsa\, en la cual compartirán\, ajustarán y validarán las estrategias para el APA · ENERGÍA. Tendrá lugar el próximo 27 de noviembre\, de 12:00h a 14:00h\, en el Centre Empresarial Son Espanyol del ParcBIT (Sala de formación). \n  \nDado que el aforo de la sesión está limitado a máximo 20 personas\, agradecemos que confirmes tu participación antes del 20 de noviembre. \n  \n¡No pierdas la oportunidad de formar parte de esta propuesta estratégica en favor del desarrollo regional! Tu aportación será crucial para dar forma a este roadmap y asegurar que nuestra región se consolida como líder en la economía circular. \n  \nPara más información: Ágora-Impulsa
URL:https://clusterteib.es/evento/agora-impulsa/
LOCATION:Sala de formación ParcBIT\, Centre Empresarial Son Espanyol\, Palma
ATTACH;FMTTYPE=image/png:https://clusterteib.es/wp-content/uploads/2024/11/Captura-de-pantalla-2024-11-11-162519-e1731338768680.png
ORGANIZER;CN="Impulsa Balears":MAILTO:info@impulsabalears.orh
END:VEVENT
BEGIN:VEVENT
DTSTART;TZID=Europe/Madrid:20241127T183000
DTEND;TZID=Europe/Madrid:20241127T210000
DTSTAMP:20260419T172330
CREATED:20241118T143136Z
LAST-MODIFIED:20241119T111558Z
UID:10000369-1732732200-1732741200@clusterteib.es
SUMMARY:(Madrid A3E) Gala Eficiencia Energética y Sostenibilidad
DESCRIPTION:Este año A3E celebra su 15 aniversario y la Gala Eficiencia Energética y Sostenibilidad de A3E será un evento muy especial. ¡Te contamos los principales elementos del evento! \nEn el marco de la celebración se hará entrega de los XI premios Eficiencia Energética y Sostenibilidad de A3E ante la presencia de cerca de 600 personas en el Teatro Príncipe Pío de Madrid el próximo 27 de noviembre. \nUn evento excepcional que se celebra en un momento clave para el ámbito de la energía\, en el que la eficiencia energética y la sostenibilidad juegan un papel fundamental en el desarrollo socio-económico nacional e internacional\, con el compromiso de empresas\,  organizaciones y de la Administración. Contaremos con intervención de destacadas personalidades de la Administración\, actuaciones musicales y reconoceremos los mejores proyectos del año. \n¿Qué encontrarás en la Gala? \nUna gran representación institucional de alto nivel \nEl evento cuenta con un importante respaldo institucional\, ya que han confirmado su asistencia diversas personalidades del Ministerio para la Transición Energética y el Reto Demográfico (MITERD): \n\nSara Aagesen\, Secretaria de Estado de Energía\, presidirá la Gala\nVíctor Marcos Morell\, director general de Planificación y Coordinación Energética\, ofrecerá una ponencia sobre el sistema de Certificados de Ahorro Energético (CAE)\nJacobo Llerena\, Subdirector General de Eficiencia Energética\n\nAdemás\, la Gala reúne a otros representantes institucionales\, como el IDAE\, las agencias de la energía y otros agentes relevantes del sector de la energía. \nUna ocasión única para el networking   \nLa Gala concluye con un cóctel networking. ¡El broche perfecto para este gran evento! Podrás compartir experiencias y establecer contactos de valor con cientos de  profesionales del sector en un ambiente relajado. \nPermite conocer las actuaciones destacadas del año \nDurante el evento tendrá lugar la entrega de los XI Premios Eficiencia Energética y Sostenibilidad\, impulsados por la Asociación de Empresas de Eficiencia Energética (A3E) y que se han consolidado como todo un referente para el sector. ¿Quién sabe? ¡Tu podrías ser el ganador el próximo año! \nYa puedes saber quienes son los finalistas de este año. Pulsa en el siguiente enlace y te lo contamos FINALISTAS XI Premios   \nAdemás este año la propia Subdirección de Eficiencia Energética del MITERD será reconocida por su papel protagonista en el sector de la eficiencia energética de España.
URL:https://clusterteib.es/evento/madrid-a3e-gala-eficiencia-energetica-y-sostenibilidad/
LOCATION:Auditorio Principe Pio\, Cta. de San Vicente\, 44\, Moncloa - Aravaca\, Madrid\, Madrid\, 28008\, España
CATEGORIES:Eventos presenciales
ATTACH;FMTTYPE=image/jpeg:https://clusterteib.es/wp-content/uploads/2024/11/Diseno-sin-titulo-7_20241002113819_20241008161957.jpg
END:VEVENT
BEGIN:VEVENT
DTSTART;TZID=Europe/Madrid:20241128T093000
DTEND;TZID=Europe/Madrid:20241128T123000
DTSTAMP:20260419T172330
CREATED:20241118T141659Z
LAST-MODIFIED:20241119T111608Z
UID:10000368-1732786200-1732797000@clusterteib.es
SUMMARY:Taller de cocreación en la economía azul balear
DESCRIPTION:Se trata de un workshop o taller organizado por el Clúster Marítimo y Logístico de las Illes Balears\, en el marco del Proyecto Interreg Euro Med «Blue Ecosystem«. \nEl proyecto tiene en cuenta las necesidades de las partes interesadas de la quíntuple hélice para mejorar la innovación y las capacidades de investigación a través de un enfoque de co-creación transformador y territorial. \nBLUE ECOSYSTEM se encuentra liderado por la Región de la Emilia Romana y uno de los resultados a lograr\, es la creación de laboratorios de aceleración regional (llamados «laboratorios TRAIN») en diversas regiones del Mar Mediterráneo\, como son las Illes Balears en España\, la región de la Emilia-Romana en Italia\, la región Sud-Occitània en Francia\, el condado de Zadar en Croacia\, la región de Àtica en Grecia\, la región del Alentejo en Portugal y en Albania. Estos laboratorios funcionarán con espacios de intercambio y experimentación aplicada. \nEl paso anterior para la creación de los Laboratorios de Aceleración es diseñar los talleres de co-creación en cada región. \nEn las Islas Baleares\, convocamos a este taller con el objetivo de identificar los principales retos de la economía azul para la región\, identificar a los actores implicados de la quíntuple hélice y crear un laboratorio TRAIN\, con las metodologías comunes del proyecto. \nTambién\, en la primera mitad del año 2025\, y basándonos en el resultado de este taller\, haremos una convocatoria de ideas innovadoras para darle solución a los retos identificados y los ganadores obtendrán como premio\, la aceleración de su idea.
URL:https://clusterteib.es/evento/taller-de-cocreacion-en-la-economia-azul-balear/
LOCATION:Sede Autoridad Portuaria de Baleares
CATEGORIES:Eventos presenciales
ATTACH;FMTTYPE=image/jpeg:https://clusterteib.es/wp-content/uploads/2024/11/1719138609084.jpeg
END:VEVENT
BEGIN:VEVENT
DTSTART;TZID=Europe/Madrid:20241128T113000
DTEND;TZID=Europe/Madrid:20241128T123000
DTSTAMP:20260419T172330
CREATED:20241111T153826Z
LAST-MODIFIED:20241111T154914Z
UID:10000366-1732793400-1732797000@clusterteib.es
SUMMARY:UNLOCK - 3a reunió de stakeholders
DESCRIPTION:Des de Projectes Estratègics i Relacions Institucionals han convocat la tercera reunió de col·laboració en el marc del projecte del programa INTERREG Europe\, UNLOCK\, el dia 28 de novembre de 2024 a les 11.30h a la Sala de Juntes del Consell de Mallorca.\n\nDes de l’última reunió que van tenir\, el Consell de Mallorca ha avançat en la consecució dels objectius del projecte UNLOCK i ha participat en reunions i activitats relacionades amb aquest\, tant a nivell local com europeu. Les més destacables són la visita al soci polonès del projecte per a observar les seves iniciatives en el marc de l’hidrogen verd i les pimes i la col·laboració establerta amb el SOIB per al desenvolupament d’activitats formatives a Mallorca per a pimes i aturats en diversos aspectes relacionats amb aquesta font d’energia.\n\n\nÉs per això\, que convoquen de nou als actors rellevants en l’àmbit de l’hidrogen verd a Mallorca\, per a poder fer una actualització de la situació\, així com presentar l’esbós de projecte formatiu del Consell i comptar amb la col·laboració de les entitats interessades.\n\n\nUs agrairíem que ens confirméssiu la vostra assistència a la reunió.\n\nPer a més informació: UNLOCK
URL:https://clusterteib.es/evento/unlock-3a-reunio-de-stakeholders/
LOCATION:Sala de Juntes del Consell de Mallorca\, Carrer del Palau Reial\, 1\, Palma\, España
ATTACH;FMTTYPE=image/png:https://clusterteib.es/wp-content/uploads/2024/11/Captura-de-pantalla-2024-11-11-163431.png
END:VEVENT
END:VCALENDAR