BEGIN:VCALENDAR
VERSION:2.0
PRODID:-//Clúster TEIB - ECPv6.15.15//NONSGML v1.0//EN
CALSCALE:GREGORIAN
METHOD:PUBLISH
X-WR-CALNAME:Clúster TEIB
X-ORIGINAL-URL:https://clusterteib.es
X-WR-CALDESC:Eventos para Clúster TEIB
REFRESH-INTERVAL;VALUE=DURATION:PT1H
X-Robots-Tag:noindex
X-PUBLISHED-TTL:PT1H
BEGIN:VTIMEZONE
TZID:Europe/Madrid
BEGIN:DAYLIGHT
TZOFFSETFROM:+0100
TZOFFSETTO:+0200
TZNAME:CEST
DTSTART:20230326T010000
END:DAYLIGHT
BEGIN:STANDARD
TZOFFSETFROM:+0200
TZOFFSETTO:+0100
TZNAME:CET
DTSTART:20231029T010000
END:STANDARD
BEGIN:DAYLIGHT
TZOFFSETFROM:+0100
TZOFFSETTO:+0200
TZNAME:CEST
DTSTART:20240331T010000
END:DAYLIGHT
BEGIN:STANDARD
TZOFFSETFROM:+0200
TZOFFSETTO:+0100
TZNAME:CET
DTSTART:20241027T010000
END:STANDARD
BEGIN:DAYLIGHT
TZOFFSETFROM:+0100
TZOFFSETTO:+0200
TZNAME:CEST
DTSTART:20250330T010000
END:DAYLIGHT
BEGIN:STANDARD
TZOFFSETFROM:+0200
TZOFFSETTO:+0100
TZNAME:CET
DTSTART:20251026T010000
END:STANDARD
END:VTIMEZONE
BEGIN:VEVENT
DTSTART;VALUE=DATE:20240129
DTEND;VALUE=DATE:20240204
DTSTAMP:20260420T081343
CREATED:20231205T190421Z
LAST-MODIFIED:20240103T155522Z
UID:10000144-1706490000-1706921999@clusterteib.es
SUMMARY:Semana de la financiación de la I+D+i con CDTI
DESCRIPTION:Próximamente más detalles
URL:https://clusterteib.es/evento/semana-de-la-financiacion-de-la-idi-con-cdti/
LOCATION:València
CATEGORIES:Eventos presenciales
ORGANIZER;CN="Cl%C3%BAster de Transici%C3%B3n Ecol%C3%B3gica de las Illes Balears":MAILTO:info@clusterteib.com
END:VEVENT
BEGIN:VEVENT
DTSTART;VALUE=DATE:20240206
DTEND;VALUE=DATE:20240210
DTSTAMP:20260420T081343
CREATED:20231205T182418Z
LAST-MODIFIED:20231205T182445Z
UID:10000140-1707181200-1707440399@clusterteib.es
SUMMARY:Feria GENERA Madrid
DESCRIPTION:GENERA\, Feria Internacional de Energía y Medioambiente.\n\n\n\n\nGENERA\,  la mayor plataforma comercial para esta industria \, con el apoyo del Instituto para la Diversificación y Ahorro de la Energía\, IDAE (Ministerio para la Transición Ecológica y el Reto Demográfico) así como con el renovado respaldo de los principales agentes de este importante sector económico.
URL:https://clusterteib.es/evento/feria-genera-madrid/
LOCATION:IFEMA Madrid\, Av. del Partenón\, 5\, 28042 Madrid\, Madrid
END:VEVENT
BEGIN:VEVENT
DTSTART;TZID=Europe/Madrid:20240214T080000
DTEND;TZID=Europe/Madrid:20240214T170000
DTSTAMP:20260420T081343
CREATED:20231205T175330Z
LAST-MODIFIED:20240227T111425Z
UID:10000101-1707897600-1707930000@clusterteib.es
SUMMARY:Jornada flexibilidad de la demanda
DESCRIPTION:Jornada de flexibilidad de la demanda
URL:https://clusterteib.es/evento/jornada-flexibilidad-de-la-demanda/
LOCATION:Consellería de Transició Energètica\, Sectors Productius i Memòria Democràtica\, Plaça de Son Castelló\, 1\, Palma\, Illes Balears\, España
CATEGORIES:Eventos presenciales,Networking
ORGANIZER;CN="Cl%C3%BAster de Transici%C3%B3n Ecol%C3%B3gica de las Illes Balears":MAILTO:info@clusterteib.com
END:VEVENT
BEGIN:VEVENT
DTSTART;TZID=Europe/Madrid:20240215T090000
DTEND;TZID=Europe/Madrid:20240215T130000
DTSTAMP:20260420T081343
CREATED:20240125T081719Z
LAST-MODIFIED:20240125T082035Z
UID:10000168-1707987600-1708002000@clusterteib.es
SUMMARY:Jornada Asima Innova. Liderar: Nuevos retos y oportunidades con la conferencia de Luis Galindo
DESCRIPTION:
URL:https://clusterteib.es/evento/jornada-asima-innova-liderar-nuevos-retos-y-oportunidades-con-la-conferencia-de-luis-galindo/
LOCATION:Antiguo Parque de Bomberos de ASIMA\, Carrer Gremi Picapedrers\, 1\, Palma\, Illes Balears\, 07009\, España
CATEGORIES:Eventos presenciales
END:VEVENT
BEGIN:VEVENT
DTSTART;TZID=Europe/Madrid:20240216T080000
DTEND;TZID=Europe/Madrid:20240216T170000
DTSTAMP:20260420T081343
CREATED:20231205T180206Z
LAST-MODIFIED:20240130T104057Z
UID:10000104-1708070400-1708102800@clusterteib.es
SUMMARY:Reunión de Junta Directiva
DESCRIPTION:
URL:https://clusterteib.es/evento/reunion-de-junta-directiva/2024-02-16/
LOCATION:València
CATEGORIES:Asamblea
ORGANIZER;CN="Cl%C3%BAster de Transici%C3%B3n Ecol%C3%B3gica de las Illes Balears":MAILTO:info@clusterteib.com
END:VEVENT
BEGIN:VEVENT
DTSTART;TZID=Europe/Madrid:20240222T120000
DTEND;TZID=Europe/Madrid:20240222T140000
DTSTAMP:20260420T081343
CREATED:20240215T100514Z
LAST-MODIFIED:20240215T100540Z
UID:10000169-1708603200-1708610400@clusterteib.es
SUMMARY:Mesa redonda: placas solares en comunidades de propietarios CAFBAL
DESCRIPTION:DIFICULTADOS Y FRENOS EN LA INSTALACIÓN – ANÁLISIS DEL SECTOR
URL:https://clusterteib.es/evento/mesa-redonda-placas-solares-en-comunidades-de-propietarios-cafbal/
LOCATION:Colegio de Administradores de Fincas de Illes Balears\, C/ Vinyassa\, 27\, Palma\, Illes Balears\, España
CATEGORIES:Eventos presenciales
END:VEVENT
BEGIN:VEVENT
DTSTART;TZID=Europe/Madrid:20240223T120000
DTEND;TZID=Europe/Madrid:20240223T130000
DTSTAMP:20260420T081343
CREATED:20240227T105830Z
LAST-MODIFIED:20240227T111235Z
UID:10000172-1708689600-1708693200@clusterteib.es
SUMMARY:Kick off meeting Clean Energy for EU Islands
DESCRIPTION:
URL:https://clusterteib.es/evento/kick-off-meeting-clean-energy-for-eu-islands/
LOCATION:València
CATEGORIES:Reunión grupo de trabajo
ORGANIZER;CN="Cl%C3%BAster de Transici%C3%B3n Ecol%C3%B3gica de las Illes Balears":MAILTO:info@clusterteib.com
END:VEVENT
BEGIN:VEVENT
DTSTART;TZID=Europe/Madrid:20240228T093000
DTEND;TZID=Europe/Madrid:20240228T133000
DTSTAMP:20260420T081343
CREATED:20240227T105458Z
LAST-MODIFIED:20240227T140732Z
UID:10000170-1709112600-1709127000@clusterteib.es
SUMMARY:Jornada sobre CE y autoconsumos colectivos en poligonos
DESCRIPTION:Descubre las últimas innovaciones:\n▪️ Diferentes modelos de autoconsumo colectivo: profundizamos en las opciones públicas y privadas disponibles en el mercado.\n▪️ Comunidades energéticas: ¿cómo podemos unirnos para un futuro más verde?\n▪️ Nuevas aplicaciones para gestionar los autoconsumos colectivos.\n▪️ Líneas de subvenciones: información clave sobre como acceder a ayudas para autoconsumos y comunidades energéticas. \n  \nInscripiones: https://docs.google.com/forms/d/e/1FAIpQLSehBWLzAvFusTrCoowIm81grIuwmcBKtOEtq2Qx_hNKmYIXQQ/viewform \n 
URL:https://clusterteib.es/evento/jornada-sobre-ce-y-autoconsumos-colectivos-en-poligonos/
LOCATION:Consellería de Transició Energètica\, Sectors Productius i Memòria Democràtica\, Plaça de Son Castelló\, 1\, Palma\, Illes Balears\, España
END:VEVENT
END:VCALENDAR