BEGIN:VCALENDAR
VERSION:2.0
PRODID:-//Clúster TEIB - ECPv6.15.15//NONSGML v1.0//EN
CALSCALE:GREGORIAN
METHOD:PUBLISH
X-ORIGINAL-URL:https://clusterteib.es
X-WR-CALDESC:Eventos para Clúster TEIB
REFRESH-INTERVAL;VALUE=DURATION:PT1H
X-Robots-Tag:noindex
X-PUBLISHED-TTL:PT1H
BEGIN:VTIMEZONE
TZID:Europe/Madrid
BEGIN:DAYLIGHT
TZOFFSETFROM:+0100
TZOFFSETTO:+0200
TZNAME:CEST
DTSTART:20220327T010000
END:DAYLIGHT
BEGIN:STANDARD
TZOFFSETFROM:+0200
TZOFFSETTO:+0100
TZNAME:CET
DTSTART:20221030T010000
END:STANDARD
BEGIN:DAYLIGHT
TZOFFSETFROM:+0100
TZOFFSETTO:+0200
TZNAME:CEST
DTSTART:20230326T010000
END:DAYLIGHT
BEGIN:STANDARD
TZOFFSETFROM:+0200
TZOFFSETTO:+0100
TZNAME:CET
DTSTART:20231029T010000
END:STANDARD
BEGIN:DAYLIGHT
TZOFFSETFROM:+0100
TZOFFSETTO:+0200
TZNAME:CEST
DTSTART:20240331T010000
END:DAYLIGHT
BEGIN:STANDARD
TZOFFSETFROM:+0200
TZOFFSETTO:+0100
TZNAME:CET
DTSTART:20241027T010000
END:STANDARD
END:VTIMEZONE
BEGIN:VEVENT
DTSTART;TZID=Europe/Madrid:20231103T120000
DTEND;TZID=Europe/Madrid:20231103T140000
DTSTAMP:20260420T130244
CREATED:20230103T093934Z
LAST-MODIFIED:20231013T075723Z
UID:10000020-1699012800-1699020000@clusterteib.es
SUMMARY:Junta Directiva
DESCRIPTION:
URL:https://clusterteib.es/evento/asamblea-general-ordinaria-elecciones/
LOCATION:València
CATEGORIES:Asamblea
END:VEVENT
BEGIN:VEVENT
DTSTART;TZID=Europe/Madrid:20231107T100000
DTEND;TZID=Europe/Madrid:20231107T120000
DTSTAMP:20260420T130244
CREATED:20231102T152844Z
LAST-MODIFIED:20231102T152948Z
UID:10000082-1699351200-1699358400@clusterteib.es
SUMMARY:Webinar online "Horitzó Europa Balears Cluster 5 (Clima) i Cluster 6 (Alimentació\, Bioeconomia\, Recursos Naturals\, Agricultura i Medi Ambient)”
DESCRIPTION:La Direcció General de Recerca\, Innovació i Transformació Digital i el Centro para el Desarrollo Tecnológico y la Innovación (CDTI)\, amb el suport de la  Fundació Bit\, organitza el 7 de novembre un Webinar format Infoday online del programa Horitzó Europa\, més concretament del Cluster 5 (Clima) i Cluster 6 (Alimentació\, Bioeconomia\, Recursos Naturals\, Agricultura i Medi Ambient)\, per informar de les oportunitats del programa de treball i convocatòries (WP 2023-2024). \nA la jornada participaran els Punts Nacionals de Contacte (NCP) del CDTI\, que informaran del contingut i estructura de les convocatòries. També s’abordaran les novetats que incorpora aquest programa de treball i es donaran recomanacions per preparar una proposta amb èxit. El Webinar comptarà amb les intervencions de Juan Carlos García Carrasco\, del Departament de Reptes Socials\, Direcció de Programes de la UE i Cooperació Territorial\, CDTI; Omar Beidas\, Cap de servei d’Innovació\, Govern de les Illes Balears; Immaculada Salamanca\, Coordinadora de Projectes i Comunicació RDI de la Fundació Bit. \nDiferents participants en projectes compartiran la seva experiència en una taula rodona sobre experiències professionals. Dolores Ordóñez (Any Solution\, Projecte Spade) ens donarà les claus sobre les cadenes agro-alimentàries sostenibles; José Luis Merino (Sampol)\, compartirà la seva experiència professional en projectes d’energia (H2020 i FP7); i Diego Olmo (IRFAPIB\, Projecte BeXyl) parlarà sobre les estratègies de gestió integrada per a mitigar l’impacte de la Xylella fastidiosa a Europa. \nConsulta el programa complet aquí.\nInscripcions aquí.\nMés informació: innovacio@fundaciobit.org.\nData: 7 de novembre.\nModalitat: Online.\nContacte: 971 17 60 60 – innovacio@fundaciobit.org\nTens un projecte d’innovació disruptiva en alimentació\, bioeconomia\,\nrecursos naturals\, agricultura i medi ambient o clima? Vols presentar-lo a finançament europeu?\nParticipa en aquest webinar per a tenir més informació sobre les possibilitats del programa Horitzó Europa.
URL:https://clusterteib.es/evento/webinar-online-horitzo-europa-balears-cluster-5-clima-i-cluster-6-alimentacio-bioeconomia-recursos-naturals-agricultura-i-medi-ambient/
LOCATION:València
CATEGORIES:Webinars
END:VEVENT
BEGIN:VEVENT
DTSTART;TZID=Europe/Madrid:20231108T100000
DTEND;TZID=Europe/Madrid:20231108T123000
DTSTAMP:20260420T130244
CREATED:20231027T092852Z
LAST-MODIFIED:20231027T103053Z
UID:10000081-1699437600-1699446600@clusterteib.es
SUMMARY:Els CAE com a palanca pel finançament dels projectes d’eficiència energètica
DESCRIPTION:El proper 8 de novembre el Clúster de l’Energia Eficient de Catalunya (CEEC) organitza una jornada sota el títol «Els CAE com a palanca pel finançament dels projectes d’eficiència energètica» que té per objectius: \n1. Donar a conèixer el GT de finançament del CEEC\, així com conèixer de primera mà a entitats finançadores durant el networking.\n2. Informar i aclarir\, principalment als generadors de CAEs (ESEs\, clients finals\, altres)\, de forma molt pràctica com es poden monetitzar els CAEs\, com poden ajudar a finançar altres projectes\, en quin moment es monetitzen\, quines contrapartides\nexisteixen\, quines garanties i obligacions\, altres. \n  \nEn aquesta jornada\, hi participarà Tramiteco\, soci del Clúster TEIB\, amb la «Presentació de la implantació dels instruments CAES a les Illes Balears«.
URL:https://clusterteib.es/evento/els-cae-com-a-palanca-pel-financament-dels-projectes-deficiencia-energetica/
LOCATION:Districte Administratiu de la Generalitat de Catalunya\, Carrer del Foc\, 57\, Barcelona\, 08038
CATEGORIES:Eventos presenciales
END:VEVENT
BEGIN:VEVENT
DTSTART;TZID=Europe/Madrid:20231108T160000
DTEND;TZID=Europe/Madrid:20231108T180000
DTSTAMP:20260420T130244
CREATED:20231102T161104Z
LAST-MODIFIED:20231102T170139Z
UID:10000083-1699459200-1699466400@clusterteib.es
SUMMARY:Jornada técnica "Conectando la energía y las telecomunicaciones en las Islas Baleares"
DESCRIPTION:🚀El próximo 8 de noviembre el Clúster de Transició Ecològica de les Illes Balears TEIB junto a Reintel (empresa del grupo Redeia\, Red Eléctrica de España) organizamos la jornada técnica «Conectando la energía y las telecomunicaciones en las Islas Baleares» \n🎯 El objetivo de la ponencia es dar a conocer a las empresas de teleco las infraestructuras ya creadas y puedan hacer uso de ellas haciendo proyectos más eficientes\, tanto en términos económicos como en términos de sostenibilidad. \n📍Edificio Naorte\, C/ Isaac Newton\, bloque A\, planta baja\, puerta 6\, 07121 Palma\, Illes Balears\n🌐 También online. \nEs un evento gratuito con previa inscripción
URL:https://clusterteib.es/evento/jornada-tecnica-conectando-la-energia-y-las-telecomunicaciones-en-las-islas-baleares/
LOCATION:GsBIT\, Edificio Naorte\, C/ Isaac Newton\, bloque A\, planta baja\, puerta 6\, 07121 Palma\, Illes Balears\, Palma\, 07120\, España
CATEGORIES:Eventos presenciales,Formaciones y seminarios
ORGANIZER;CN="Cl%C3%BAster de Transici%C3%B3n Ecol%C3%B3gica de las Illes Balears":MAILTO:info@clusterteib.com
END:VEVENT
BEGIN:VEVENT
DTSTART;TZID=Europe/Madrid:20231109T110000
DTEND;TZID=Europe/Madrid:20231109T123000
DTSTAMP:20260420T130244
CREATED:20231019T134941Z
LAST-MODIFIED:20231019T134941Z
UID:10000079-1699527600-1699533000@clusterteib.es
SUMMARY:Webinar: Decarbonizing Islands through hydrogen: what challenges and opportunities?
DESCRIPTION:Join Green Hysland and the EU islands secretariat to explore the transformative power of hydrogen in island communities as well as understand the hurdles and prospects. \nRenewable hydrogen is universally considered an important energy vector in the global efforts to limit greenhouse gas emissions\, with the potential to decarbonize also hard to abate sectors\, bring flexibility to energy systems\, create energy storage opportunities and enhance sector coupling. \nThis is especially true for islands\, whose territories are particularly favourable for the production of hydrogen thanks to their closeness to water\, and to their remoteness\, resulting in a difficulty to be connected to national energy grids. \nHydrogen\, on the other hand\, allows long-term storage of excess electricity\, and guarantees energy security when renewable energy production is lower\, hence energy independence from fossil fuels imports. \nThe aim of the workshop is to present what are the challenges and opportunities for hydrogen’s uptake in islands\, and the steps to integrate this versatile energy vector to their energy systems.  To do so\, 3 geographically different islands with different levels of advancement in hydrogen deployment (roadmap for hydrogen\, project planning and funding\, and project implementation) will present their best practices. \nRegister here.
URL:https://clusterteib.es/evento/webinar-decarbonizing-islands-through-hydrogen-what-challenges-and-opportunities/
LOCATION:València
CATEGORIES:Webinars
END:VEVENT
BEGIN:VEVENT
DTSTART;TZID=Europe/Madrid:20231110T090000
DTEND;TZID=Europe/Madrid:20231110T130000
DTSTAMP:20260420T130244
CREATED:20231026T102334Z
LAST-MODIFIED:20231026T102457Z
UID:10000080-1699606800-1699621200@clusterteib.es
SUMMARY:Clusters Day 2023
DESCRIPTION:El Govern de les Illes Balears\, a través de la Consellería de Economía\, Hacienda e Innovación y la Dirección General de Investigación\, Innovación y Transformación Digital\, y con la colaboración de la Fundación Bit y las Agrupaciones Empresariales Innovadoras de las Islas Baleares (AEIB)\, organiza la segunda edición de la Jornada de Empresas Innovadoras (Clusters Day)\, que tendrá lugar el día 10 de noviembre a partir de las 9:00 h\, en las instalaciones del ParcBit.
URL:https://clusterteib.es/evento/clusters-day-2023/
LOCATION:Autori del ParcBIT\, Centre Empresarial\, Palma\, Illes Balears\, España
CATEGORIES:Eventos presenciales
END:VEVENT
BEGIN:VEVENT
DTSTART;VALUE=DATE:20231114
DTEND;VALUE=DATE:20231118
DTSTAMP:20260420T130244
CREATED:20230717T080510Z
LAST-MODIFIED:20230717T080730Z
UID:10000067-1699923600-1700182799@clusterteib.es
SUMMARY:Energy Global Expo & Congress
DESCRIPTION:EGEC’23 nace como un punto de encuentro energético a nivel nacional e internacional\, con el objetivo de conocer los retos actuales en materia energética y climática\, los protagonistas de la Transición Energética actual\, así como el promover y permitir la adopción de tecnologías\, soluciones y herramientas que permitan paliar la crisis energética y acelerar la transición ecológica. \nMisión\nEGEC’23 nace para dinamizar el conjunto del sector energético de la C.V. y nacional\, ayudando a mejorar sus niveles de competitividad hacia un mercado global\, desde una estructura regional. \nEGEC’23 será un foro de empresas con intereses en el sector energético\, en el cual puedan mostrar su potencial empresarial\, así como poner en valor su capacidad de innovación y diferenciación competitiva. \nEGEC’23 nace en la Comunidad Valenciana\, pero tiene vocación nacional e internacional\, donde la cooperación\, innovación y proactividad estarán presentes entre los participantes\, siempre en busca de la excelencia dentro de un sector estratégico como lo es el energético.
URL:https://clusterteib.es/evento/energy-global-expo-congress/
LOCATION:Feria València N3 – P1\, Av. de les Fires\, s/n\, Valencia\, València\, 46035\, España
CATEGORIES:Eventos presenciales
END:VEVENT
BEGIN:VEVENT
DTSTART;TZID=Europe/Madrid:20231115T080000
DTEND;TZID=Europe/Madrid:20231116T170000
DTSTAMP:20260420T130244
CREATED:20231109T174539Z
LAST-MODIFIED:20231109T174539Z
UID:10000085-1700035200-1700154000@clusterteib.es
SUMMARY:Simposio UNLOCK H2
DESCRIPTION:
URL:https://clusterteib.es/evento/simposio-unlock-h2/
LOCATION:València
CATEGORIES:Eventos presenciales
END:VEVENT
BEGIN:VEVENT
DTSTART;TZID=Europe/Madrid:20231116T090000
DTEND;TZID=Europe/Madrid:20231116T143000
DTSTAMP:20260420T130244
CREATED:20231110T164229Z
LAST-MODIFIED:20231110T165938Z
UID:10000086-1700125200-1700145000@clusterteib.es
SUMMARY:Valencia Redit Summit 2023: una nueva cita en torno a la transferencia tecnológica de la Red
DESCRIPTION:  \nREDIT Summit; evento que\, organizado por la Red de Institutos Tecnológicos de la C.Valenciana (REDIT)\, tendrá lugar el próximo 16 de noviembre\, a partir de las 9h horas\, en l’Oceanogràfic de Valencia\, sito en la C/ Eduardo Primo Yúfera\, 1B\, 46013 València. \nEste encuentro pretende abordar\, desde la experiencia de los Institutos Tecnológicos\, la oportunidad que supone la I+D+i para las empresas; siendo éste uno de los factores estratégicos que más influyen en su competitividad; más si cabe\, en un entorno global y tan complejo como el actual. \nTal y como podrás comprobar en el programa adjunto\, esta nueva edición permitirá conocer las últimas novedades científico-tecnológicas desarrolladas por los institutos tecnológicos\, así como conocer los proyectos que estos han llevado a cabo con algunos de los principales exponentes empresariales de la Comunidad Valenciana (Grefusa\, Satis Coating\, Juema\, Plastire\, Lurbel\, Garvalín\, SPB Global Corporation\, Unecol\, Vibrantz Technologies\, Hess Tech y Orizon). Además\, nos acompañarán\, como ponentes principales\, José Carmena\, fundador y co-Ceo de Iota Biosciences; Verónica Sanz\, investigadora distinguida ‘Beatriz Galindo’ del Instituto de Física Corpuscular (IFIC); David Álvarez\, Jefe del Regimiento de Transmisiones Nº 21; y José Ángel Mayoralas\, EMEAR Sales Enterprise Strategist en Cisco Systems. \nAdemás\, contaremos con la participación de importantes empresas nacionales e internacionales (Amazon Fresh\, DHL\, Iryo\, Plug and Play\, BigBuy\, Kyndryl Spain…)\, que ponen de relieve la consolidación de este evento entre el tejido industrial\, gracias a la colaboración del Instituto Valenciano de Competitividad Empresarial (IVACE). Durante el desarrollo de la jornada habrá testimonios en primera persona que sólo se podrán conocer en directo el mismo día de la celebración y que aportarán una visión diferente e innovadora del potencial valenciano alrededor del mundo.
URL:https://clusterteib.es/evento/valencia-redit-summit-2023-una-nueva-cita-en-torno-a-la-transferencia-tecnologica-de-la-red/
LOCATION:Oceanografic de Valencia\, C/ Eduardo Primo Yúfera\, 1B\,\, València\, València\, 46013
CATEGORIES:Eventos presenciales
END:VEVENT
END:VCALENDAR