BEGIN:VCALENDAR
VERSION:2.0
PRODID:-//Clúster TEIB - ECPv6.15.15//NONSGML v1.0//EN
CALSCALE:GREGORIAN
METHOD:PUBLISH
X-ORIGINAL-URL:https://clusterteib.es
X-WR-CALDESC:Eventos para Clúster TEIB
REFRESH-INTERVAL;VALUE=DURATION:PT1H
X-Robots-Tag:noindex
X-PUBLISHED-TTL:PT1H
BEGIN:VTIMEZONE
TZID:Europe/Madrid
BEGIN:DAYLIGHT
TZOFFSETFROM:+0100
TZOFFSETTO:+0200
TZNAME:CEST
DTSTART:20220327T010000
END:DAYLIGHT
BEGIN:STANDARD
TZOFFSETFROM:+0200
TZOFFSETTO:+0100
TZNAME:CET
DTSTART:20221030T010000
END:STANDARD
BEGIN:DAYLIGHT
TZOFFSETFROM:+0100
TZOFFSETTO:+0200
TZNAME:CEST
DTSTART:20230326T010000
END:DAYLIGHT
BEGIN:STANDARD
TZOFFSETFROM:+0200
TZOFFSETTO:+0100
TZNAME:CET
DTSTART:20231029T010000
END:STANDARD
BEGIN:DAYLIGHT
TZOFFSETFROM:+0100
TZOFFSETTO:+0200
TZNAME:CEST
DTSTART:20240331T010000
END:DAYLIGHT
BEGIN:STANDARD
TZOFFSETFROM:+0200
TZOFFSETTO:+0100
TZNAME:CET
DTSTART:20241027T010000
END:STANDARD
END:VTIMEZONE
BEGIN:VEVENT
DTSTART;VALUE=DATE:20231002
DTEND;VALUE=DATE:20231005
DTSTAMP:20260420T145648
CREATED:20230930T112835Z
LAST-MODIFIED:20230930T121002Z
UID:10000076-1696208400-1696381199@clusterteib.es
SUMMARY:Congreso Nacional de Industria y Pyme
DESCRIPTION:El Ministerio de Industria\, Comercio y Turismo organiza la sexta edición del Congreso Nacional de Industria y Pyme los próximos días 2 y 3 de octubre en el FYCMA – Palacio de Ferias y Congresos de Málaga. \nBajo el lema: “Net Zero: la industria del futuro” esta edición no sólo abordará la industria 4.0\, sino también los grandes retos a los que se enfrenta el conjunto de la industria y de las pymes españolas como la descarbonización\, la inteligencia artificial\, la soberanía industrial y tecnológica o la atracción del talento.
URL:https://clusterteib.es/evento/congreso-nacional-de-industria-y-pyme/
LOCATION:Palacio de Ferias y Congresos de Málaga: FYCMA\, Avd. de José Ortega y Gasset\, 201\, Málaga\, España
END:VEVENT
BEGIN:VEVENT
DTSTART;TZID=Europe/Madrid:20231004T080000
DTEND;TZID=Europe/Madrid:20231006T203000
DTSTAMP:20260420T145648
CREATED:20230622T101604Z
LAST-MODIFIED:20230719T131925Z
UID:10000065-1696406400-1696624200@clusterteib.es
SUMMARY:II Simposium Urban Solutions
DESCRIPTION:Cluregal\, el Cluster enerxías renovables de Galicia\, organiza el II Simposium Urban Solutions\, un evento de referiencia que aglutina a sectores tan importantes como son el energético\, la sostenibilidad\, la iluminación\, la movilidad\, los parques\, las infraestructuras urbanas\, las instalaciones y todo aquello relacionado con las ciudades. \nSe trata de sectores que siempre se mantienen a la vanguardia del desarrollo y de la innovación y que necesitan puntos de encuentro para la interacción de los diferentes agentes. El Simposium Urban Solutions reunirá a empresas y profesionales relacionados con la ingeniería y la arquitectura y técnicos de la administración local y otras administraciones públicas para conocer soluciones técnicas en torno a las ciudades \nLa primera edición reunió el pasado mes de octubre a un importante número de expertos en el Círculo de Empresarios de Vigo. En el siguiente enlace puede ver esa información y los avances en la nueva convocatoria: https://urbansimposium.com/ \nConsulta el programa de esta edición de 2023  aquí.
URL:https://clusterteib.es/evento/ii-simposium-urban-solutions/
LOCATION:Edificio CINC. Ciudad da Cultura de Galicia\, Cidade da Cultura de Galicia\, Edificio Centro de Innovación Cultural (CINC)\, Monte Gaiás\, s/n\, 15707 Santiago de Compostela\, A Coruña\, Santiago de Compostela\, A Coruña\, 15707\, España
CATEGORIES:Eventos presenciales
ORGANIZER;CN="CLUREGAL":MAILTO:administracion@cluergal.org
END:VEVENT
BEGIN:VEVENT
DTSTART;TZID=Europe/Madrid:20231010T080000
DTEND;TZID=Europe/Madrid:20231013T170000
DTSTAMP:20260420T145648
CREATED:20230904T082556Z
LAST-MODIFIED:20230904T082719Z
UID:10000073-1696924800-1697216400@clusterteib.es
SUMMARY:Feria Pollutec 2023
DESCRIPTION:Del 10 al 13 de octubre de 2023\, se celebra en Lyon la feria Pollutec 2023\, un evento internacional de referencia en los ámbitos de medio ambiente\, energía y economía circular. \nDentro de esta feria\, se llevará a cabo el Brokerage Event Green Days 2023\, una oportunidad para conectar con empresas\, centros tecnológicos y otros expertos en medio ambiente\, energía y economía circular. Podrás descubrir nuevas tecnologías\, encontrar potenciales clientes y socios internacionales\, además de compartir conocimientos y estar al día de las oportunidades de financiamiento y subvenciones.
URL:https://clusterteib.es/evento/feria-pollutec-2023/
LOCATION:Eurexpo Lyon\, Bd de l'Europe\, 69680 Chassieu\, Francia\, Chassieu\, Grand Lyon\, 69680\, Francia
CATEGORIES:Formaciones y seminarios
END:VEVENT
BEGIN:VEVENT
DTSTART;TZID=Europe/Madrid:20231020T120000
DTEND;TZID=Europe/Madrid:20231020T130000
DTSTAMP:20260420T145648
CREATED:20231013T075837Z
LAST-MODIFIED:20231013T075837Z
UID:10000077-1697803200-1697806800@clusterteib.es
SUMMARY:Reunión Grupo de Trabajo Innovación
DESCRIPTION:
URL:https://clusterteib.es/evento/reunion-grupo-de-trabajo-innovacion/
LOCATION:Sala de premsa Parc Bit\, C/ Ada Byron\, Edificio NTIC\, Planta 2B\, Palma\, Illes Balears\, 07121\, España
CATEGORIES:Reunión grupo de trabajo
ORGANIZER;CN="Cl%C3%BAster de Transici%C3%B3n Ecol%C3%B3gica de las Illes Balears":MAILTO:info@clusterteib.com
END:VEVENT
BEGIN:VEVENT
DTSTART;TZID=Europe/Madrid:20231025T083000
DTEND;TZID=Europe/Madrid:20231025T203000
DTSTAMP:20260420T145648
CREATED:20230822T020911Z
LAST-MODIFIED:20230822T020933Z
UID:10000071-1698222600-1698265800@clusterteib.es
SUMMARY:CITE2023 Congreso Internacional de la Industria para la Transición Energética
DESCRIPTION:El III Congreso Internacional de la Industria para la Transición Energética (CITE 2023) reunirá el 25 de octubre en el Palacio de Congresos\, Baluarte\, de Pamplona\, a profesionales de la industria eólica\, la solar\, el almacenamiento y el hidrógeno verde. \nEntre éstos\, destaca la presencia de Michael Liebreich\, uno de los principales expertos mundiales en transición energética. Así lo anunció Ana Goyén\, presidenta de Enercluster\, entidad organizadora de este encuentro bienal\, en el que colabora Gobierno de Navarra\, y está patrocinado por Acciona Energía\, Enerfín\, Ingeteam\, Nordex Acciona Windpower\, Ríos Renovables\, EDP\, Grupo Enhol\, Laulagun Bearings\, Sakana Group\, ARPA Abogados Consultores\, Leadernet\, Nabrawind\, RenerCycle\, Iberdrola y Urgon. “Como sector renovable\, el reto y la oportunidad que tenemos por delante son mayúsculos y debemos prepararnos para afrontarlos”\, aseguró. \nLos socios del Cluster TEIB tienen un descuento para su asistencia.
URL:https://clusterteib.es/evento/cite2023-congreso-internacional-de-la-industria-para-la-transicion-energetica/
LOCATION:Navarra Palacio de Congresos y Auditorio de Navarra BALUARTE\, Pl. del Baluarte\, s/n\, Pamplona\, Navarra\, 31002\, España
CATEGORIES:Eventos presenciales
END:VEVENT
BEGIN:VEVENT
DTSTART;TZID=Europe/Madrid:20231026T084500
DTEND;TZID=Europe/Madrid:20231026T170000
DTSTAMP:20260420T145648
CREATED:20231016T100633Z
LAST-MODIFIED:20231016T100947Z
UID:10000078-1698309900-1698339600@clusterteib.es
SUMMARY:ASLAN Foro Tecnológico Mallorca 2023
DESCRIPTION:Las nuevas tecnologías son una pieza clave de la economía digital: la inteligencia artificial\, las redes 5G o los entornos multi-cloud\, entre otros\, están induciendo cambios vertiginosos en los departamentos IT. A su vez\, ofrecen grandes oportunidades para desarrollar nuevos servicios y modelos de negocio tanto a startups\, como a compañías tecnológicas o de otros sectores. \nAspectos fundamentales como la experiencia de cliente\, la reputación corporativa o la elasticidad de crecimiento están condicionados por la agilidad de las empresas a la hora de adoptar nuevas capacidades y procesos apoyados en la tecnología. La inteligencia artificial\, redes 5G\, entornos multi-cloud\, etc. están induciendo cambios vertiginosos en los departamentos de tecnología \nEsta XVII edición del Tour Tecnológico @aslan\, se celebra bajo el título «Seguimos innovando. Seguimos avanzando» y pondrá el foco en la importancia de la ciberseguridad para la Transformación Digital; las nuevas formas de gestionar las infraestructuras híbridas; o el potencial de la inteligencia artificial aplicada a la red.
URL:https://clusterteib.es/evento/aslan-foro-tecnologico-mallorca-2023/
LOCATION:Hotel Victoria Gran Meliá 5*\, Avinguda de Joan Miró\, 21\, Palma\, Illes Balears\, 07014\, España
CATEGORIES:Eventos presenciales,Networking
END:VEVENT
END:VCALENDAR