BEGIN:VCALENDAR
VERSION:2.0
PRODID:-//Clúster TEIB - ECPv6.15.15//NONSGML v1.0//EN
CALSCALE:GREGORIAN
METHOD:PUBLISH
X-WR-CALNAME:Clúster TEIB
X-ORIGINAL-URL:https://clusterteib.es
X-WR-CALDESC:Eventos para Clúster TEIB
REFRESH-INTERVAL;VALUE=DURATION:PT1H
X-Robots-Tag:noindex
X-PUBLISHED-TTL:PT1H
BEGIN:VTIMEZONE
TZID:Europe/Madrid
BEGIN:DAYLIGHT
TZOFFSETFROM:+0100
TZOFFSETTO:+0200
TZNAME:CEST
DTSTART:20220327T010000
END:DAYLIGHT
BEGIN:STANDARD
TZOFFSETFROM:+0200
TZOFFSETTO:+0100
TZNAME:CET
DTSTART:20221030T010000
END:STANDARD
BEGIN:DAYLIGHT
TZOFFSETFROM:+0100
TZOFFSETTO:+0200
TZNAME:CEST
DTSTART:20230326T010000
END:DAYLIGHT
BEGIN:STANDARD
TZOFFSETFROM:+0200
TZOFFSETTO:+0100
TZNAME:CET
DTSTART:20231029T010000
END:STANDARD
BEGIN:DAYLIGHT
TZOFFSETFROM:+0100
TZOFFSETTO:+0200
TZNAME:CEST
DTSTART:20240331T010000
END:DAYLIGHT
BEGIN:STANDARD
TZOFFSETFROM:+0200
TZOFFSETTO:+0100
TZNAME:CET
DTSTART:20241027T010000
END:STANDARD
END:VTIMEZONE
BEGIN:VEVENT
DTSTART;TZID=Europe/Madrid:20230914T100000
DTEND;TZID=Europe/Madrid:20230914T140000
DTSTAMP:20260424T104948
CREATED:20230726T113918Z
LAST-MODIFIED:20230726T114208Z
UID:10000069-1694685600-1694700000@clusterteib.es
SUMMARY:ESG Spain 2023: Corporate Sustainability Forum by Forética
DESCRIPTION:El 14 de septiembre se celebrará la undécima edición de esta cita ineludible para directivos y expertos en sostenibilidad que reúne a líderes de opinión nacionales e internacionales para analizar las tendencias del presente y futuro de la Sostenibilidad\, alineadas con los Objetivos de Desarrollo Sostenible (ODS). \nDesde la óptica empresarial\, se abordan las principales tendencias en el ámbito social\, ambiental y de buen gobierno\, que sentarán las bases hacia un reto común: alcanzar un futuro sostenible. \n\n\n\n\n#ESGSpain2023
URL:https://clusterteib.es/evento/esg-spain-2023-corporate-sustainability-forum-by-foretica/
CATEGORIES:Eventos presenciales
END:VEVENT
BEGIN:VEVENT
DTSTART;TZID=Europe/Madrid:20230914T120000
DTEND;TZID=Europe/Madrid:20230914T140000
DTSTAMP:20260424T104948
CREATED:20230830T132608Z
LAST-MODIFIED:20230830T133609Z
UID:10000072-1694692800-1694700000@clusterteib.es
SUMMARY:UIB: De la sostenibilitat a la regeneració: com impulsar projectes sostenibles i transformadors
DESCRIPTION:Ponent: Anna Pons. Biòloga Ambiental especialista en canvi climàtic i gestió de projectes sostenibles\nEn línia\, 14 setembre 2023 de  12h – 14h\nOrganitzat per: Universitat de les Illes Balears\n\nLa noció de sostenibilitat està sent renovada amb enfocaments innovadors basats en l’economia circular i en la regeneració. Aquests enfocaments transcendeixen els límits del model lineal tradicional\, on els recursos s’extreuen\, utilitzen i rebutgen\, i en el seu lloc\, persegueixen tancar els cicles de vida dels productes\, regenerar ecosistemes i fomentar la cooperació entre diferents sectors i comunitats. \nEn aquesta sessió s’examinaran els principis i conceptes subjacents a les solucions regeneratives i circulars alhora que es mostraran exemples i casos pràctics per a la seva implementació. L’objectiu últim és prendre consciència del potencial d’un projecte per a integrar activament aquestes pràctiques i disposar d’eines pràctiques per a aconseguir transformacions positives i duradores en les dimensions mediambiental\, social i econòmica. \n 
URL:https://clusterteib.es/evento/uib-de-la-sostenibilitat-a-la-regeneracio-com-impulsar-projectes-sostenibles-i-transformadors/
CATEGORIES:Webinars
END:VEVENT
BEGIN:VEVENT
DTSTART;TZID=Europe/Madrid:20230920T110000
DTEND;TZID=Europe/Madrid:20230920T123000
DTSTAMP:20260424T104948
CREATED:20230809T160542Z
LAST-MODIFIED:20230809T160630Z
UID:10000070-1695207600-1695213000@clusterteib.es
SUMMARY:Water & Energy funding opportunities to go international
DESCRIPTION:The AEWEN team is organising its 4th capacity building webinar\, focused on “Water & Energy funding opportunities to go international”. This will be a great opportunity to find out more on funding opportunities to go international.. \nIt will be held online on 20th of September from 11.00 to 12.30 (CEST).\nThe program will be as follows:\nEuropean Projects:\nFunding & opportunities for the Water & Energy sector\nHow to set up a European project?\nExamples\nOther Multilateral programmes/projects\nBilateral Cooperation (BE-FR-ES-IT)
URL:https://clusterteib.es/evento/water-energy-funding-opportunities/
CATEGORIES:Webinars
END:VEVENT
BEGIN:VEVENT
DTSTART;TZID=Europe/Madrid:20230922T120000
DTEND;TZID=Europe/Madrid:20230922T130000
DTSTAMP:20260424T104948
CREATED:20230103T093756Z
LAST-MODIFIED:20230901T102454Z
UID:10000015-1695384000-1695387600@clusterteib.es
SUMMARY:Reunion Junta Directiva
DESCRIPTION:
URL:https://clusterteib.es/evento/networking-junta-directiva-5/
LOCATION:Estel\, Carrer Parc Bit-2\, 27\, Palma\, Illes Balears\, 07120\, España
CATEGORIES:Networking
ORGANIZER;CN="Cl%C3%BAster de Transici%C3%B3n Ecol%C3%B3gica de las Illes Balears":MAILTO:info@clusterteib.com
END:VEVENT
BEGIN:VEVENT
DTSTART;TZID=Europe/Madrid:20230929T120000
DTEND;TZID=Europe/Madrid:20230929T130000
DTSTAMP:20260424T104948
CREATED:20230103T093818Z
LAST-MODIFIED:20230907T113347Z
UID:10000016-1695988800-1695992400@clusterteib.es
SUMMARY:Reunión grupo de trabajo innovación
DESCRIPTION:Reunión interna de grupo de trabajo de proyectos de I+D+i.
URL:https://clusterteib.es/evento/reuniones-grupos-de-trabajo-6/
CATEGORIES:Reunión grupo de trabajo
END:VEVENT
BEGIN:VEVENT
DTSTART;TZID=Europe/Madrid:20230929T180000
DTEND;TZID=Europe/Madrid:20230929T230000
DTSTAMP:20260424T104948
CREATED:20230928T105113Z
LAST-MODIFIED:20230928T105435Z
UID:10000074-1696010400-1696028400@clusterteib.es
SUMMARY:Nit de la Recerca 2023
DESCRIPTION:La Nit de la recerca és un gran esdeveniment de divulgació científica que per primera vegada es celebra amb un acte unitari i simultani a cada una de les Illes amb l’objectiu d’apropar la tasca investigadora a la societat. \nConsulta aquí tot el que s’ha preparat a Mallorca\, Menorca i Eivissa!
URL:https://clusterteib.es/evento/nit-de-la-recerca-2023/
LOCATION:Parc del marc\, Parque del Mar\, Palma\, Illes Balears\, 07006\, España
CATEGORIES:Eventos presenciales
END:VEVENT
BEGIN:VEVENT
DTSTART;TZID=Europe/Madrid:20230930T090000
DTEND;TZID=Europe/Madrid:20230930T230000
DTSTAMP:20260424T104948
CREATED:20230928T123958Z
LAST-MODIFIED:20230928T125826Z
UID:10000075-1696064400-1696114800@clusterteib.es
SUMMARY:Viu El Port!
DESCRIPTION:L’Autoritat Portuaria de Balears organiza una jornada familiar con música en directo\, visitas guiadas y diversión para todos. \nJornada de pueras abiertas – ENTRADA GRATUITA
URL:https://clusterteib.es/evento/viu-el-port/
LOCATION:Sede Autoritat Protuaria\, Paseo Maritimo\, Palma\, Illes Balears\, 07012\, España
CATEGORIES:Eventos presenciales
END:VEVENT
END:VCALENDAR