BEGIN:VCALENDAR
VERSION:2.0
PRODID:-//Clúster TEIB - ECPv6.15.15//NONSGML v1.0//EN
CALSCALE:GREGORIAN
METHOD:PUBLISH
X-WR-CALNAME:Clúster TEIB
X-ORIGINAL-URL:https://clusterteib.es
X-WR-CALDESC:Eventos para Clúster TEIB
REFRESH-INTERVAL;VALUE=DURATION:PT1H
X-Robots-Tag:noindex
X-PUBLISHED-TTL:PT1H
BEGIN:VTIMEZONE
TZID:Europe/Madrid
BEGIN:DAYLIGHT
TZOFFSETFROM:+0100
TZOFFSETTO:+0200
TZNAME:CEST
DTSTART:20220327T010000
END:DAYLIGHT
BEGIN:STANDARD
TZOFFSETFROM:+0200
TZOFFSETTO:+0100
TZNAME:CET
DTSTART:20221030T010000
END:STANDARD
BEGIN:DAYLIGHT
TZOFFSETFROM:+0100
TZOFFSETTO:+0200
TZNAME:CEST
DTSTART:20230326T010000
END:DAYLIGHT
BEGIN:STANDARD
TZOFFSETFROM:+0200
TZOFFSETTO:+0100
TZNAME:CET
DTSTART:20231029T010000
END:STANDARD
BEGIN:DAYLIGHT
TZOFFSETFROM:+0100
TZOFFSETTO:+0200
TZNAME:CEST
DTSTART:20240331T010000
END:DAYLIGHT
BEGIN:STANDARD
TZOFFSETFROM:+0200
TZOFFSETTO:+0100
TZNAME:CET
DTSTART:20241027T010000
END:STANDARD
END:VTIMEZONE
BEGIN:VEVENT
DTSTART;TZID=Europe/Madrid:20230706T120000
DTEND;TZID=Europe/Madrid:20230706T150000
DTSTAMP:20260420T193050
CREATED:20230103T093611Z
LAST-MODIFIED:20230622T111405Z
UID:10000011-1688644800-1688655600@clusterteib.es
SUMMARY:Asamblea general ordinaria y visita técnica a la planta H2 Lloseta
DESCRIPTION:El Clúster de Transición Ecológica de las Islas Baleares se complace en anunciar la celebración de su Primera Asamblea General Ordinaria del 2023. El evento tendrá lugar el 6 de julio en el Teatre Municipal de Lloseta\, Mallorca. \nLa Asamblea General Ordinaria representa una importante instancia de encuentro para los miembros del Clúster de Transición Ecológica de las Islas Baleares\, uniendo a las principales empresas\, organizaciones y actores involucrados en la promoción de la sostenibilidad y la transición ecológica en la región. \nUna vez concluido el orden del día propio de la reunión\, todos los socios tendrán la oportunidad de participar en una visita técnica a la planta de hidrógeno verde de Lloseta\, perteneciente al proyecto Green Hysland. Esta planta es un referente en la generación de energía limpia y sostenible\, y su visita permitirá a los asistentes conocer de primera mano los avances tecnológicos y las soluciones innovadoras en el campo de la transición energética. \n 
URL:https://clusterteib.es/evento/asamblea-general-ordinaria/
LOCATION:Teatre Municipal de Lloseta\, Carrer es Pou Nou\, 1\, Lloseta\, Illes Balears\, 07360\, España
CATEGORIES:Asamblea
ORGANIZER;CN="Cl%C3%BAster de Transici%C3%B3n Ecol%C3%B3gica de las Illes Balears":MAILTO:info@clusterteib.com
END:VEVENT
BEGIN:VEVENT
DTSTART;VALUE=DATE:20230710
DTEND;VALUE=DATE:20230712
DTSTAMP:20260420T193050
CREATED:20230103T093731Z
LAST-MODIFIED:20230103T093731Z
UID:10000014-1688950800-1689037199@clusterteib.es
SUMMARY:Reuniones grupos de trabajo
DESCRIPTION:
URL:https://clusterteib.es/evento/reuniones-grupos-de-trabajo-5/
LOCATION:València
CATEGORIES:Reunión grupo de trabajo
END:VEVENT
END:VCALENDAR