BEGIN:VCALENDAR
VERSION:2.0
PRODID:-//Clúster TEIB - ECPv6.15.15//NONSGML v1.0//EN
CALSCALE:GREGORIAN
METHOD:PUBLISH
X-WR-CALNAME:Clúster TEIB
X-ORIGINAL-URL:https://clusterteib.es
X-WR-CALDESC:Eventos para Clúster TEIB
REFRESH-INTERVAL;VALUE=DURATION:PT1H
X-Robots-Tag:noindex
X-PUBLISHED-TTL:PT1H
BEGIN:VTIMEZONE
TZID:Europe/Madrid
BEGIN:DAYLIGHT
TZOFFSETFROM:+0100
TZOFFSETTO:+0200
TZNAME:CEST
DTSTART:20220327T010000
END:DAYLIGHT
BEGIN:STANDARD
TZOFFSETFROM:+0200
TZOFFSETTO:+0100
TZNAME:CET
DTSTART:20221030T010000
END:STANDARD
BEGIN:DAYLIGHT
TZOFFSETFROM:+0100
TZOFFSETTO:+0200
TZNAME:CEST
DTSTART:20230326T010000
END:DAYLIGHT
BEGIN:STANDARD
TZOFFSETFROM:+0200
TZOFFSETTO:+0100
TZNAME:CET
DTSTART:20231029T010000
END:STANDARD
BEGIN:DAYLIGHT
TZOFFSETFROM:+0100
TZOFFSETTO:+0200
TZNAME:CEST
DTSTART:20240331T010000
END:DAYLIGHT
BEGIN:STANDARD
TZOFFSETFROM:+0200
TZOFFSETTO:+0100
TZNAME:CET
DTSTART:20241027T010000
END:STANDARD
END:VTIMEZONE
BEGIN:VEVENT
DTSTART;TZID=Europe/Madrid:20230605T100000
DTEND;TZID=Europe/Madrid:20230605T113000
DTSTAMP:20260420T212142
CREATED:20230531T105428Z
LAST-MODIFIED:20230531T134219Z
UID:10000060-1685959200-1685964600@clusterteib.es
SUMMARY:Webinar técnico. Presentación del programa de ayudas para instalaciones de generación eléctrica a partir de fuentes renovables en las Illes Balears
DESCRIPTION:IDAE organiza un webinar técnico de presentación de la publicación de la convocatoria del programa de ayudas para instalaciones de generación eléctrica a partir de fuentes renovables en las islas Baleares. \nUnas ayudas dotadas con 33 millones de euros del Plan de Recuperación\, Transformación y Resiliencia (PRTR)\, financiado por la Unión Europea – Fondos NextGenerationEU\, que potenciarán especialmente las iniciativas vinculadas al almacenamiento energético y la seguridad de la red. \nAdemás\, se subvencionarán nuevas instalaciones de generación renovable\, entre las que se encuentran instalaciones fotovoltaicas en superficies antropizadas o de actividad humana\, o la repotenciación o renovación de las ya existentes.
URL:https://clusterteib.es/evento/webinar-tecnico-presentacion-del-programa-de-ayudas-para-instalaciones-de-generacion-electrica-a-partir-de-fuentes-renovables-en-las-illes-balears/
LOCATION:València
CATEGORIES:Webinars
END:VEVENT
BEGIN:VEVENT
DTSTART;TZID=Europe/Madrid:20230606T090000
DTEND;TZID=Europe/Madrid:20230606T123000
DTSTAMP:20260420T212142
CREATED:20230530T154221Z
LAST-MODIFIED:20230530T154930Z
UID:10000059-1686042000-1686054600@clusterteib.es
SUMMARY:EU Islands Decarbonisation: Replication Board
DESCRIPTION:The GIFT\, MAESHA\, VPP4ISLANDS\, ISLANDER\, IANOS\, ROBINSON\, REACT\, SOCLIMPACT\, NESOI\, INSULAE projects would be honoured to have you as part of our Replication Board for EU islands on the 6th of June 2023 \nAgenda: \n\n9:00-9:15 : Keynote speech\n9-15-10:15 : Project presentations\n\nPanel 1: Flexibility on Islands\nPanel 2: Energy Communities\nPanel 3: Islands Energy Innovation\n\n\n10:30-12:30 : Workshops on results\, lessons learned & policy recommendations\n\nPanel 1: Results & Lessons learned\nPanel 2: Policy recommendations\n\n\n\nRegister here now!
URL:https://clusterteib.es/evento/eu-islands-decarbonisation-replication-board/
LOCATION:València
CATEGORIES:Webinars
END:VEVENT
BEGIN:VEVENT
DTSTART;TZID=Europe/Madrid:20230608T190000
DTEND;TZID=Europe/Madrid:20230608T230000
DTSTAMP:20260420T212142
CREATED:20230522T104022Z
LAST-MODIFIED:20230522T104053Z
UID:10000057-1686250800-1686265200@clusterteib.es
SUMMARY:Clúster CEEC: Nit de l'eficiència
DESCRIPTION:El pròxim 8 de Juny el Clúster de l’Energia Eficient de Catalunya celebra la Nit de l’Eficiència\, la trobada anual de referència en l’àmbit de l’energia a Catalunya que reuneix les empreses\, grups de recerca i institucions més rellevants del país. \nEn la seva 10a edició\, l’acte tindrà lloc al Teatre Nacional de Catalunya\, i té prevista la presència d’uns 500 empresaris i professionals del sector\, a més dels principals càrrecs institucionals del país. Un fet que farà batre tots els rècords en la història del clúster tant en termes d’assistència com en impacte mediàtic. Aquesta edició és particularment especial per al clúster\, ja que enguany el CEEC celebra els seus 15 anys d’història. La jornada\, per tant\, també servirà per commemorar l’aniversari. \nPer últim\, i tractant-se d’un dels espais de trobada més multitudinaris del sector\, la Nit també és una oportunitat única per fer networking i entrar en contacte amb els representants de les organitzacions més rellevants i influents del sector\, fent possible el desenvolupament de negoci i la generació de sinergies. \n  \n 
URL:https://clusterteib.es/evento/cluster-ceec-nit-de-leficiencia/
LOCATION:Teatre Nacional de Catalunya\, Plaça de les Arts\, 1\, Barcelona
CATEGORIES:Eventos presenciales
END:VEVENT
BEGIN:VEVENT
DTSTART;TZID=Europe/Madrid:20230610T100000
DTEND;TZID=Europe/Madrid:20230610T140000
DTSTAMP:20260420T212142
CREATED:20230514T080247Z
LAST-MODIFIED:20230529T074352Z
UID:10000054-1686391200-1686405600@clusterteib.es
SUMMARY:I regata solar de las Islas Baleares
DESCRIPTION:La Asociación de Makers de Mallorca\, Fablab Mallorca y Associació de Veïns de Canamunt organizan la I Regata Solar de las Islas Baleares #regatasolarbalears. La iniciativa ha sido apoyada por el Museu Marítim de Mallorca\, Palma Activa\, la Direcció General d’Innovació del Govern\, OK Mobility y Omniaccess\, entre otras firmas e instituciones. \nLa I Regata Solar de las Islas Baleares es una competición de embarcaciones no tripuladas impulsadas por energía solar y cuyo gobierno se realiza mediante un sistema de control remoto o de forma completamente autónoma. Las embarcaciones estarán diseñadas y construidas íntegramente por los equipos participantes\, no se permitirán kits comerciales\, con la única excepción de la emisora y receptor del barco\, fomentando así la originalidad\, el desarrollo tecnológico\, la eficiencia del diseño y la sostenibilidad del mismo. \n 
URL:https://clusterteib.es/evento/i-regata-solar-de-las-islas-baleares/
LOCATION:Parc del marc\, Parque del Mar\, Palma\, Illes Balears\, 07006\, España
CATEGORIES:Eventos presenciales
END:VEVENT
BEGIN:VEVENT
DTSTART;TZID=Europe/Madrid:20230615T093000
DTEND;TZID=Europe/Madrid:20230615T140000
DTSTAMP:20260420T212142
CREATED:20230611T155542Z
LAST-MODIFIED:20230611T155542Z
UID:10000062-1686821400-1686837600@clusterteib.es
SUMMARY:Jornada técnica "Impulsar la transición energética en el sector industrial de Baleares"
DESCRIPTION:El IDAE organiza en Palma de Mallorca el próximo jueves 15 de junio una jornada técnica dirigida al sector industrial de las islas en la que daremos a conocer la convocatoria de ayudas a instalaciones de generación eléctrica a partir de fuentes renovables y almacenamiento. Una convocatoria dotada con 33 millones de euros del Plan de Recuperación\, Transformación y Resiliencia (PRTR). \nLa Jornada tendrá lugar en el antiguo Parque de Bomberos de ASIMA\, en Palma\, a las 09:30 horas\, y servirá para presentar las características de esta convocatoria de ayudas: actuaciones susceptibles de financiación\, requisitos\, criterios de valoración\, etc. Asimismo\, los participantes podrán conocer aplicaciones\, buenas prácticas y casos reales del almacenamiento en instalaciones de energías renovables en el sector industrial. La jornada incluirá una visita técnica. \nSi está interesado en participar inscríbase antes del lunes 12 de junio a las 14 horas en la siguiente dirección de correo electrónico EventoIDAEMallorca@idae.es aportando los siguientes datos. \nNombre y apellidos:\nDNI:\nOrganización:\nPuesto:\nAsistencia presencial u online:
URL:https://clusterteib.es/evento/jornada-tecnica-impulsar-la-transicion-energetica-en-el-sector-industrial-de-baleares/
LOCATION:Antiguo Parque de Bomberos de ASIMA\, Carrer Gremi Picapedrers\, 1\, Palma\, Illes Balears\, 07009\, España
CATEGORIES:Eventos presenciales
END:VEVENT
BEGIN:VEVENT
DTSTART;TZID=Europe/Madrid:20230616T093000
DTEND;TZID=Europe/Madrid:20230616T140000
DTSTAMP:20260420T212142
CREATED:20230611T155950Z
LAST-MODIFIED:20230611T155950Z
UID:10000063-1686907800-1686924000@clusterteib.es
SUMMARY:Jornada técnica "Impulsar la transición energética en el sector hotelero de Baleares"
DESCRIPTION:El IDAE organiza en Menorca el próximo viernes 16 de junio una jornada técnica dirigida al sector hotelero de las islas en la que daremos a conocer la convocatoria de ayudas a instalaciones de generación eléctrica a partir de fuentes renovables y almacenamiento. Una convocatoria dotada con 33 millones de euros del Plan de Recuperación\, Transformación y Resiliencia (PRTR). \nLa Jornada tendrá lugar en el hotel SETH Port Ciutadella\, en Ciutadella\, a las 09.30 horas\, y servirá para presentar las características de esta convocatoria de ayudas: actuaciones susceptibles de financiación\, requisitos\, criterios de valoración\, etc. Asimismo\, los participantes podrán conocer aplicaciones\, buenas prácticas y casos reales del almacenamiento en instalaciones de energías renovables en el sector industrial. La jornada incluirá una visita técnica. \nSi está interesado en participar inscríbase antes del lunes 12 de junio a las 14 horas en la siguiente dirección de correo electrónico eventoIDAEMenorca@idae.es aportando los siguientes datos. \nNombre y apellidos:\nDNI:\nOrganización:\nPuesto:\nAsistencia presencial u online:
URL:https://clusterteib.es/evento/jornada-tecnica-impulsar-la-transicion-energetica-en-el-sector-hotelero-de-baleares/
LOCATION:Hotel SETH PORT CIUTADELLA\, Passeig Marítim\, 36\, Ciutadella\, Menorca\, Illes Balears\, 07760\, España
CATEGORIES:Eventos presenciales
END:VEVENT
BEGIN:VEVENT
DTSTART;TZID=Europe/Madrid:20230627T170000
DTEND;TZID=Europe/Madrid:20230629T200000
DTSTAMP:20260420T212142
CREATED:20230608T103513Z
LAST-MODIFIED:20230608T103824Z
UID:10000061-1687885200-1688068800@clusterteib.es
SUMMARY:Curso de puntos de recarga para vehículos eléctricos y a gas natural COIIM
DESCRIPTION:El objetivo del curso es proporcionar los conocimientos necesarios para comprender y desarrollar proyectos de infraestructuras o puntos de recarga para vehículos eléctricos y de gas natural\, conociendo la justificación técnico-económica en la sustitución de combustibles convencionales\, la normativa existente al respecto y las líneas de apoyo para esta transición energética. \nEn este curso aprenderás a: \n\nConocer los beneficios e inconvenientes de una u otra tecnología para la compra o reconversión de un vehículo\, justificando la inversión y elección.\nAplicar conceptos básicos para el diseño y dimensionamiento de estas infraestructuras mediante ejemplos prácticos.\nInterpretar la normativa aplicable así como los procedimientos administrativos que conllevan estas infraestructuras utilizando proyectos tipo como base.\nEstar al día de las novedades y subvenciones aplicables con acceso gratuito a una plataforma online con contenido ampliado del que se mostrará en la jornada presencial.\n\nDURACIÓN: 9 HORAS \nMODALIDAD: VIDEOCONFERENCIA EN DIRECTO \nORGANIZADOR: David Nieto-Sandoval González-Nicolás \n\nPRECIO: \nPrecio colegiado COIMM\, COEIB y socios Clúster TEIB 160 € \nPrecio 199€
URL:https://clusterteib.es/evento/curso-de-puntos-de-recarga-para-vehiculos-electricos-y-a-gas-natural-coiim/
LOCATION:València
CATEGORIES:Formaciones y seminarios
END:VEVENT
BEGIN:VEVENT
DTSTART;TZID=Europe/Madrid:20230628T114500
DTEND;TZID=Europe/Madrid:20230628T140000
DTSTAMP:20260420T212142
CREATED:20230619T134657Z
LAST-MODIFIED:20230619T134657Z
UID:10000064-1687952700-1687960800@clusterteib.es
SUMMARY:Encuentro Empresarial CAEB en TIRME “HOJA DE RUTA DE LA ECONOMÍA CIRCULAR Y LLAMADA A LA ACCIÓN”
DESCRIPTION:CAEB\, en colaboración con Tirme\, Endesa y Banco Sabadell organizan el encuentro empresarial titulado «HOJA DE RUTA DE LA ECONOMÍA CIRCULAR Y LLAMADA A LA ACCIÓN» en el marco de su programa de conferencias de «Circularidad en las pymes: Oportunidad estratégica».
URL:https://clusterteib.es/evento/encuentro-empresarial-caeb-en-tirme-hoja-de-ruta-de-la-economia-circular-y-llamada-a-la-accion/
LOCATION:Parque de Tecnologías Ambientales TIRME\, Crta de Sóller\, Palma\, Illes Balears\, 07120\, España
CATEGORIES:Eventos presenciales
END:VEVENT
BEGIN:VEVENT
DTSTART;TZID=Europe/Madrid:20230628T163000
DTEND;TZID=Europe/Madrid:20230628T182000
DTSTAMP:20260420T212142
CREATED:20230626T160534Z
LAST-MODIFIED:20230626T160717Z
UID:10000066-1687969800-1687976400@clusterteib.es
SUMMARY:COEIB “Paneles Solares híbridos\, la solución más rentable para la descarbonización” ABORA SOLAR
DESCRIPTION:El Col·legi Oficial d’Enginyers Industrials de les Illes Balears\, junto con Abora Solar\, organizan el seminario “Paneles Solares híbridos\, la solución más rentable para la descarbonización”
URL:https://clusterteib.es/evento/coeib-paneles-solares-hibridos-la-solucion-mas-rentable-para-la-descarbonizacion-abora-solar/
LOCATION:COEIB\, C/ Carlos I\, 2\, Palma\, Illes Balears\, España
CATEGORIES:Formaciones y seminarios
END:VEVENT
END:VCALENDAR