BEGIN:VCALENDAR
VERSION:2.0
PRODID:-//Clúster TEIB - ECPv6.15.15//NONSGML v1.0//EN
CALSCALE:GREGORIAN
METHOD:PUBLISH
X-WR-CALNAME:Clúster TEIB
X-ORIGINAL-URL:https://clusterteib.es
X-WR-CALDESC:Eventos para Clúster TEIB
REFRESH-INTERVAL;VALUE=DURATION:PT1H
X-Robots-Tag:noindex
X-PUBLISHED-TTL:PT1H
BEGIN:VTIMEZONE
TZID:Europe/Madrid
BEGIN:DAYLIGHT
TZOFFSETFROM:+0100
TZOFFSETTO:+0200
TZNAME:CEST
DTSTART:20220327T010000
END:DAYLIGHT
BEGIN:STANDARD
TZOFFSETFROM:+0200
TZOFFSETTO:+0100
TZNAME:CET
DTSTART:20221030T010000
END:STANDARD
BEGIN:DAYLIGHT
TZOFFSETFROM:+0100
TZOFFSETTO:+0200
TZNAME:CEST
DTSTART:20230326T010000
END:DAYLIGHT
BEGIN:STANDARD
TZOFFSETFROM:+0200
TZOFFSETTO:+0100
TZNAME:CET
DTSTART:20231029T010000
END:STANDARD
BEGIN:DAYLIGHT
TZOFFSETFROM:+0100
TZOFFSETTO:+0200
TZNAME:CEST
DTSTART:20240331T010000
END:DAYLIGHT
BEGIN:STANDARD
TZOFFSETFROM:+0200
TZOFFSETTO:+0100
TZNAME:CET
DTSTART:20241027T010000
END:STANDARD
END:VTIMEZONE
BEGIN:VEVENT
DTSTART;TZID=Europe/Madrid:20230505T120000
DTEND;TZID=Europe/Madrid:20230505T130000
DTSTAMP:20260420T230531
CREATED:20230103T093555Z
LAST-MODIFIED:20230502T093327Z
UID:10000010-1683288000-1683291600@clusterteib.es
SUMMARY:Reunión junta directiva
DESCRIPTION:
URL:https://clusterteib.es/evento/networking-junta-directiva-3/
LOCATION:EMAYA Oficinas\, C/ Joan Maragall\, 3\, Palma\, Illes Balears\, 07006\, España
CATEGORIES:Networking
ORGANIZER;CN="Cl%C3%BAster de Transici%C3%B3n Ecol%C3%B3gica de las Illes Balears":MAILTO:info@clusterteib.com
END:VEVENT
BEGIN:VEVENT
DTSTART;TZID=Europe/Madrid:20230509T120000
DTEND;TZID=Europe/Madrid:20230509T133000
DTSTAMP:20260420T230531
CREATED:20230502T093742Z
LAST-MODIFIED:20230502T093742Z
UID:10000052-1683633600-1683639000@clusterteib.es
SUMMARY:CAEB: Panorama general sobre los fondos Next Generation EU
DESCRIPTION:El martes 9 de mayo a las 12.00 h\, la CAEB ofrecere una jornada donde se expondrán las últimas novedades disponibles sobre los avances en el marco estratégico de asignación de fondos europeos y las oportunidades de acceso a los mismos que se abren para las empresas de Baleares. \n✍️ Programa e inscripciones  aquí
URL:https://clusterteib.es/evento/caeb-panorama-general-sobre-los-fondos-next-generation-eu/
LOCATION:CAEB\, C/Aragón\, 215\, 2º\, Palma\, Illes Balears\, España
CATEGORIES:Eventos presenciales
END:VEVENT
BEGIN:VEVENT
DTSTART;TZID=Europe/Madrid:20230515T153000
DTEND;TZID=Europe/Madrid:20230515T163000
DTSTAMP:20260420T230531
CREATED:20230510T082508Z
LAST-MODIFIED:20230510T092619Z
UID:10000053-1684164600-1684168200@clusterteib.es
SUMMARY:Análisis del proyecto de real decreto por el que se desarrollan las figuras de las comunidades energéticas
DESCRIPTION:El texto del Real Decreto para regular las comunidades energéticas\, que incluye las comunidades de energías renovables y las comunidades ciudadanas de energía\, ha sido lanzado a información pública por el Ministerio para la Transición Ecológica y el Reto Demográfico (MITECO). Puede consultar toda la información aquí \nEl Grupo de Trabajo de Relaciones Institucionales del Clúster de Transición Ecológica de las Illes Balears se reunirá para analizar el texto del proyecto entre aquellos socios y agentes implicados en el desarrollo e implementación de las Comunidades Energéticas en las Islas Baleares.
URL:https://clusterteib.es/evento/analisis-del-proyecto-de-real-decreto-por-el-que-se-desarrollan-las-figuras-de-las-comunidades-de-energias-renovables-y-las-comunidades-ciudadanas-de-energia/
LOCATION:València
CATEGORIES:Reunión grupo de trabajo
ORGANIZER;CN="Cl%C3%BAster de Transici%C3%B3n Ecol%C3%B3gica de las Illes Balears":MAILTO:info@clusterteib.com
END:VEVENT
BEGIN:VEVENT
DTSTART;TZID=Europe/Madrid:20230523T090000
DTEND;TZID=Europe/Madrid:20230525T123000
DTSTAMP:20260420T230531
CREATED:20230502T093214Z
LAST-MODIFIED:20230502T093214Z
UID:10000051-1684832400-1685017800@clusterteib.es
SUMMARY:Formació "Gestió de projectes d'R+D+i" de la Factoria d'Innovació
DESCRIPTION:Factoria d’Innovació és un programa de la Direcció General d’Innovació inclòs dins el Programa Operatiu FEDER 2021-2027\, que té com a objectiu desenvolupar activitats de foment de la innovació en empreses de les Illes Balears. \nUna de les activitats de foment de la innovació de la Factoria d’Innovació\, es aquest programa formatiu enfocat a la gestió de projectes de R+D+i. L’objectiu d’aquest curs és proporcionar els aprenentatges claus en la gestió de projectes innovadors a través dels principals conceptes relacionats amb la gestió de projectes de recerca\, desenvolupament i innovació (R+D+i)\, identificant les diferents fases corresponents\, els agents del ecosistema de l’R+D+i\, així com les eines més recents per a la seva gestió. \nPodeu conèixer altres activitats i serveis gratuïts per a les empreses dins la Factoria d’Innovació a:\nhttps://www.caib.es/govern/sac/fitxa.do?codi=5613794&coduo=700798&lang=es
URL:https://clusterteib.es/evento/formacio-gestio-de-projectes-drdi-de-la-factoria-dinnovacio/
LOCATION:Autori del ParcBIT\, Centre Empresarial\, Palma\, Illes Balears\, España
CATEGORIES:Formaciones y seminarios
END:VEVENT
BEGIN:VEVENT
DTSTART;TZID=Europe/Madrid:20230525T100000
DTEND;TZID=Europe/Madrid:20230525T130000
DTSTAMP:20260420T230531
CREATED:20230515T110532Z
LAST-MODIFIED:20230515T110631Z
UID:10000055-1685008800-1685019600@clusterteib.es
SUMMARY:Balearic Marine Cluster: Jornada AEI
DESCRIPTION:La ASOCIACIÓN CLUSTER NÁUTICO DE LAS ISLAS BALEARES celebra el acto de celebración por la entrada de nuestra agrupación en el Registro Balear de Agrupaciones Empresariales Innovadoras. Dicho acto tendrá lugar el jueves 25 de mayo a las 10:00 en el Salón de Actos del edificio Son Lledó\, en el campus de la Universidad de las Islas Baleares. \nEntre el programa de esta jornada se incluye la entrega de los sellos PYME Innovadora a las empresas qué se han acreditado como tal y cuyo papel ha sido fundamental para alcanzar este logro. \nSe requiere confirmación de asistencia en el siguiente enlace: https://forms.gle/Prqq6jJjjmpWwa646 o respondiendo al correo: comunicacion@balearicmarinecluster.com
URL:https://clusterteib.es/evento/balearic-marine-cluster-jornada-aei/
LOCATION:Son Lledo UIB\, Son Lladó\, 07120 Palma\, Balearic Islands\, Palma\, Illes Balears\, 07120
CATEGORIES:Eventos presenciales
END:VEVENT
BEGIN:VEVENT
DTSTART;TZID=Europe/Madrid:20230526T100000
DTEND;TZID=Europe/Madrid:20230526T120000
DTSTAMP:20260420T230531
CREATED:20230522T103219Z
LAST-MODIFIED:20230522T103227Z
UID:10000056-1685095200-1685102400@clusterteib.es
SUMMARY:ICAEN: Presentació del document “Guia de criteris pel màxim aprofitament fotovoltaic de les cobertes”
DESCRIPTION:L’Institut Català de l’Energia organitza una sessió online de presentació del document “Guia de criteris pel màxim aprofitament fotovoltaic de les cobertes”. Pots inscriure’t en el següent enllaç \nEl model energètic basat en els combustibles fòssils i en la generació centralitzada de l’energia ja està esgotat i no pot ser un model de futur. \nEl treball de la Prospectiva Energètica de Catalunya en l’horitzó del 2050 (PROENCAT 2050) elaborat per l’Institut Català d’Energia i presentat el febrer del 2022 identifica el full de ruta de la transició energètica tot mostrant els objectius numèrics d’aquest procés. La prospectiva identifica l’energia solar sobre teulada i sobre el terreny\, juntament amb l’energia eòlica\, com la principal opció disponible a Catalunya per aconseguir un sistema energètic 100% renovable i amb un preu de l’energia competitiu a l’horitzó de l’any 2050. \nDintre de la generació d’energia solar la que es produeix sobre teulada té avantatges importants al ser un model distribuït que és més resilient davant les inclemències de fenòmens meteorològics extrems\, és més eficient en reduir-se les pèrdues de transport (en apropar-se l’oferta a la demanda)\, permet a la població disposar de la tecnologia i poder ser agents actius en el mercat energètic i evita la utilització d’altres terrenys i espais naturals. \nPer aprofitar aquests avantatges\, considerant a més que la superfície de les teulades es un recurs limitat\, és necessari establir els criteris que ens permetin maximitzar l’energia solar que produïm a sobre d’aquestes teulades\, evolucionant els criteris de dissenys actuals que en moltes ocasions prioritzen criteris econòmics heretats que ja no son d’aplicació amb l’evolució de preus que ha patit la tecnologia fotovoltaica. \nPrincipals destinataris \nProfessionals implicats en la implantació d’instal·lacions fotovoltaiques a les cobertes dels edificis: promotors\, tècnics i gestors de l’administració pública\, instal·ladors i enginyeries. \n  \nPROGRAMA \n10:00 – 10:10     Benvinguda \nSra. Marta Morera. Directora de l’Institut Català d’Energia \n10:10 – 10:40     Introducció i posicionament del sector sobre la producció renovable a les cobertes \nSalvador Salat\, UNEFCAT \nSanti Martínez\, CEEC \nRaúl Rodríguez\, FEGICAT \n10:40 – 11:25     Guia de criteris pel màxim aprofitament fotovoltaic de les cobertes dels edificis \nÒscar Sánchez. Institut Català d’Energia \nToni Campañá. Institut Català d’Energia \n11:25 – 11:35     Cas pràctic màxim aprofitament FV \nJoan Ramis. Solartradex \n11:35 – 11:45     Cas pràctic II \nPendent de confirmar. \n11:45 – 12:00     Debat i intercanvi d’experiències \n 
URL:https://clusterteib.es/evento/icaen-presentacio-del-document-guia-de-criteris-pel-maxim-aprofitament-fotovoltaic-de-les-cobertes/
LOCATION:València
CATEGORIES:Webinars
END:VEVENT
END:VCALENDAR