BEGIN:VCALENDAR
VERSION:2.0
PRODID:-//Clúster TEIB - ECPv6.15.15//NONSGML v1.0//EN
CALSCALE:GREGORIAN
METHOD:PUBLISH
X-ORIGINAL-URL:https://clusterteib.es
X-WR-CALDESC:Eventos para Clúster TEIB
REFRESH-INTERVAL;VALUE=DURATION:PT1H
X-Robots-Tag:noindex
X-PUBLISHED-TTL:PT1H
BEGIN:VTIMEZONE
TZID:Europe/Madrid
BEGIN:DAYLIGHT
TZOFFSETFROM:+0100
TZOFFSETTO:+0200
TZNAME:CEST
DTSTART:20220327T010000
END:DAYLIGHT
BEGIN:STANDARD
TZOFFSETFROM:+0200
TZOFFSETTO:+0100
TZNAME:CET
DTSTART:20221030T010000
END:STANDARD
BEGIN:DAYLIGHT
TZOFFSETFROM:+0100
TZOFFSETTO:+0200
TZNAME:CEST
DTSTART:20230326T010000
END:DAYLIGHT
BEGIN:STANDARD
TZOFFSETFROM:+0200
TZOFFSETTO:+0100
TZNAME:CET
DTSTART:20231029T010000
END:STANDARD
BEGIN:DAYLIGHT
TZOFFSETFROM:+0100
TZOFFSETTO:+0200
TZNAME:CEST
DTSTART:20240331T010000
END:DAYLIGHT
BEGIN:STANDARD
TZOFFSETFROM:+0200
TZOFFSETTO:+0100
TZNAME:CET
DTSTART:20241027T010000
END:STANDARD
END:VTIMEZONE
BEGIN:VEVENT
DTSTART;TZID=Europe/Madrid:20230404T093000
DTEND;TZID=Europe/Madrid:20230404T110000
DTSTAMP:20260421T005355
CREATED:20230307T103620Z
LAST-MODIFIED:20230307T103620Z
UID:10000039-1680600600-1680606000@clusterteib.es
SUMMARY:CAEB - Retos\, oportunidades y experiencias de economía circular en pymes del sector tecnológico
DESCRIPTION:Evento presencial organizado por CAEB y GSBIT en colaboración con: Tirme\, Endesa y Sabadell. \nConsulte el programa aquí
URL:https://clusterteib.es/evento/caeb-retos-oportunidades-y-experiencias-de-economia-circular-en-pymes-del-sector-tecnologico/
LOCATION:CAEB\, C/Aragón\, 215\, 2º\, Palma\, Illes Balears\, España
CATEGORIES:Eventos presenciales
END:VEVENT
BEGIN:VEVENT
DTSTART;VALUE=DATE:20230417
DTEND;VALUE=DATE:20230423
DTSTAMP:20260421T005356
CREATED:20230411T152041Z
LAST-MODIFIED:20230411T152527Z
UID:10000046-1681693200-1682125199@clusterteib.es
SUMMARY:Blue Week 2023
DESCRIPTION:The 11th edition of the BlueWeek is taking place next week in Palma. \nAs Maritime Research Institute of the Netherlands\, we are proposing since 2012 a seminar programme that reflects the current developments in sustainable shipping\, renewable ocean energy and ocean conservation/preservation. The location of the event varies each year in Europe and we try to find a place that puts sustainability high on its ambitions and actions. We were invited to host it in Balearic islands this year and use the facilities of the Port Authorities of Palma. \nThe full programme is available on www.blueforum.org \n  \n  \n 
URL:https://clusterteib.es/evento/blue-week-2023/
LOCATION:Sede Autoritat Protuaria\, Paseo Maritimo\, Palma\, Illes Balears\, 07012\, España
CATEGORIES:Eventos presenciales,Formaciones y seminarios
END:VEVENT
BEGIN:VEVENT
DTSTART;TZID=Europe/Madrid:20230418T150000
DTEND;TZID=Europe/Madrid:20230418T170000
DTSTAMP:20260421T005356
CREATED:20230413T134229Z
LAST-MODIFIED:20230413T134229Z
UID:10000049-1681830000-1681837200@clusterteib.es
SUMMARY:ROBINSON H2020 webinar Islands - Energy Forum: Strategies for the Commercialisation of Technologies
DESCRIPTION:During the upcoming ROBINSON H2020 Islands Energy Forum webinar\, the audience will have the opportunity to familiarise with the commercialisation of technologies for the decarbonisation of islands. \nDuring the event\, presenters from Insulae H2020\, E-LAND H2020 and ROBINSON will share their experiences\, best practices and lessons learned. Nicolò Cairo\, Project Officer at ETN Global\, will moderate the event. \n  \nCheck the agenda and other details https://www.eventbrite.co.uk/e/islands-energy-forum-strategies-for-the-commercialisation-of-technologies-tickets-568117403447 \n 
URL:https://clusterteib.es/evento/robinson-h2020-webinar-islands-energy-forum-strategies-for-the-commercialisation-of-technologies/
LOCATION:València
CATEGORIES:Webinars
END:VEVENT
BEGIN:VEVENT
DTSTART;TZID=Europe/Madrid:20230419T100000
DTEND;TZID=Europe/Madrid:20230419T130000
DTSTAMP:20260421T005356
CREATED:20230413T122326Z
LAST-MODIFIED:20230413T130612Z
UID:10000048-1681898400-1681909200@clusterteib.es
SUMMARY:Webinar ayudas 2023 proyectos I+D+i de la Indústria Conectada 4.0
DESCRIPTION:WEBINAR Programa d’ajuts a projectes de R+D+i en l’àmbit de la Indústria Connectada 4.0 [amb i sense mínimis] 19/4/2022\, 10:00 – 19/4/2022\, 11:00 \nhttps://eu.bbcollab.com/collab/ui/session/guest/6668ed26186b4b18bc3c8ca7a712556b \n  \nWEBINAR Programa d’ajuts a plans d’innovació i sostenibilitat. [amb i sense mínimis] 19/4/2022\, 11:30 – 19/4/2022\, 12:45 \nhttps://eu.bbcollab.com/collab/ui/session/guest/8e0a9d20e0e44aa0a9803dc54af39248
URL:https://clusterteib.es/evento/webinar-ayudas-2023-proyectos-idi-de-la-industria-conectada-4-0/
LOCATION:València
CATEGORIES:Webinars
END:VEVENT
BEGIN:VEVENT
DTSTART;TZID=Europe/Madrid:20230420T160000
DTEND;TZID=Europe/Madrid:20230420T180000
DTSTAMP:20260421T005356
CREATED:20230417T083515Z
LAST-MODIFIED:20230417T083623Z
UID:10000050-1682006400-1682013600@clusterteib.es
SUMMARY:COOLTRA | Nueva línea de negocio: instalaciones de estaciones de carga para bicicletas y motos eléctricas
DESCRIPTION:ASINEM organiza la presentación de Cooltra\, líder en movilidad sostenible\, ofrece una presentación sobre una nueva línea de negocio para pymes y grandes empresas: instalaciones de estaciones de carga para bicicletas y motos eléctricas \nEl objetivo es enseñar a los asistentes una nueva oportunidad de negocio en la instalación de estaciones de carga. Se trata de un nuevo tipo de instalación eléctrica. \nFecha: Jueves\, 20 de abril \nDuración: 2 horas\, de 16.00 a 18.00 horas \nPonentes: Camille Loth\, Manager Private Sharing de Cooltra y Andrei\, Manager de Cooltra en Mallorca \n 
URL:https://clusterteib.es/evento/presentacion-cooltra-nueva-linea-de-negocio-instalaciones-de-estaciones-de-carga-para-bicicletas-y-motos-electricas/
LOCATION:ASINEM\, c/ Teixidors 32B\, Marratxí\, Illes Balears\, 07141\, España
CATEGORIES:Eventos presenciales
END:VEVENT
BEGIN:VEVENT
DTSTART;TZID=Europe/Madrid:20230428T120000
DTEND;TZID=Europe/Madrid:20230428T130000
DTSTAMP:20260421T005356
CREATED:20230411T152700Z
LAST-MODIFIED:20230413T084738Z
UID:10000047-1682683200-1682686800@clusterteib.es
SUMMARY:Reunión GT innovacion
DESCRIPTION:
URL:https://clusterteib.es/evento/reunion-gt-innovacion/
LOCATION:València
CATEGORIES:Reunión grupo de trabajo
ORGANIZER;CN="Cl%C3%BAster de Transici%C3%B3n Ecol%C3%B3gica de las Illes Balears":MAILTO:info@clusterteib.com
END:VEVENT
END:VCALENDAR