BEGIN:VCALENDAR
VERSION:2.0
PRODID:-//Clúster TEIB - ECPv6.15.15//NONSGML v1.0//EN
CALSCALE:GREGORIAN
METHOD:PUBLISH
X-ORIGINAL-URL:https://clusterteib.es
X-WR-CALDESC:Eventos para Clúster TEIB
REFRESH-INTERVAL;VALUE=DURATION:PT1H
X-Robots-Tag:noindex
X-PUBLISHED-TTL:PT1H
BEGIN:VTIMEZONE
TZID:Europe/Madrid
BEGIN:DAYLIGHT
TZOFFSETFROM:+0100
TZOFFSETTO:+0200
TZNAME:CEST
DTSTART:20220327T010000
END:DAYLIGHT
BEGIN:STANDARD
TZOFFSETFROM:+0200
TZOFFSETTO:+0100
TZNAME:CET
DTSTART:20221030T010000
END:STANDARD
BEGIN:DAYLIGHT
TZOFFSETFROM:+0100
TZOFFSETTO:+0200
TZNAME:CEST
DTSTART:20230326T010000
END:DAYLIGHT
BEGIN:STANDARD
TZOFFSETFROM:+0200
TZOFFSETTO:+0100
TZNAME:CET
DTSTART:20231029T010000
END:STANDARD
BEGIN:DAYLIGHT
TZOFFSETFROM:+0100
TZOFFSETTO:+0200
TZNAME:CEST
DTSTART:20240331T010000
END:DAYLIGHT
BEGIN:STANDARD
TZOFFSETFROM:+0200
TZOFFSETTO:+0100
TZNAME:CET
DTSTART:20241027T010000
END:STANDARD
END:VTIMEZONE
BEGIN:VEVENT
DTSTART;TZID=Europe/Madrid:20230303T130000
DTEND;TZID=Europe/Madrid:20230303T140000
DTSTAMP:20260421T023454
CREATED:20230103T093454Z
LAST-MODIFIED:20230224T144439Z
UID:10000007-1677848400-1677852000@clusterteib.es
SUMMARY:Junta directiva de Marzo 2023
DESCRIPTION:
URL:https://clusterteib.es/evento/networking-junta-directiva-2/
LOCATION:EMAYA Oficinas\, C/ Joan Maragall\, 3\, Palma\, Illes Balears\, 07006\, España
CATEGORIES:Networking
ORGANIZER;CN="Cl%C3%BAster de Transici%C3%B3n Ecol%C3%B3gica de las Illes Balears":MAILTO:info@clusterteib.com
END:VEVENT
BEGIN:VEVENT
DTSTART;TZID=Europe/Madrid:20230310T100000
DTEND;TZID=Europe/Madrid:20230310T113000
DTSTAMP:20260421T023454
CREATED:20230308T125535Z
LAST-MODIFIED:20230308T125535Z
UID:10000040-1678442400-1678447800@clusterteib.es
SUMMARY:Acto de presentación autobuses Hidrogeno verde
DESCRIPTION:Acto de presentación y puesta en funcionamiento de los nuevos autobuses de Hidrogeno verde
URL:https://clusterteib.es/evento/acto-de-presentacion-autobuses-hidrogeno-verde/
LOCATION:Ayuntamiento de Palma\, Plaça de Cort\, 1\, Palma\, 07001\, España
CATEGORIES:Eventos presenciales
END:VEVENT
BEGIN:VEVENT
DTSTART;TZID=Europe/Madrid:20230314T093000
DTEND;TZID=Europe/Madrid:20230315T150000
DTSTAMP:20260421T023454
CREATED:20230202T110630Z
LAST-MODIFIED:20230202T132327Z
UID:10000033-1678786200-1678892400@clusterteib.es
SUMMARY:Job Day UIB
DESCRIPTION:El 14 y 15 de marzo de 2023 la Universidad de las Islas Baleares organiza el JOB DAY UIB\, una feria de ocupación que se posiciona como punto de encuentro entre universitarios y empresas. \nLa cita será en el edificio Archiduque Luis Salvador del campus universitario\, en la Escuela de Hostelería de las Islas Baleares.
URL:https://clusterteib.es/evento/job-day-uib/
LOCATION:València
CATEGORIES:Eventos presenciales,Networking
END:VEVENT
BEGIN:VEVENT
DTSTART;TZID=Europe/Madrid:20230317T100000
DTEND;TZID=Europe/Madrid:20230317T120000
DTSTAMP:20260421T023454
CREATED:20230309T104814Z
LAST-MODIFIED:20230309T104814Z
UID:10000042-1679047200-1679054400@clusterteib.es
SUMMARY:Reunión grupo de trabajo de formación
DESCRIPTION:
URL:https://clusterteib.es/evento/reunion-grupo-de-trabajo-de-formacion/
LOCATION:València
CATEGORIES:Reunión grupo de trabajo
END:VEVENT
BEGIN:VEVENT
DTSTART;TZID=Europe/Madrid:20230321T093000
DTEND;TZID=Europe/Madrid:20230321T113000
DTSTAMP:20260421T023454
CREATED:20230313T153944Z
LAST-MODIFIED:20230313T153944Z
UID:10000044-1679391000-1679398200@clusterteib.es
SUMMARY:Factoria d'Innovació: Formació "Introducció a les normes de certificació de gestió de la R+D+i
DESCRIPTION:Objectiu:\nLa innovació es clau en les empreses competitives\, essent de gran importància per a la supervivència de les organitzacions ja que contribueixen a situar-les en una posició adequada per afrontar els nous desafiaments que sorgeixen en un mercat globalitzat.\nLa certificació en innovació\, permet alinear la pràctica de la innovació de l’empresa amb les millors pràctiques en gestió de la innovació recollides en les normes de certificació\, a la vegada que obtenir un reconeixement a la seva activitat innovadora. Així mateix\, en el cas de les pimes\, possibilita el seu accés al pròxim Segell de Pime Innovadora Balear\, i al Segell Pime Innovadora del Ministeri de Ciència i Innovació que permet beneficiar-se de manera simultània d’ importants deduccions fiscals a la innovació i de bonificacions en les quotes de la Seguretat Social del personal innovador.\nDe tal manera\, en aquesta formació promoguda dins la Factoria d’Innovació de la Direcció General d’Innovació del GOIB\, s’ofereixen els aprenentatges claus per obtenir els diferents tipus de certificacions a la innovació per part de les empreses. \nAdreçat a:\nPetites\, mitjanes i grans empreses de les Illes Balears de qualsevol sector empresarial. \n  \nDates\, horaris i lloc de celebració:\n\nDimarts 21 de març\, de 9h30 a 11h30 a Palma de Mallorca (Sala de Premsa Parc Bit)\nDimecres 22 de març\, de 16h00 a 18h00 a Menorca (CentreBit Menorca\, Alaior)\nDivendres 24 de març\, de 9h30 a 11h30 a Eivissa (Edifici polivalent de Cas Serres)\n\nPrograma:\n\nSegell Pime Innovadora\no Què és?\no Condicions per ser considerat Pime Innovadora\nCertificacions per a Pime Innovadora\no Tipus de certificacions en gestió de la innovació\no Certificacions Pime Innovadora i Jove Empresa Innovadora\no Certificació UNE166002 (Sistema de Gestió de la R+D+i)\nSol·licitud del Segell Pime Innovadora\n\nInscripcions:\nhttps://forms.office.com/e/mCdVhzGKT8
URL:https://clusterteib.es/evento/factoria-dinnovacio-formacio-introduccio-a-les-normes-de-certificacio-de-gestio-de-la-rdi/
LOCATION:Sala de premsa Parc Bit\, C/ Ada Byron\, Edificio NTIC\, Planta 2B\, Palma\, Illes Balears\, 07121\, España
CATEGORIES:Formaciones y seminarios
END:VEVENT
BEGIN:VEVENT
DTSTART;TZID=Europe/Madrid:20230323T090000
DTEND;TZID=Europe/Madrid:20230323T130000
DTSTAMP:20260421T023454
CREATED:20230224T144743Z
LAST-MODIFIED:20230309T134232Z
UID:10000037-1679562000-1679576400@clusterteib.es
SUMMARY:Abriendo al tránsito circular - Fundació Impulsa Balears
DESCRIPTION:Presentación de l’informe ‘Transitioning towards a circular tourism system in the Balearic Islands. Baseline assessment’. \nElaborado por CIRCE Economy y organizado por la Fundació Impulsa Balears. \nInscríbete en: https://impulsabalears.org/es/actividades
URL:https://clusterteib.es/evento/abriendo-al-transito-circular/
LOCATION:Autori del ParcBIT\, Centre Empresarial\, Palma\, Illes Balears\, España
CATEGORIES:Eventos presenciales
ORGANIZER;CN="Impulsa Balears":MAILTO:info@impulsabalears.orh
END:VEVENT
BEGIN:VEVENT
DTSTART;TZID=Europe/Madrid:20230323T193000
DTEND;TZID=Europe/Madrid:20230323T213000
DTSTAMP:20260421T023454
CREATED:20230308T145848Z
LAST-MODIFIED:20230308T145848Z
UID:10000041-1679599800-1679607000@clusterteib.es
SUMMARY:José María Zabala: "Las Estrategias de CTI y el desarrollo Regional" - Cercle d'Economia
DESCRIPTION:El Cercle d’Economia de Mallorca\, en colaboración con la UNED organizan la ponencia del Sr. José María Zabala\, fundador y director general de Zabala Innovation Consulting\, es uno de los nombres referentes en materia de innovación en España. \nConferencia abierta y cena-coloquio el jueves 23 de marzo a las 19.30h en el Hotel GPRO Valparaíso. \nMás información y registro en: https://cerclemallorca.es/evento/jose-maria-zabala/ \n 
URL:https://clusterteib.es/evento/jose-maria-zabala-las-estrategias-de-cti-y-el-desarrollo-regional-cercle-deconomia/
LOCATION:Hotel valparaiso\, C/ de Francesc Vidal i Sureda\, 23\, Palma\, Illes Balears\, 0715\, España
CATEGORIES:Eventos presenciales
END:VEVENT
BEGIN:VEVENT
DTSTART;TZID=Europe/Madrid:20230324T120000
DTEND;TZID=Europe/Madrid:20230324T130000
DTSTAMP:20260421T023454
CREATED:20230303T094950Z
LAST-MODIFIED:20230316T103724Z
UID:10000038-1679659200-1679662800@clusterteib.es
SUMMARY:Reunión GT innovación: resultados del árbol tecnológico
DESCRIPTION:
URL:https://clusterteib.es/evento/reunion-gt-innovacion-resultados-del-arbol-tecnologico/
LOCATION:València
CATEGORIES:Reunión grupo de trabajo
ORGANIZER;CN="Cl%C3%BAster de Transici%C3%B3n Ecol%C3%B3gica de las Illes Balears":MAILTO:info@clusterteib.com
END:VEVENT
BEGIN:VEVENT
DTSTART;VALUE=DATE:20230328
DTEND;VALUE=DATE:20230330
DTSTAMP:20260421T023454
CREATED:20231205T174316Z
LAST-MODIFIED:20231205T174316Z
UID:10000091-1679965200-1680051599@clusterteib.es
SUMMARY:Festivo autonómico
DESCRIPTION:
URL:https://clusterteib.es/evento/festivo-autonomico/
LOCATION:València
END:VEVENT
BEGIN:VEVENT
DTSTART;TZID=Europe/Madrid:20230331T163000
DTEND;TZID=Europe/Madrid:20230331T174500
DTSTAMP:20260421T023454
CREATED:20230331T082345Z
LAST-MODIFIED:20230331T082651Z
UID:10000045-1680280200-1680284700@clusterteib.es
SUMMARY:Ajuts per a ZBE i vehicles llançadora
DESCRIPTION:Jornades informatives sobre els ajuts que el Govern de les Illes Balears posa a l’abast d’institucions per tal de potenciar les Zones de Baixes Emissions així com l’impuls de vehicles llançadora. \nConfirmar assitència a gabinet@sgtep.caib.es
URL:https://clusterteib.es/evento/ajuts-per-a-zbe-i-vehicles-llancadora/
LOCATION:Consellería de Transició Energètica\, Sectors Productius i Memòria Democràtica\, Plaça de Son Castelló\, 1\, Palma\, Illes Balears\, España
CATEGORIES:Eventos presenciales
END:VEVENT
END:VCALENDAR