BEGIN:VCALENDAR
VERSION:2.0
PRODID:-//Clúster TEIB - ECPv6.15.15//NONSGML v1.0//EN
CALSCALE:GREGORIAN
METHOD:PUBLISH
X-WR-CALNAME:Clúster TEIB
X-ORIGINAL-URL:https://clusterteib.es
X-WR-CALDESC:Eventos para Clúster TEIB
REFRESH-INTERVAL;VALUE=DURATION:PT1H
X-Robots-Tag:noindex
X-PUBLISHED-TTL:PT1H
BEGIN:VTIMEZONE
TZID:Europe/Madrid
BEGIN:DAYLIGHT
TZOFFSETFROM:+0100
TZOFFSETTO:+0200
TZNAME:CEST
DTSTART:20220327T010000
END:DAYLIGHT
BEGIN:STANDARD
TZOFFSETFROM:+0200
TZOFFSETTO:+0100
TZNAME:CET
DTSTART:20221030T010000
END:STANDARD
BEGIN:DAYLIGHT
TZOFFSETFROM:+0100
TZOFFSETTO:+0200
TZNAME:CEST
DTSTART:20230326T010000
END:DAYLIGHT
BEGIN:STANDARD
TZOFFSETFROM:+0200
TZOFFSETTO:+0100
TZNAME:CET
DTSTART:20231029T010000
END:STANDARD
BEGIN:DAYLIGHT
TZOFFSETFROM:+0100
TZOFFSETTO:+0200
TZNAME:CEST
DTSTART:20240331T010000
END:DAYLIGHT
BEGIN:STANDARD
TZOFFSETFROM:+0200
TZOFFSETTO:+0100
TZNAME:CET
DTSTART:20241027T010000
END:STANDARD
END:VTIMEZONE
BEGIN:VEVENT
DTSTART;TZID=Europe/Madrid:20230208T090000
DTEND;TZID=Europe/Madrid:20230208T140000
DTSTAMP:20260421T041932
CREATED:20230206T153329Z
LAST-MODIFIED:20230206T153427Z
UID:10000034-1675846800-1675864800@clusterteib.es
SUMMARY:II FÒRUM AIGUA I TURISME
DESCRIPTION:Buenas prácticas y gestión sostenible del agua. \nConsulta el programa en el siguiente enlace.
URL:https://clusterteib.es/evento/ii-forum-aigua-i-turisme/
LOCATION:Autori del ParcBIT\, Centre Empresarial\, Palma\, Illes Balears\, España
CATEGORIES:Eventos presenciales
END:VEVENT
BEGIN:VEVENT
DTSTART;TZID=Europe/Madrid:20230210T130000
DTEND;TZID=Europe/Madrid:20230210T140000
DTSTAMP:20260421T041932
CREATED:20230103T090959Z
LAST-MODIFIED:20230202T105631Z
UID:10000004-1676034000-1676037600@clusterteib.es
SUMMARY:Reunión GT innovación
DESCRIPTION:Primera reunión del grupo de trabajo de innovación que pretende establecer la hoja de ruta del grupo que permita alcanzar los objetivos de la asociación. \nEste grupo de trabajo tiene los siguientes objetivos: \n\n\n\nDefinición de proyectos y áreas de trabajo prioritarias en el marco del Clúster TEIB.\n\nProponer la creación\, si procede\, de aquellos grupos de trabajo específicos para un área estratégica que se consideren prioritarios y tractores. A modo de ejemplo\,   el grupo de innovación podría proponer un: creación del grupo de trabajo de   “almacenamiento energético”\, GT de “economía circular en la industria   energética”\, GT de “gestión de lademanda”\, etc.\n\n\nDifusión de información de convocatorias de ayuda\, concursos\, subvenciones de proyectos innovadores o de interés para los participantes del grupo.
URL:https://clusterteib.es/evento/networking-junta-directiva/
LOCATION:EMAYA Oficinas\, C/ Joan Maragall\, 3\, Palma\, Illes Balears\, 07006\, España
CATEGORIES:Reunión grupo de trabajo
ORGANIZER;CN="Cl%C3%BAster de Transici%C3%B3n Ecol%C3%B3gica de las Illes Balears":MAILTO:info@clusterteib.com
END:VEVENT
BEGIN:VEVENT
DTSTART;TZID=Europe/Madrid:20230216T093000
DTEND;TZID=Europe/Madrid:20230217T123000
DTSTAMP:20260421T041932
CREATED:20230215T082413Z
LAST-MODIFIED:20230215T082413Z
UID:10000035-1676539800-1676637000@clusterteib.es
SUMMARY:Jornades: Transitar cap a la sostenibilitat? CESIB
DESCRIPTION:Jornades organitzades per la comissió de treball de seguiment de l’horitzó 2030 (H2030) del CES Illes Balears.  \nEls debats s’articularan al voltant de tres grans temàtiques:  \n\nDijous 16 de febrer\, de 9.30 a 14: La descarbonització de l’economia i els reptes per al 2050 \nDijous 16 de febrer\, de 16.00 a 19.00: La capacitat de càrrega i fet insular \nDivendres 17 de febrer\, de 10 a 13: El pla estratègic de destinació circular. \n\n\nUbicació: Cambra de Comerç (C/ Estudi General\, 7\, Palma)  \nPrograma: https://www.caib.es/sites/ces/f/413163
URL:https://clusterteib.es/evento/jornades-transitar-cap-a-la-sostenibilitat-cesib/
LOCATION:Cambra de Comerç de Mallorca\, Carrer de l'Estudi General\, 7\, Palma\, Illes Balears\, 07001\, España
CATEGORIES:Eventos presenciales
END:VEVENT
BEGIN:VEVENT
DTSTART;TZID=Europe/Madrid:20230217T170000
DTEND;TZID=Europe/Madrid:20230217T170000
DTSTAMP:20260421T041932
CREATED:20230103T091141Z
LAST-MODIFIED:20230217T104727Z
UID:10000006-1676653200-1676653200@clusterteib.es
SUMMARY:Informes y otros entregables: Priorizacion de proyectos
DESCRIPTION:
URL:https://clusterteib.es/evento/informes-y-otros-entregables-proyectos/
LOCATION:València
CATEGORIES:Informes y entregables
END:VEVENT
BEGIN:VEVENT
DTSTART;VALUE=DATE:20230220
DTEND;VALUE=DATE:20230225
DTSTAMP:20260421T041932
CREATED:20230201T180519Z
LAST-MODIFIED:20230201T212500Z
UID:10000032-1676854800-1677200399@clusterteib.es
SUMMARY:SPIREC 2023
DESCRIPTION:IREC es la Conferencia Internacional de Energías Renovables\, coorganizada por un gobierno nacional y REN21.\nCon la denominación de SPIREC 2023\, España celebra la IREC 2023 del 20 al 23 de febrero en Madrid\, en concreto en el RECINTO FERIAL DE IFEMA MADRID en el marco de GENERA.
URL:https://clusterteib.es/evento/spirec-2023/
LOCATION:IFEMA Madrid\, Av. del Partenón\, 5\, 28042 Madrid\, Madrid
CATEGORIES:Eventos presenciales
END:VEVENT
BEGIN:VEVENT
DTSTART;TZID=Europe/Madrid:20230223T090000
DTEND;TZID=Europe/Madrid:20230223T110000
DTSTAMP:20260421T041932
CREATED:20230103T091111Z
LAST-MODIFIED:20230217T101258Z
UID:10000005-1677142800-1677150000@clusterteib.es
SUMMARY:Reunión grupo de trabajo Relaciones Institucionales
DESCRIPTION:Valoración de la figura del agregador independiente cuya finalidad es gestionar la demanda de varios consumidores o generadores de electricidad para su venta o compra en los distintos mercados de electricidad. Hasta ahora el equilibrio entre oferta y demanda se ha realizado principalmente a través de la generación\, la cual se adapta a la demanda de cada momento. Con los agregadores de demanda\, el equilibro entre oferta y demanda también se podrá conseguir desde el lado de la demanda\, ya sea porque se deje de consumir o porque se aporte energía almacenada a través de sistemas de almacenamiento o de producción de hidrógeno verde. \n  \n 
URL:https://clusterteib.es/evento/reuniones-grupos-de-trabajo-2/
LOCATION:València
CATEGORIES:Reunión grupo de trabajo
END:VEVENT
BEGIN:VEVENT
DTSTART;TZID=Europe/Madrid:20230227T114000
DTEND;TZID=Europe/Madrid:20230227T140000
DTSTAMP:20260421T041932
CREATED:20230220T175012Z
LAST-MODIFIED:20230220T175012Z
UID:10000036-1677498000-1677506400@clusterteib.es
SUMMARY:Presentación Programa Factoria d'Innovació DG Innovación CAIB
DESCRIPTION:Factoría de Innovación es un programa promovido por la Dirección General de Innovación\, que cuenta con el apoyo de FI Group\, incluido dentro del Programa Operativo FEDER 2021-2027\, que tiene como objetivo desarrollar actividades de fomento de la innovación en empresas de las Islas Baleares\, que incluyen servicios de consultoría individualizada y formación\, tanto en materia de innovación como de I+D+I. Este programa pretende proporcionar servicios y formación gratuitamente a más de 200 empresas hasta 2008. a la clausura del programa a finales de 2024. \nEsta jornada está orientada a dar visibilidad a las empresas de las diferentes acciones y servicios gratuitos que la Factoría de Innovación les ofrece. Estas acciones irán\, desde formación y servicios de apoyo a la implantación de normas oficiales de certificación en innovación (UNE 166.001\, de Proyectos de I+D+I\, UNE 166.002\, de sistemas de Gestión de la I+D+I\, EA0047 de Pyme Innovadora\, o equivalentes)\, a diagnósticos de innovación y estructuración de planes de actuación en innovación\, y formación específica para la gestión de proyectos de I+D+I. \nSi quieres impulsar la innovación en tu empresa\, esta es tu oportunidad. \nUbicación:\nSalón de actos de la sede de la Conselleria de Transició Energètica\, Sectors Productius i Memòria Democràtica. Plaça de Son Castelló\, 1 (Palma). \nInscripciones (presencial y online) y agenda completa en:\nhttps://es.fi-group.com/agenda/jornada-de-presentacion-factoria-dinnovacio/ \n 
URL:https://clusterteib.es/evento/presentacion-programa-factoria-dinnovacio-dg-innovacion-caib/
LOCATION:Consellería de Transició Energètica\, Sectors Productius i Memòria Democràtica\, Plaça de Son Castelló\, 1\, Palma\, Illes Balears\, España
CATEGORIES:Eventos presenciales
END:VEVENT
END:VCALENDAR